BEGIN:VCALENDAR
VERSION:2.0
PRODID:-//WueWasGeht - ECPv6.11.2.1//NONSGML v1.0//EN
CALSCALE:GREGORIAN
METHOD:PUBLISH
X-ORIGINAL-URL:https://wuewasgeht.com
X-WR-CALDESC:Veranstaltungen für WueWasGeht
REFRESH-INTERVAL;VALUE=DURATION:PT1H
X-Robots-Tag:noindex
X-PUBLISHED-TTL:PT1H
BEGIN:VTIMEZONE
TZID:Europe/Berlin
BEGIN:DAYLIGHT
TZOFFSETFROM:+0100
TZOFFSETTO:+0200
TZNAME:CEST
DTSTART:20260329T010000
END:DAYLIGHT
BEGIN:STANDARD
TZOFFSETFROM:+0200
TZOFFSETTO:+0100
TZNAME:CET
DTSTART:20261025T010000
END:STANDARD
END:VTIMEZONE
BEGIN:VEVENT
DTSTART;TZID=Europe/Berlin:20260203T220000
DTEND;TZID=Europe/Berlin:20260204T050000
DTSTAMP:20260422T200428
CREATED:20231130T093555Z
LAST-MODIFIED:20240130T105652Z
UID:10001958-1770156000-1770181200@wuewasgeht.com
SUMMARY:Studi Dienstag
DESCRIPTION:Studi Dienstag\nBombe\n  \n🔞 Ab 18 \n🎵 Mixed Music \n🍸 Longdrink 5.50€\, Bier 2.50€\, Schnaps 1.50€* \n💶 Free Entry \n  \n*Gilt nur für ausgewählte Spirituosen & Filler\nFoto: Club Bombe Würzburg
URL:https://wuewasgeht.com/events/studi-dienstag-bombe/2026-02-03/
LOCATION:Bombe\, Marienpl. 5\, Würzburg\, 97070\, Deutschland
CATEGORIES:Club Event
ATTACH;FMTTYPE=image/png:https://wuewasgeht.com/wp-content/uploads/2023/07/Bombe_1.png
END:VEVENT
BEGIN:VEVENT
DTSTART;TZID=Europe/Berlin:20260204T230000
DTEND;TZID=Europe/Berlin:20260205T050000
DTSTAMP:20260422T200428
CREATED:20231129T155931Z
LAST-MODIFIED:20240612T165702Z
UID:10004048-1770246000-1770267600@wuewasgeht.com
SUMMARY:Mittwochsdouble
DESCRIPTION:Mittwochsdouble\nOdeon-Lounge\n  \n🔞 Ab 18 \n🎵 Mixed Music \n🍸 Doppeldecker \n💶 Free Entry 23:00 – 00:00\, Free Entry mit tagesaktueller Nushu Rechnung \n  \nV.I.P – Lounge/Tischreservierungen unter: info@odeon-lounge.de oder https://odeon-lounge.de/vip-lounge/
URL:https://wuewasgeht.com/events/mittwochsdouble-odeon-lounge/2026-02-04/
LOCATION:Odeon Lounge\, Augustinerstraße 18\, Würzburg\, 97070\, Deutschland
CATEGORIES:Club Event
END:VEVENT
BEGIN:VEVENT
DTSTART;TZID=Europe/Berlin:20260207T220000
DTEND;TZID=Europe/Berlin:20260208T050000
DTSTAMP:20260422T200428
CREATED:20231130T094233Z
LAST-MODIFIED:20240130T105630Z
UID:10001689-1770501600-1770526800@wuewasgeht.com
SUMMARY:Kellerliebe
DESCRIPTION:Kellerliebe\nBombe\n  \n🔞 Ab 18 \n🎵 Mixed Music \n💶 Free Entry \n  \nFoto: Club Bombe Würzburg
URL:https://wuewasgeht.com/events/kellerliebe-club-bombe/2026-02-07/
LOCATION:Bombe\, Marienpl. 5\, Würzburg\, 97070\, Deutschland
CATEGORIES:Club Event
ATTACH;FMTTYPE=image/png:https://wuewasgeht.com/wp-content/uploads/2023/10/Bombe_Kellerliebe_Samstag.png
END:VEVENT
BEGIN:VEVENT
DTSTART;TZID=Europe/Berlin:20260210T220000
DTEND;TZID=Europe/Berlin:20260211T050000
DTSTAMP:20260422T200428
CREATED:20231130T093555Z
LAST-MODIFIED:20240130T105652Z
UID:10001959-1770760800-1770786000@wuewasgeht.com
SUMMARY:Studi Dienstag
DESCRIPTION:Studi Dienstag\nBombe\n  \n🔞 Ab 18 \n🎵 Mixed Music \n🍸 Longdrink 5.50€\, Bier 2.50€\, Schnaps 1.50€* \n💶 Free Entry \n  \n*Gilt nur für ausgewählte Spirituosen & Filler\nFoto: Club Bombe Würzburg
URL:https://wuewasgeht.com/events/studi-dienstag-bombe/2026-02-10/
LOCATION:Bombe\, Marienpl. 5\, Würzburg\, 97070\, Deutschland
CATEGORIES:Club Event
ATTACH;FMTTYPE=image/png:https://wuewasgeht.com/wp-content/uploads/2023/07/Bombe_1.png
END:VEVENT
BEGIN:VEVENT
DTSTART;TZID=Europe/Berlin:20260211T230000
DTEND;TZID=Europe/Berlin:20260212T050000
DTSTAMP:20260422T200428
CREATED:20231129T155931Z
LAST-MODIFIED:20240612T165702Z
UID:10004049-1770850800-1770872400@wuewasgeht.com
SUMMARY:Mittwochsdouble
DESCRIPTION:Mittwochsdouble\nOdeon-Lounge\n  \n🔞 Ab 18 \n🎵 Mixed Music \n🍸 Doppeldecker \n💶 Free Entry 23:00 – 00:00\, Free Entry mit tagesaktueller Nushu Rechnung \n  \nV.I.P – Lounge/Tischreservierungen unter: info@odeon-lounge.de oder https://odeon-lounge.de/vip-lounge/
URL:https://wuewasgeht.com/events/mittwochsdouble-odeon-lounge/2026-02-11/
LOCATION:Odeon Lounge\, Augustinerstraße 18\, Würzburg\, 97070\, Deutschland
CATEGORIES:Club Event
END:VEVENT
BEGIN:VEVENT
DTSTART;TZID=Europe/Berlin:20260214T220000
DTEND;TZID=Europe/Berlin:20260215T050000
DTSTAMP:20260422T200428
CREATED:20231130T094233Z
LAST-MODIFIED:20240130T105630Z
UID:10001690-1771106400-1771131600@wuewasgeht.com
SUMMARY:Kellerliebe
DESCRIPTION:Kellerliebe\nBombe\n  \n🔞 Ab 18 \n🎵 Mixed Music \n💶 Free Entry \n  \nFoto: Club Bombe Würzburg
URL:https://wuewasgeht.com/events/kellerliebe-club-bombe/2026-02-14/
LOCATION:Bombe\, Marienpl. 5\, Würzburg\, 97070\, Deutschland
CATEGORIES:Club Event
ATTACH;FMTTYPE=image/png:https://wuewasgeht.com/wp-content/uploads/2023/10/Bombe_Kellerliebe_Samstag.png
END:VEVENT
BEGIN:VEVENT
DTSTART;TZID=Europe/Berlin:20260217T220000
DTEND;TZID=Europe/Berlin:20260218T050000
DTSTAMP:20260422T200428
CREATED:20231130T093555Z
LAST-MODIFIED:20240130T105652Z
UID:10001960-1771365600-1771390800@wuewasgeht.com
SUMMARY:Studi Dienstag
DESCRIPTION:Studi Dienstag\nBombe\n  \n🔞 Ab 18 \n🎵 Mixed Music \n🍸 Longdrink 5.50€\, Bier 2.50€\, Schnaps 1.50€* \n💶 Free Entry \n  \n*Gilt nur für ausgewählte Spirituosen & Filler\nFoto: Club Bombe Würzburg
URL:https://wuewasgeht.com/events/studi-dienstag-bombe/2026-02-17/
LOCATION:Bombe\, Marienpl. 5\, Würzburg\, 97070\, Deutschland
CATEGORIES:Club Event
ATTACH;FMTTYPE=image/png:https://wuewasgeht.com/wp-content/uploads/2023/07/Bombe_1.png
END:VEVENT
BEGIN:VEVENT
DTSTART;TZID=Europe/Berlin:20260218T230000
DTEND;TZID=Europe/Berlin:20260219T050000
DTSTAMP:20260422T200428
CREATED:20231129T155931Z
LAST-MODIFIED:20240612T165702Z
UID:10004050-1771455600-1771477200@wuewasgeht.com
SUMMARY:Mittwochsdouble
DESCRIPTION:Mittwochsdouble\nOdeon-Lounge\n  \n🔞 Ab 18 \n🎵 Mixed Music \n🍸 Doppeldecker \n💶 Free Entry 23:00 – 00:00\, Free Entry mit tagesaktueller Nushu Rechnung \n  \nV.I.P – Lounge/Tischreservierungen unter: info@odeon-lounge.de oder https://odeon-lounge.de/vip-lounge/
URL:https://wuewasgeht.com/events/mittwochsdouble-odeon-lounge/2026-02-18/
LOCATION:Odeon Lounge\, Augustinerstraße 18\, Würzburg\, 97070\, Deutschland
CATEGORIES:Club Event
END:VEVENT
BEGIN:VEVENT
DTSTART;TZID=Europe/Berlin:20260221T220000
DTEND;TZID=Europe/Berlin:20260222T050000
DTSTAMP:20260422T200428
CREATED:20231130T094233Z
LAST-MODIFIED:20240130T105630Z
UID:10001691-1771711200-1771736400@wuewasgeht.com
SUMMARY:Kellerliebe
DESCRIPTION:Kellerliebe\nBombe\n  \n🔞 Ab 18 \n🎵 Mixed Music \n💶 Free Entry \n  \nFoto: Club Bombe Würzburg
URL:https://wuewasgeht.com/events/kellerliebe-club-bombe/2026-02-21/
LOCATION:Bombe\, Marienpl. 5\, Würzburg\, 97070\, Deutschland
CATEGORIES:Club Event
ATTACH;FMTTYPE=image/png:https://wuewasgeht.com/wp-content/uploads/2023/10/Bombe_Kellerliebe_Samstag.png
END:VEVENT
BEGIN:VEVENT
DTSTART;TZID=Europe/Berlin:20260224T220000
DTEND;TZID=Europe/Berlin:20260225T050000
DTSTAMP:20260422T200428
CREATED:20231130T093555Z
LAST-MODIFIED:20240130T105652Z
UID:10001961-1771970400-1771995600@wuewasgeht.com
SUMMARY:Studi Dienstag
DESCRIPTION:Studi Dienstag\nBombe\n  \n🔞 Ab 18 \n🎵 Mixed Music \n🍸 Longdrink 5.50€\, Bier 2.50€\, Schnaps 1.50€* \n💶 Free Entry \n  \n*Gilt nur für ausgewählte Spirituosen & Filler\nFoto: Club Bombe Würzburg
URL:https://wuewasgeht.com/events/studi-dienstag-bombe/2026-02-24/
LOCATION:Bombe\, Marienpl. 5\, Würzburg\, 97070\, Deutschland
CATEGORIES:Club Event
ATTACH;FMTTYPE=image/png:https://wuewasgeht.com/wp-content/uploads/2023/07/Bombe_1.png
END:VEVENT
BEGIN:VEVENT
DTSTART;TZID=Europe/Berlin:20260225T230000
DTEND;TZID=Europe/Berlin:20260226T050000
DTSTAMP:20260422T200428
CREATED:20231129T155931Z
LAST-MODIFIED:20240612T165702Z
UID:10004051-1772060400-1772082000@wuewasgeht.com
SUMMARY:Mittwochsdouble
DESCRIPTION:Mittwochsdouble\nOdeon-Lounge\n  \n🔞 Ab 18 \n🎵 Mixed Music \n🍸 Doppeldecker \n💶 Free Entry 23:00 – 00:00\, Free Entry mit tagesaktueller Nushu Rechnung \n  \nV.I.P – Lounge/Tischreservierungen unter: info@odeon-lounge.de oder https://odeon-lounge.de/vip-lounge/
URL:https://wuewasgeht.com/events/mittwochsdouble-odeon-lounge/2026-02-25/
LOCATION:Odeon Lounge\, Augustinerstraße 18\, Würzburg\, 97070\, Deutschland
CATEGORIES:Club Event
END:VEVENT
BEGIN:VEVENT
DTSTART;TZID=Europe/Berlin:20260228T220000
DTEND;TZID=Europe/Berlin:20260301T050000
DTSTAMP:20260422T200428
CREATED:20231130T094233Z
LAST-MODIFIED:20240130T105630Z
UID:10001692-1772316000-1772341200@wuewasgeht.com
SUMMARY:Kellerliebe
DESCRIPTION:Kellerliebe\nBombe\n  \n🔞 Ab 18 \n🎵 Mixed Music \n💶 Free Entry \n  \nFoto: Club Bombe Würzburg
URL:https://wuewasgeht.com/events/kellerliebe-club-bombe/2026-02-28/
LOCATION:Bombe\, Marienpl. 5\, Würzburg\, 97070\, Deutschland
CATEGORIES:Club Event
ATTACH;FMTTYPE=image/png:https://wuewasgeht.com/wp-content/uploads/2023/10/Bombe_Kellerliebe_Samstag.png
END:VEVENT
END:VCALENDAR