BEGIN:VCALENDAR
VERSION:2.0
PRODID:-//WueWasGeht - ECPv6.11.2.1//NONSGML v1.0//EN
CALSCALE:GREGORIAN
METHOD:PUBLISH
X-ORIGINAL-URL:https://wuewasgeht.com
X-WR-CALDESC:Veranstaltungen für WueWasGeht
REFRESH-INTERVAL;VALUE=DURATION:PT1H
X-Robots-Tag:noindex
X-PUBLISHED-TTL:PT1H
BEGIN:VTIMEZONE
TZID:Europe/Berlin
BEGIN:DAYLIGHT
TZOFFSETFROM:+0100
TZOFFSETTO:+0200
TZNAME:CEST
DTSTART:20260329T010000
END:DAYLIGHT
BEGIN:STANDARD
TZOFFSETFROM:+0200
TZOFFSETTO:+0100
TZNAME:CET
DTSTART:20261025T010000
END:STANDARD
END:VTIMEZONE
BEGIN:VEVENT
DTSTART;TZID=Europe/Berlin:20261003T220000
DTEND;TZID=Europe/Berlin:20261004T050000
DTSTAMP:20260423T020906
CREATED:20231130T094233Z
LAST-MODIFIED:20240130T105630Z
UID:10001723-1791064800-1791090000@wuewasgeht.com
SUMMARY:Kellerliebe
DESCRIPTION:Kellerliebe\nBombe\n  \n🔞 Ab 18 \n🎵 Mixed Music \n💶 Free Entry \n  \nFoto: Club Bombe Würzburg
URL:https://wuewasgeht.com/events/kellerliebe-club-bombe/2026-10-03/
LOCATION:Bombe\, Marienpl. 5\, Würzburg\, 97070\, Deutschland
CATEGORIES:Club Event
ATTACH;FMTTYPE=image/png:https://wuewasgeht.com/wp-content/uploads/2023/10/Bombe_Kellerliebe_Samstag.png
END:VEVENT
BEGIN:VEVENT
DTSTART;TZID=Europe/Berlin:20261006T220000
DTEND;TZID=Europe/Berlin:20261007T050000
DTSTAMP:20260423T020906
CREATED:20231130T093555Z
LAST-MODIFIED:20240130T105652Z
UID:10001993-1791324000-1791349200@wuewasgeht.com
SUMMARY:Studi Dienstag
DESCRIPTION:Studi Dienstag\nBombe\n  \n🔞 Ab 18 \n🎵 Mixed Music \n🍸 Longdrink 5.50€\, Bier 2.50€\, Schnaps 1.50€* \n💶 Free Entry \n  \n*Gilt nur für ausgewählte Spirituosen & Filler\nFoto: Club Bombe Würzburg
URL:https://wuewasgeht.com/events/studi-dienstag-bombe/2026-10-06/
LOCATION:Bombe\, Marienpl. 5\, Würzburg\, 97070\, Deutschland
CATEGORIES:Club Event
ATTACH;FMTTYPE=image/png:https://wuewasgeht.com/wp-content/uploads/2023/07/Bombe_1.png
END:VEVENT
BEGIN:VEVENT
DTSTART;TZID=Europe/Berlin:20261007T230000
DTEND;TZID=Europe/Berlin:20261008T050000
DTSTAMP:20260423T020906
CREATED:20231129T155931Z
LAST-MODIFIED:20240612T165702Z
UID:10004083-1791414000-1791435600@wuewasgeht.com
SUMMARY:Mittwochsdouble
DESCRIPTION:Mittwochsdouble\nOdeon-Lounge\n  \n🔞 Ab 18 \n🎵 Mixed Music \n🍸 Doppeldecker \n💶 Free Entry 23:00 – 00:00\, Free Entry mit tagesaktueller Nushu Rechnung \n  \nV.I.P – Lounge/Tischreservierungen unter: info@odeon-lounge.de oder https://odeon-lounge.de/vip-lounge/
URL:https://wuewasgeht.com/events/mittwochsdouble-odeon-lounge/2026-10-07/
LOCATION:Odeon Lounge\, Augustinerstraße 18\, Würzburg\, 97070\, Deutschland
CATEGORIES:Club Event
END:VEVENT
BEGIN:VEVENT
DTSTART;TZID=Europe/Berlin:20261010T220000
DTEND;TZID=Europe/Berlin:20261011T050000
DTSTAMP:20260423T020906
CREATED:20231130T094233Z
LAST-MODIFIED:20240130T105630Z
UID:10001724-1791669600-1791694800@wuewasgeht.com
SUMMARY:Kellerliebe
DESCRIPTION:Kellerliebe\nBombe\n  \n🔞 Ab 18 \n🎵 Mixed Music \n💶 Free Entry \n  \nFoto: Club Bombe Würzburg
URL:https://wuewasgeht.com/events/kellerliebe-club-bombe/2026-10-10/
LOCATION:Bombe\, Marienpl. 5\, Würzburg\, 97070\, Deutschland
CATEGORIES:Club Event
ATTACH;FMTTYPE=image/png:https://wuewasgeht.com/wp-content/uploads/2023/10/Bombe_Kellerliebe_Samstag.png
END:VEVENT
BEGIN:VEVENT
DTSTART;TZID=Europe/Berlin:20261013T220000
DTEND;TZID=Europe/Berlin:20261014T050000
DTSTAMP:20260423T020906
CREATED:20231130T093555Z
LAST-MODIFIED:20240130T105652Z
UID:10001994-1791928800-1791954000@wuewasgeht.com
SUMMARY:Studi Dienstag
DESCRIPTION:Studi Dienstag\nBombe\n  \n🔞 Ab 18 \n🎵 Mixed Music \n🍸 Longdrink 5.50€\, Bier 2.50€\, Schnaps 1.50€* \n💶 Free Entry \n  \n*Gilt nur für ausgewählte Spirituosen & Filler\nFoto: Club Bombe Würzburg
URL:https://wuewasgeht.com/events/studi-dienstag-bombe/2026-10-13/
LOCATION:Bombe\, Marienpl. 5\, Würzburg\, 97070\, Deutschland
CATEGORIES:Club Event
ATTACH;FMTTYPE=image/png:https://wuewasgeht.com/wp-content/uploads/2023/07/Bombe_1.png
END:VEVENT
BEGIN:VEVENT
DTSTART;TZID=Europe/Berlin:20261014T230000
DTEND;TZID=Europe/Berlin:20261015T050000
DTSTAMP:20260423T020906
CREATED:20231129T155931Z
LAST-MODIFIED:20240612T165702Z
UID:10004084-1792018800-1792040400@wuewasgeht.com
SUMMARY:Mittwochsdouble
DESCRIPTION:Mittwochsdouble\nOdeon-Lounge\n  \n🔞 Ab 18 \n🎵 Mixed Music \n🍸 Doppeldecker \n💶 Free Entry 23:00 – 00:00\, Free Entry mit tagesaktueller Nushu Rechnung \n  \nV.I.P – Lounge/Tischreservierungen unter: info@odeon-lounge.de oder https://odeon-lounge.de/vip-lounge/
URL:https://wuewasgeht.com/events/mittwochsdouble-odeon-lounge/2026-10-14/
LOCATION:Odeon Lounge\, Augustinerstraße 18\, Würzburg\, 97070\, Deutschland
CATEGORIES:Club Event
END:VEVENT
BEGIN:VEVENT
DTSTART;TZID=Europe/Berlin:20261017T220000
DTEND;TZID=Europe/Berlin:20261018T050000
DTSTAMP:20260423T020906
CREATED:20231130T094233Z
LAST-MODIFIED:20240130T105630Z
UID:10001725-1792274400-1792299600@wuewasgeht.com
SUMMARY:Kellerliebe
DESCRIPTION:Kellerliebe\nBombe\n  \n🔞 Ab 18 \n🎵 Mixed Music \n💶 Free Entry \n  \nFoto: Club Bombe Würzburg
URL:https://wuewasgeht.com/events/kellerliebe-club-bombe/2026-10-17/
LOCATION:Bombe\, Marienpl. 5\, Würzburg\, 97070\, Deutschland
CATEGORIES:Club Event
ATTACH;FMTTYPE=image/png:https://wuewasgeht.com/wp-content/uploads/2023/10/Bombe_Kellerliebe_Samstag.png
END:VEVENT
BEGIN:VEVENT
DTSTART;TZID=Europe/Berlin:20261020T220000
DTEND;TZID=Europe/Berlin:20261021T050000
DTSTAMP:20260423T020906
CREATED:20231130T093555Z
LAST-MODIFIED:20240130T105652Z
UID:10001995-1792533600-1792558800@wuewasgeht.com
SUMMARY:Studi Dienstag
DESCRIPTION:Studi Dienstag\nBombe\n  \n🔞 Ab 18 \n🎵 Mixed Music \n🍸 Longdrink 5.50€\, Bier 2.50€\, Schnaps 1.50€* \n💶 Free Entry \n  \n*Gilt nur für ausgewählte Spirituosen & Filler\nFoto: Club Bombe Würzburg
URL:https://wuewasgeht.com/events/studi-dienstag-bombe/2026-10-20/
LOCATION:Bombe\, Marienpl. 5\, Würzburg\, 97070\, Deutschland
CATEGORIES:Club Event
ATTACH;FMTTYPE=image/png:https://wuewasgeht.com/wp-content/uploads/2023/07/Bombe_1.png
END:VEVENT
BEGIN:VEVENT
DTSTART;TZID=Europe/Berlin:20261021T230000
DTEND;TZID=Europe/Berlin:20261022T050000
DTSTAMP:20260423T020906
CREATED:20231129T155931Z
LAST-MODIFIED:20240612T165702Z
UID:10004085-1792623600-1792645200@wuewasgeht.com
SUMMARY:Mittwochsdouble
DESCRIPTION:Mittwochsdouble\nOdeon-Lounge\n  \n🔞 Ab 18 \n🎵 Mixed Music \n🍸 Doppeldecker \n💶 Free Entry 23:00 – 00:00\, Free Entry mit tagesaktueller Nushu Rechnung \n  \nV.I.P – Lounge/Tischreservierungen unter: info@odeon-lounge.de oder https://odeon-lounge.de/vip-lounge/
URL:https://wuewasgeht.com/events/mittwochsdouble-odeon-lounge/2026-10-21/
LOCATION:Odeon Lounge\, Augustinerstraße 18\, Würzburg\, 97070\, Deutschland
CATEGORIES:Club Event
END:VEVENT
BEGIN:VEVENT
DTSTART;TZID=Europe/Berlin:20261024T220000
DTEND;TZID=Europe/Berlin:20261025T040000
DTSTAMP:20260423T020906
CREATED:20231130T094233Z
LAST-MODIFIED:20240130T105630Z
UID:10001726-1792879200-1792900800@wuewasgeht.com
SUMMARY:Kellerliebe
DESCRIPTION:Kellerliebe\nBombe\n  \n🔞 Ab 18 \n🎵 Mixed Music \n💶 Free Entry \n  \nFoto: Club Bombe Würzburg
URL:https://wuewasgeht.com/events/kellerliebe-club-bombe/2026-10-24/
LOCATION:Bombe\, Marienpl. 5\, Würzburg\, 97070\, Deutschland
CATEGORIES:Club Event
ATTACH;FMTTYPE=image/png:https://wuewasgeht.com/wp-content/uploads/2023/10/Bombe_Kellerliebe_Samstag.png
END:VEVENT
BEGIN:VEVENT
DTSTART;TZID=Europe/Berlin:20261027T220000
DTEND;TZID=Europe/Berlin:20261028T050000
DTSTAMP:20260423T020906
CREATED:20231130T093555Z
LAST-MODIFIED:20240130T105652Z
UID:10001996-1793138400-1793163600@wuewasgeht.com
SUMMARY:Studi Dienstag
DESCRIPTION:Studi Dienstag\nBombe\n  \n🔞 Ab 18 \n🎵 Mixed Music \n🍸 Longdrink 5.50€\, Bier 2.50€\, Schnaps 1.50€* \n💶 Free Entry \n  \n*Gilt nur für ausgewählte Spirituosen & Filler\nFoto: Club Bombe Würzburg
URL:https://wuewasgeht.com/events/studi-dienstag-bombe/2026-10-27/
LOCATION:Bombe\, Marienpl. 5\, Würzburg\, 97070\, Deutschland
CATEGORIES:Club Event
ATTACH;FMTTYPE=image/png:https://wuewasgeht.com/wp-content/uploads/2023/07/Bombe_1.png
END:VEVENT
BEGIN:VEVENT
DTSTART;TZID=Europe/Berlin:20261028T230000
DTEND;TZID=Europe/Berlin:20261029T050000
DTSTAMP:20260423T020906
CREATED:20231129T155931Z
LAST-MODIFIED:20240612T165702Z
UID:10004086-1793228400-1793250000@wuewasgeht.com
SUMMARY:Mittwochsdouble
DESCRIPTION:Mittwochsdouble\nOdeon-Lounge\n  \n🔞 Ab 18 \n🎵 Mixed Music \n🍸 Doppeldecker \n💶 Free Entry 23:00 – 00:00\, Free Entry mit tagesaktueller Nushu Rechnung \n  \nV.I.P – Lounge/Tischreservierungen unter: info@odeon-lounge.de oder https://odeon-lounge.de/vip-lounge/
URL:https://wuewasgeht.com/events/mittwochsdouble-odeon-lounge/2026-10-28/
LOCATION:Odeon Lounge\, Augustinerstraße 18\, Würzburg\, 97070\, Deutschland
CATEGORIES:Club Event
END:VEVENT
BEGIN:VEVENT
DTSTART;TZID=Europe/Berlin:20261031T220000
DTEND;TZID=Europe/Berlin:20261101T050000
DTSTAMP:20260423T020906
CREATED:20231130T094233Z
LAST-MODIFIED:20240130T105630Z
UID:10001727-1793484000-1793509200@wuewasgeht.com
SUMMARY:Kellerliebe
DESCRIPTION:Kellerliebe\nBombe\n  \n🔞 Ab 18 \n🎵 Mixed Music \n💶 Free Entry \n  \nFoto: Club Bombe Würzburg
URL:https://wuewasgeht.com/events/kellerliebe-club-bombe/2026-10-31/
LOCATION:Bombe\, Marienpl. 5\, Würzburg\, 97070\, Deutschland
CATEGORIES:Club Event
ATTACH;FMTTYPE=image/png:https://wuewasgeht.com/wp-content/uploads/2023/10/Bombe_Kellerliebe_Samstag.png
END:VEVENT
END:VCALENDAR