BEGIN:VCALENDAR
VERSION:2.0
PRODID:-//WueWasGeht - ECPv6.11.2.1//NONSGML v1.0//EN
CALSCALE:GREGORIAN
METHOD:PUBLISH
X-WR-CALNAME:WueWasGeht
X-ORIGINAL-URL:https://wuewasgeht.com
X-WR-CALDESC:Veranstaltungen für WueWasGeht
REFRESH-INTERVAL;VALUE=DURATION:PT1H
X-Robots-Tag:noindex
X-PUBLISHED-TTL:PT1H
BEGIN:VTIMEZONE
TZID:Europe/Berlin
BEGIN:DAYLIGHT
TZOFFSETFROM:+0100
TZOFFSETTO:+0200
TZNAME:CEST
DTSTART:20270328T010000
END:DAYLIGHT
BEGIN:STANDARD
TZOFFSETFROM:+0200
TZOFFSETTO:+0100
TZNAME:CET
DTSTART:20271031T010000
END:STANDARD
END:VTIMEZONE
BEGIN:VEVENT
DTSTART;TZID=Europe/Berlin:20270302T220000
DTEND;TZID=Europe/Berlin:20270303T050000
DTSTAMP:20260423T095401
CREATED:20231130T093555Z
LAST-MODIFIED:20240130T105652Z
UID:10002014-1804024800-1804050000@wuewasgeht.com
SUMMARY:Studi Dienstag
DESCRIPTION:Studi Dienstag\nBombe\n  \n🔞 Ab 18 \n🎵 Mixed Music \n🍸 Longdrink 5.50€\, Bier 2.50€\, Schnaps 1.50€* \n💶 Free Entry \n  \n*Gilt nur für ausgewählte Spirituosen & Filler\nFoto: Club Bombe Würzburg
URL:https://wuewasgeht.com/events/studi-dienstag-bombe/2027-03-02/
LOCATION:Bombe\, Marienpl. 5\, Würzburg\, 97070\, Deutschland
CATEGORIES:Club Event
ATTACH;FMTTYPE=image/png:https://wuewasgeht.com/wp-content/uploads/2023/07/Bombe_1.png
END:VEVENT
BEGIN:VEVENT
DTSTART;TZID=Europe/Berlin:20270303T230000
DTEND;TZID=Europe/Berlin:20270304T050000
DTSTAMP:20260423T095401
CREATED:20231129T155931Z
LAST-MODIFIED:20240612T165702Z
UID:10004104-1804114800-1804136400@wuewasgeht.com
SUMMARY:Mittwochsdouble
DESCRIPTION:Mittwochsdouble\nOdeon-Lounge\n  \n🔞 Ab 18 \n🎵 Mixed Music \n🍸 Doppeldecker \n💶 Free Entry 23:00 – 00:00\, Free Entry mit tagesaktueller Nushu Rechnung \n  \nV.I.P – Lounge/Tischreservierungen unter: info@odeon-lounge.de oder https://odeon-lounge.de/vip-lounge/
URL:https://wuewasgeht.com/events/mittwochsdouble-odeon-lounge/2027-03-03/
LOCATION:Odeon Lounge\, Augustinerstraße 18\, Würzburg\, 97070\, Deutschland
CATEGORIES:Club Event
END:VEVENT
BEGIN:VEVENT
DTSTART;TZID=Europe/Berlin:20270306T220000
DTEND;TZID=Europe/Berlin:20270307T050000
DTSTAMP:20260423T095401
CREATED:20231130T094233Z
LAST-MODIFIED:20240130T105630Z
UID:10001745-1804370400-1804395600@wuewasgeht.com
SUMMARY:Kellerliebe
DESCRIPTION:Kellerliebe\nBombe\n  \n🔞 Ab 18 \n🎵 Mixed Music \n💶 Free Entry \n  \nFoto: Club Bombe Würzburg
URL:https://wuewasgeht.com/events/kellerliebe-club-bombe/2027-03-06/
LOCATION:Bombe\, Marienpl. 5\, Würzburg\, 97070\, Deutschland
CATEGORIES:Club Event
ATTACH;FMTTYPE=image/png:https://wuewasgeht.com/wp-content/uploads/2023/10/Bombe_Kellerliebe_Samstag.png
END:VEVENT
BEGIN:VEVENT
DTSTART;TZID=Europe/Berlin:20270309T220000
DTEND;TZID=Europe/Berlin:20270310T050000
DTSTAMP:20260423T095401
CREATED:20231130T093555Z
LAST-MODIFIED:20240130T105652Z
UID:10002015-1804629600-1804654800@wuewasgeht.com
SUMMARY:Studi Dienstag
DESCRIPTION:Studi Dienstag\nBombe\n  \n🔞 Ab 18 \n🎵 Mixed Music \n🍸 Longdrink 5.50€\, Bier 2.50€\, Schnaps 1.50€* \n💶 Free Entry \n  \n*Gilt nur für ausgewählte Spirituosen & Filler\nFoto: Club Bombe Würzburg
URL:https://wuewasgeht.com/events/studi-dienstag-bombe/2027-03-09/
LOCATION:Bombe\, Marienpl. 5\, Würzburg\, 97070\, Deutschland
CATEGORIES:Club Event
ATTACH;FMTTYPE=image/png:https://wuewasgeht.com/wp-content/uploads/2023/07/Bombe_1.png
END:VEVENT
BEGIN:VEVENT
DTSTART;TZID=Europe/Berlin:20270310T230000
DTEND;TZID=Europe/Berlin:20270311T050000
DTSTAMP:20260423T095401
CREATED:20231129T155931Z
LAST-MODIFIED:20240612T165702Z
UID:10004105-1804719600-1804741200@wuewasgeht.com
SUMMARY:Mittwochsdouble
DESCRIPTION:Mittwochsdouble\nOdeon-Lounge\n  \n🔞 Ab 18 \n🎵 Mixed Music \n🍸 Doppeldecker \n💶 Free Entry 23:00 – 00:00\, Free Entry mit tagesaktueller Nushu Rechnung \n  \nV.I.P – Lounge/Tischreservierungen unter: info@odeon-lounge.de oder https://odeon-lounge.de/vip-lounge/
URL:https://wuewasgeht.com/events/mittwochsdouble-odeon-lounge/2027-03-10/
LOCATION:Odeon Lounge\, Augustinerstraße 18\, Würzburg\, 97070\, Deutschland
CATEGORIES:Club Event
END:VEVENT
BEGIN:VEVENT
DTSTART;TZID=Europe/Berlin:20270313T220000
DTEND;TZID=Europe/Berlin:20270314T050000
DTSTAMP:20260423T095401
CREATED:20231130T094233Z
LAST-MODIFIED:20240130T105630Z
UID:10001746-1804975200-1805000400@wuewasgeht.com
SUMMARY:Kellerliebe
DESCRIPTION:Kellerliebe\nBombe\n  \n🔞 Ab 18 \n🎵 Mixed Music \n💶 Free Entry \n  \nFoto: Club Bombe Würzburg
URL:https://wuewasgeht.com/events/kellerliebe-club-bombe/2027-03-13/
LOCATION:Bombe\, Marienpl. 5\, Würzburg\, 97070\, Deutschland
CATEGORIES:Club Event
ATTACH;FMTTYPE=image/png:https://wuewasgeht.com/wp-content/uploads/2023/10/Bombe_Kellerliebe_Samstag.png
END:VEVENT
BEGIN:VEVENT
DTSTART;TZID=Europe/Berlin:20270316T220000
DTEND;TZID=Europe/Berlin:20270317T050000
DTSTAMP:20260423T095401
CREATED:20231130T093555Z
LAST-MODIFIED:20240130T105652Z
UID:10002016-1805234400-1805259600@wuewasgeht.com
SUMMARY:Studi Dienstag
DESCRIPTION:Studi Dienstag\nBombe\n  \n🔞 Ab 18 \n🎵 Mixed Music \n🍸 Longdrink 5.50€\, Bier 2.50€\, Schnaps 1.50€* \n💶 Free Entry \n  \n*Gilt nur für ausgewählte Spirituosen & Filler\nFoto: Club Bombe Würzburg
URL:https://wuewasgeht.com/events/studi-dienstag-bombe/2027-03-16/
LOCATION:Bombe\, Marienpl. 5\, Würzburg\, 97070\, Deutschland
CATEGORIES:Club Event
ATTACH;FMTTYPE=image/png:https://wuewasgeht.com/wp-content/uploads/2023/07/Bombe_1.png
END:VEVENT
BEGIN:VEVENT
DTSTART;TZID=Europe/Berlin:20270317T230000
DTEND;TZID=Europe/Berlin:20270318T050000
DTSTAMP:20260423T095401
CREATED:20231129T155931Z
LAST-MODIFIED:20240612T165702Z
UID:10004106-1805324400-1805346000@wuewasgeht.com
SUMMARY:Mittwochsdouble
DESCRIPTION:Mittwochsdouble\nOdeon-Lounge\n  \n🔞 Ab 18 \n🎵 Mixed Music \n🍸 Doppeldecker \n💶 Free Entry 23:00 – 00:00\, Free Entry mit tagesaktueller Nushu Rechnung \n  \nV.I.P – Lounge/Tischreservierungen unter: info@odeon-lounge.de oder https://odeon-lounge.de/vip-lounge/
URL:https://wuewasgeht.com/events/mittwochsdouble-odeon-lounge/2027-03-17/
LOCATION:Odeon Lounge\, Augustinerstraße 18\, Würzburg\, 97070\, Deutschland
CATEGORIES:Club Event
END:VEVENT
BEGIN:VEVENT
DTSTART;TZID=Europe/Berlin:20270320T220000
DTEND;TZID=Europe/Berlin:20270321T050000
DTSTAMP:20260423T095401
CREATED:20231130T094233Z
LAST-MODIFIED:20240130T105630Z
UID:10001747-1805580000-1805605200@wuewasgeht.com
SUMMARY:Kellerliebe
DESCRIPTION:Kellerliebe\nBombe\n  \n🔞 Ab 18 \n🎵 Mixed Music \n💶 Free Entry \n  \nFoto: Club Bombe Würzburg
URL:https://wuewasgeht.com/events/kellerliebe-club-bombe/2027-03-20/
LOCATION:Bombe\, Marienpl. 5\, Würzburg\, 97070\, Deutschland
CATEGORIES:Club Event
ATTACH;FMTTYPE=image/png:https://wuewasgeht.com/wp-content/uploads/2023/10/Bombe_Kellerliebe_Samstag.png
END:VEVENT
BEGIN:VEVENT
DTSTART;TZID=Europe/Berlin:20270323T220000
DTEND;TZID=Europe/Berlin:20270324T050000
DTSTAMP:20260423T095401
CREATED:20231130T093555Z
LAST-MODIFIED:20240130T105652Z
UID:10002017-1805839200-1805864400@wuewasgeht.com
SUMMARY:Studi Dienstag
DESCRIPTION:Studi Dienstag\nBombe\n  \n🔞 Ab 18 \n🎵 Mixed Music \n🍸 Longdrink 5.50€\, Bier 2.50€\, Schnaps 1.50€* \n💶 Free Entry \n  \n*Gilt nur für ausgewählte Spirituosen & Filler\nFoto: Club Bombe Würzburg
URL:https://wuewasgeht.com/events/studi-dienstag-bombe/2027-03-23/
LOCATION:Bombe\, Marienpl. 5\, Würzburg\, 97070\, Deutschland
CATEGORIES:Club Event
ATTACH;FMTTYPE=image/png:https://wuewasgeht.com/wp-content/uploads/2023/07/Bombe_1.png
END:VEVENT
BEGIN:VEVENT
DTSTART;TZID=Europe/Berlin:20270324T230000
DTEND;TZID=Europe/Berlin:20270325T050000
DTSTAMP:20260423T095401
CREATED:20231129T155931Z
LAST-MODIFIED:20240612T165702Z
UID:10004107-1805929200-1805950800@wuewasgeht.com
SUMMARY:Mittwochsdouble
DESCRIPTION:Mittwochsdouble\nOdeon-Lounge\n  \n🔞 Ab 18 \n🎵 Mixed Music \n🍸 Doppeldecker \n💶 Free Entry 23:00 – 00:00\, Free Entry mit tagesaktueller Nushu Rechnung \n  \nV.I.P – Lounge/Tischreservierungen unter: info@odeon-lounge.de oder https://odeon-lounge.de/vip-lounge/
URL:https://wuewasgeht.com/events/mittwochsdouble-odeon-lounge/2027-03-24/
LOCATION:Odeon Lounge\, Augustinerstraße 18\, Würzburg\, 97070\, Deutschland
CATEGORIES:Club Event
END:VEVENT
BEGIN:VEVENT
DTSTART;TZID=Europe/Berlin:20270327T220000
DTEND;TZID=Europe/Berlin:20270328T050000
DTSTAMP:20260423T095401
CREATED:20231130T094233Z
LAST-MODIFIED:20240130T105630Z
UID:10001748-1806184800-1806210000@wuewasgeht.com
SUMMARY:Kellerliebe
DESCRIPTION:Kellerliebe\nBombe\n  \n🔞 Ab 18 \n🎵 Mixed Music \n💶 Free Entry \n  \nFoto: Club Bombe Würzburg
URL:https://wuewasgeht.com/events/kellerliebe-club-bombe/2027-03-27/
LOCATION:Bombe\, Marienpl. 5\, Würzburg\, 97070\, Deutschland
CATEGORIES:Club Event
ATTACH;FMTTYPE=image/png:https://wuewasgeht.com/wp-content/uploads/2023/10/Bombe_Kellerliebe_Samstag.png
END:VEVENT
BEGIN:VEVENT
DTSTART;TZID=Europe/Berlin:20270330T220000
DTEND;TZID=Europe/Berlin:20270331T050000
DTSTAMP:20260423T095401
CREATED:20231130T093555Z
LAST-MODIFIED:20240130T105652Z
UID:10002018-1806444000-1806469200@wuewasgeht.com
SUMMARY:Studi Dienstag
DESCRIPTION:Studi Dienstag\nBombe\n  \n🔞 Ab 18 \n🎵 Mixed Music \n🍸 Longdrink 5.50€\, Bier 2.50€\, Schnaps 1.50€* \n💶 Free Entry \n  \n*Gilt nur für ausgewählte Spirituosen & Filler\nFoto: Club Bombe Würzburg
URL:https://wuewasgeht.com/events/studi-dienstag-bombe/2027-03-30/
LOCATION:Bombe\, Marienpl. 5\, Würzburg\, 97070\, Deutschland
CATEGORIES:Club Event
ATTACH;FMTTYPE=image/png:https://wuewasgeht.com/wp-content/uploads/2023/07/Bombe_1.png
END:VEVENT
BEGIN:VEVENT
DTSTART;TZID=Europe/Berlin:20270331T230000
DTEND;TZID=Europe/Berlin:20270401T050000
DTSTAMP:20260423T095401
CREATED:20231129T155931Z
LAST-MODIFIED:20240612T165702Z
UID:10004108-1806534000-1806555600@wuewasgeht.com
SUMMARY:Mittwochsdouble
DESCRIPTION:Mittwochsdouble\nOdeon-Lounge\n  \n🔞 Ab 18 \n🎵 Mixed Music \n🍸 Doppeldecker \n💶 Free Entry 23:00 – 00:00\, Free Entry mit tagesaktueller Nushu Rechnung \n  \nV.I.P – Lounge/Tischreservierungen unter: info@odeon-lounge.de oder https://odeon-lounge.de/vip-lounge/
URL:https://wuewasgeht.com/events/mittwochsdouble-odeon-lounge/2027-03-31/
LOCATION:Odeon Lounge\, Augustinerstraße 18\, Würzburg\, 97070\, Deutschland
CATEGORIES:Club Event
END:VEVENT
END:VCALENDAR