BEGIN:VCALENDAR
VERSION:2.0
PRODID:-//WueWasGeht - ECPv6.11.2.1//NONSGML v1.0//EN
CALSCALE:GREGORIAN
METHOD:PUBLISH
X-WR-CALNAME:WueWasGeht
X-ORIGINAL-URL:https://wuewasgeht.com
X-WR-CALDESC:Veranstaltungen für WueWasGeht
REFRESH-INTERVAL;VALUE=DURATION:PT1H
X-Robots-Tag:noindex
X-PUBLISHED-TTL:PT1H
BEGIN:VTIMEZONE
TZID:Europe/Berlin
BEGIN:DAYLIGHT
TZOFFSETFROM:+0100
TZOFFSETTO:+0200
TZNAME:CEST
DTSTART:20270328T010000
END:DAYLIGHT
BEGIN:STANDARD
TZOFFSETFROM:+0200
TZOFFSETTO:+0100
TZNAME:CET
DTSTART:20271031T010000
END:STANDARD
END:VTIMEZONE
BEGIN:VEVENT
DTSTART;TZID=Europe/Berlin:20270803T220000
DTEND;TZID=Europe/Berlin:20270804T050000
DTSTAMP:20260420T121923
CREATED:20231130T093555Z
LAST-MODIFIED:20240130T105652Z
UID:10002036-1817330400-1817355600@wuewasgeht.com
SUMMARY:Studi Dienstag
DESCRIPTION:Studi Dienstag\nBombe\n  \n🔞 Ab 18 \n🎵 Mixed Music \n🍸 Longdrink 5.50€\, Bier 2.50€\, Schnaps 1.50€* \n💶 Free Entry \n  \n*Gilt nur für ausgewählte Spirituosen & Filler\nFoto: Club Bombe Würzburg
URL:https://wuewasgeht.com/events/studi-dienstag-bombe/2027-08-03/
LOCATION:Bombe\, Marienpl. 5\, Würzburg\, 97070\, Deutschland
CATEGORIES:Club Event
ATTACH;FMTTYPE=image/png:https://wuewasgeht.com/wp-content/uploads/2023/07/Bombe_1.png
END:VEVENT
BEGIN:VEVENT
DTSTART;TZID=Europe/Berlin:20270804T230000
DTEND;TZID=Europe/Berlin:20270805T050000
DTSTAMP:20260420T121923
CREATED:20231129T155931Z
LAST-MODIFIED:20240612T165702Z
UID:10004126-1817420400-1817442000@wuewasgeht.com
SUMMARY:Mittwochsdouble
DESCRIPTION:Mittwochsdouble\nOdeon-Lounge\n  \n🔞 Ab 18 \n🎵 Mixed Music \n🍸 Doppeldecker \n💶 Free Entry 23:00 – 00:00\, Free Entry mit tagesaktueller Nushu Rechnung \n  \nV.I.P – Lounge/Tischreservierungen unter: info@odeon-lounge.de oder https://odeon-lounge.de/vip-lounge/
URL:https://wuewasgeht.com/events/mittwochsdouble-odeon-lounge/2027-08-04/
LOCATION:Odeon Lounge\, Augustinerstraße 18\, Würzburg\, 97070\, Deutschland
CATEGORIES:Club Event
END:VEVENT
BEGIN:VEVENT
DTSTART;TZID=Europe/Berlin:20270807T220000
DTEND;TZID=Europe/Berlin:20270808T050000
DTSTAMP:20260420T121923
CREATED:20231130T094233Z
LAST-MODIFIED:20240130T105630Z
UID:10001767-1817676000-1817701200@wuewasgeht.com
SUMMARY:Kellerliebe
DESCRIPTION:Kellerliebe\nBombe\n  \n🔞 Ab 18 \n🎵 Mixed Music \n💶 Free Entry \n  \nFoto: Club Bombe Würzburg
URL:https://wuewasgeht.com/events/kellerliebe-club-bombe/2027-08-07/
LOCATION:Bombe\, Marienpl. 5\, Würzburg\, 97070\, Deutschland
CATEGORIES:Club Event
ATTACH;FMTTYPE=image/png:https://wuewasgeht.com/wp-content/uploads/2023/10/Bombe_Kellerliebe_Samstag.png
END:VEVENT
BEGIN:VEVENT
DTSTART;TZID=Europe/Berlin:20270810T220000
DTEND;TZID=Europe/Berlin:20270811T050000
DTSTAMP:20260420T121923
CREATED:20231130T093555Z
LAST-MODIFIED:20240130T105652Z
UID:10002037-1817935200-1817960400@wuewasgeht.com
SUMMARY:Studi Dienstag
DESCRIPTION:Studi Dienstag\nBombe\n  \n🔞 Ab 18 \n🎵 Mixed Music \n🍸 Longdrink 5.50€\, Bier 2.50€\, Schnaps 1.50€* \n💶 Free Entry \n  \n*Gilt nur für ausgewählte Spirituosen & Filler\nFoto: Club Bombe Würzburg
URL:https://wuewasgeht.com/events/studi-dienstag-bombe/2027-08-10/
LOCATION:Bombe\, Marienpl. 5\, Würzburg\, 97070\, Deutschland
CATEGORIES:Club Event
ATTACH;FMTTYPE=image/png:https://wuewasgeht.com/wp-content/uploads/2023/07/Bombe_1.png
END:VEVENT
BEGIN:VEVENT
DTSTART;TZID=Europe/Berlin:20270811T230000
DTEND;TZID=Europe/Berlin:20270812T050000
DTSTAMP:20260420T121923
CREATED:20231129T155931Z
LAST-MODIFIED:20240612T165702Z
UID:10004127-1818025200-1818046800@wuewasgeht.com
SUMMARY:Mittwochsdouble
DESCRIPTION:Mittwochsdouble\nOdeon-Lounge\n  \n🔞 Ab 18 \n🎵 Mixed Music \n🍸 Doppeldecker \n💶 Free Entry 23:00 – 00:00\, Free Entry mit tagesaktueller Nushu Rechnung \n  \nV.I.P – Lounge/Tischreservierungen unter: info@odeon-lounge.de oder https://odeon-lounge.de/vip-lounge/
URL:https://wuewasgeht.com/events/mittwochsdouble-odeon-lounge/2027-08-11/
LOCATION:Odeon Lounge\, Augustinerstraße 18\, Würzburg\, 97070\, Deutschland
CATEGORIES:Club Event
END:VEVENT
BEGIN:VEVENT
DTSTART;TZID=Europe/Berlin:20270814T220000
DTEND;TZID=Europe/Berlin:20270815T050000
DTSTAMP:20260420T121923
CREATED:20231130T094233Z
LAST-MODIFIED:20240130T105630Z
UID:10001768-1818280800-1818306000@wuewasgeht.com
SUMMARY:Kellerliebe
DESCRIPTION:Kellerliebe\nBombe\n  \n🔞 Ab 18 \n🎵 Mixed Music \n💶 Free Entry \n  \nFoto: Club Bombe Würzburg
URL:https://wuewasgeht.com/events/kellerliebe-club-bombe/2027-08-14/
LOCATION:Bombe\, Marienpl. 5\, Würzburg\, 97070\, Deutschland
CATEGORIES:Club Event
ATTACH;FMTTYPE=image/png:https://wuewasgeht.com/wp-content/uploads/2023/10/Bombe_Kellerliebe_Samstag.png
END:VEVENT
BEGIN:VEVENT
DTSTART;TZID=Europe/Berlin:20270817T220000
DTEND;TZID=Europe/Berlin:20270818T050000
DTSTAMP:20260420T121923
CREATED:20231130T093555Z
LAST-MODIFIED:20240130T105652Z
UID:10002038-1818540000-1818565200@wuewasgeht.com
SUMMARY:Studi Dienstag
DESCRIPTION:Studi Dienstag\nBombe\n  \n🔞 Ab 18 \n🎵 Mixed Music \n🍸 Longdrink 5.50€\, Bier 2.50€\, Schnaps 1.50€* \n💶 Free Entry \n  \n*Gilt nur für ausgewählte Spirituosen & Filler\nFoto: Club Bombe Würzburg
URL:https://wuewasgeht.com/events/studi-dienstag-bombe/2027-08-17/
LOCATION:Bombe\, Marienpl. 5\, Würzburg\, 97070\, Deutschland
CATEGORIES:Club Event
ATTACH;FMTTYPE=image/png:https://wuewasgeht.com/wp-content/uploads/2023/07/Bombe_1.png
END:VEVENT
BEGIN:VEVENT
DTSTART;TZID=Europe/Berlin:20270818T230000
DTEND;TZID=Europe/Berlin:20270819T050000
DTSTAMP:20260420T121923
CREATED:20231129T155931Z
LAST-MODIFIED:20240612T165702Z
UID:10004128-1818630000-1818651600@wuewasgeht.com
SUMMARY:Mittwochsdouble
DESCRIPTION:Mittwochsdouble\nOdeon-Lounge\n  \n🔞 Ab 18 \n🎵 Mixed Music \n🍸 Doppeldecker \n💶 Free Entry 23:00 – 00:00\, Free Entry mit tagesaktueller Nushu Rechnung \n  \nV.I.P – Lounge/Tischreservierungen unter: info@odeon-lounge.de oder https://odeon-lounge.de/vip-lounge/
URL:https://wuewasgeht.com/events/mittwochsdouble-odeon-lounge/2027-08-18/
LOCATION:Odeon Lounge\, Augustinerstraße 18\, Würzburg\, 97070\, Deutschland
CATEGORIES:Club Event
END:VEVENT
BEGIN:VEVENT
DTSTART;TZID=Europe/Berlin:20270821T220000
DTEND;TZID=Europe/Berlin:20270822T050000
DTSTAMP:20260420T121923
CREATED:20231130T094233Z
LAST-MODIFIED:20240130T105630Z
UID:10001769-1818885600-1818910800@wuewasgeht.com
SUMMARY:Kellerliebe
DESCRIPTION:Kellerliebe\nBombe\n  \n🔞 Ab 18 \n🎵 Mixed Music \n💶 Free Entry \n  \nFoto: Club Bombe Würzburg
URL:https://wuewasgeht.com/events/kellerliebe-club-bombe/2027-08-21/
LOCATION:Bombe\, Marienpl. 5\, Würzburg\, 97070\, Deutschland
CATEGORIES:Club Event
ATTACH;FMTTYPE=image/png:https://wuewasgeht.com/wp-content/uploads/2023/10/Bombe_Kellerliebe_Samstag.png
END:VEVENT
BEGIN:VEVENT
DTSTART;TZID=Europe/Berlin:20270824T220000
DTEND;TZID=Europe/Berlin:20270825T050000
DTSTAMP:20260420T121923
CREATED:20231130T093555Z
LAST-MODIFIED:20240130T105652Z
UID:10002039-1819144800-1819170000@wuewasgeht.com
SUMMARY:Studi Dienstag
DESCRIPTION:Studi Dienstag\nBombe\n  \n🔞 Ab 18 \n🎵 Mixed Music \n🍸 Longdrink 5.50€\, Bier 2.50€\, Schnaps 1.50€* \n💶 Free Entry \n  \n*Gilt nur für ausgewählte Spirituosen & Filler\nFoto: Club Bombe Würzburg
URL:https://wuewasgeht.com/events/studi-dienstag-bombe/2027-08-24/
LOCATION:Bombe\, Marienpl. 5\, Würzburg\, 97070\, Deutschland
CATEGORIES:Club Event
ATTACH;FMTTYPE=image/png:https://wuewasgeht.com/wp-content/uploads/2023/07/Bombe_1.png
END:VEVENT
BEGIN:VEVENT
DTSTART;TZID=Europe/Berlin:20270825T230000
DTEND;TZID=Europe/Berlin:20270826T050000
DTSTAMP:20260420T121923
CREATED:20231129T155931Z
LAST-MODIFIED:20240612T165702Z
UID:10004129-1819234800-1819256400@wuewasgeht.com
SUMMARY:Mittwochsdouble
DESCRIPTION:Mittwochsdouble\nOdeon-Lounge\n  \n🔞 Ab 18 \n🎵 Mixed Music \n🍸 Doppeldecker \n💶 Free Entry 23:00 – 00:00\, Free Entry mit tagesaktueller Nushu Rechnung \n  \nV.I.P – Lounge/Tischreservierungen unter: info@odeon-lounge.de oder https://odeon-lounge.de/vip-lounge/
URL:https://wuewasgeht.com/events/mittwochsdouble-odeon-lounge/2027-08-25/
LOCATION:Odeon Lounge\, Augustinerstraße 18\, Würzburg\, 97070\, Deutschland
CATEGORIES:Club Event
END:VEVENT
BEGIN:VEVENT
DTSTART;TZID=Europe/Berlin:20270828T220000
DTEND;TZID=Europe/Berlin:20270829T050000
DTSTAMP:20260420T121923
CREATED:20231130T094233Z
LAST-MODIFIED:20240130T105630Z
UID:10001770-1819490400-1819515600@wuewasgeht.com
SUMMARY:Kellerliebe
DESCRIPTION:Kellerliebe\nBombe\n  \n🔞 Ab 18 \n🎵 Mixed Music \n💶 Free Entry \n  \nFoto: Club Bombe Würzburg
URL:https://wuewasgeht.com/events/kellerliebe-club-bombe/2027-08-28/
LOCATION:Bombe\, Marienpl. 5\, Würzburg\, 97070\, Deutschland
CATEGORIES:Club Event
ATTACH;FMTTYPE=image/png:https://wuewasgeht.com/wp-content/uploads/2023/10/Bombe_Kellerliebe_Samstag.png
END:VEVENT
BEGIN:VEVENT
DTSTART;TZID=Europe/Berlin:20270831T220000
DTEND;TZID=Europe/Berlin:20270901T050000
DTSTAMP:20260420T121923
CREATED:20231130T093555Z
LAST-MODIFIED:20240130T105652Z
UID:10002040-1819749600-1819774800@wuewasgeht.com
SUMMARY:Studi Dienstag
DESCRIPTION:Studi Dienstag\nBombe\n  \n🔞 Ab 18 \n🎵 Mixed Music \n🍸 Longdrink 5.50€\, Bier 2.50€\, Schnaps 1.50€* \n💶 Free Entry \n  \n*Gilt nur für ausgewählte Spirituosen & Filler\nFoto: Club Bombe Würzburg
URL:https://wuewasgeht.com/events/studi-dienstag-bombe/2027-08-31/
LOCATION:Bombe\, Marienpl. 5\, Würzburg\, 97070\, Deutschland
CATEGORIES:Club Event
ATTACH;FMTTYPE=image/png:https://wuewasgeht.com/wp-content/uploads/2023/07/Bombe_1.png
END:VEVENT
END:VCALENDAR