BEGIN:VCALENDAR
VERSION:2.0
PRODID:-//WueWasGeht - ECPv6.11.2.1//NONSGML v1.0//EN
CALSCALE:GREGORIAN
METHOD:PUBLISH
X-ORIGINAL-URL:https://wuewasgeht.com
X-WR-CALDESC:Veranstaltungen für WueWasGeht
REFRESH-INTERVAL;VALUE=DURATION:PT1H
X-Robots-Tag:noindex
X-PUBLISHED-TTL:PT1H
BEGIN:VTIMEZONE
TZID:Europe/Berlin
BEGIN:DAYLIGHT
TZOFFSETFROM:+0100
TZOFFSETTO:+0200
TZNAME:CEST
DTSTART:20280326T010000
END:DAYLIGHT
BEGIN:STANDARD
TZOFFSETFROM:+0200
TZOFFSETTO:+0100
TZNAME:CET
DTSTART:20281029T010000
END:STANDARD
END:VTIMEZONE
BEGIN:VEVENT
DTSTART;TZID=Europe/Berlin:20280912T220000
DTEND;TZID=Europe/Berlin:20280913T050000
DTSTAMP:20260422T200542
CREATED:20231130T093555Z
LAST-MODIFIED:20240130T105652Z
UID:10002094-1852408800-1852434000@wuewasgeht.com
SUMMARY:Studi Dienstag
DESCRIPTION:Studi Dienstag\nBombe\n  \n🔞 Ab 18 \n🎵 Mixed Music \n🍸 Longdrink 5.50€\, Bier 2.50€\, Schnaps 1.50€* \n💶 Free Entry \n  \n*Gilt nur für ausgewählte Spirituosen & Filler\nFoto: Club Bombe Würzburg
URL:https://wuewasgeht.com/events/studi-dienstag-bombe/2028-09-12/
LOCATION:Bombe\, Marienpl. 5\, Würzburg\, 97070\, Deutschland
CATEGORIES:Club Event
ATTACH;FMTTYPE=image/png:https://wuewasgeht.com/wp-content/uploads/2023/07/Bombe_1.png
END:VEVENT
BEGIN:VEVENT
DTSTART;TZID=Europe/Berlin:20280913T230000
DTEND;TZID=Europe/Berlin:20280914T050000
DTSTAMP:20260422T200542
CREATED:20231129T155931Z
LAST-MODIFIED:20240612T165702Z
UID:10004184-1852498800-1852520400@wuewasgeht.com
SUMMARY:Mittwochsdouble
DESCRIPTION:Mittwochsdouble\nOdeon-Lounge\n  \n🔞 Ab 18 \n🎵 Mixed Music \n🍸 Doppeldecker \n💶 Free Entry 23:00 – 00:00\, Free Entry mit tagesaktueller Nushu Rechnung \n  \nV.I.P – Lounge/Tischreservierungen unter: info@odeon-lounge.de oder https://odeon-lounge.de/vip-lounge/
URL:https://wuewasgeht.com/events/mittwochsdouble-odeon-lounge/2028-09-13/
LOCATION:Odeon Lounge\, Augustinerstraße 18\, Würzburg\, 97070\, Deutschland
CATEGORIES:Club Event
END:VEVENT
BEGIN:VEVENT
DTSTART;TZID=Europe/Berlin:20280916T220000
DTEND;TZID=Europe/Berlin:20280917T050000
DTSTAMP:20260422T200542
CREATED:20231130T094233Z
LAST-MODIFIED:20240130T105630Z
UID:10001825-1852754400-1852779600@wuewasgeht.com
SUMMARY:Kellerliebe
DESCRIPTION:Kellerliebe\nBombe\n  \n🔞 Ab 18 \n🎵 Mixed Music \n💶 Free Entry \n  \nFoto: Club Bombe Würzburg
URL:https://wuewasgeht.com/events/kellerliebe-club-bombe/2028-09-16/
LOCATION:Bombe\, Marienpl. 5\, Würzburg\, 97070\, Deutschland
CATEGORIES:Club Event
ATTACH;FMTTYPE=image/png:https://wuewasgeht.com/wp-content/uploads/2023/10/Bombe_Kellerliebe_Samstag.png
END:VEVENT
BEGIN:VEVENT
DTSTART;TZID=Europe/Berlin:20280919T220000
DTEND;TZID=Europe/Berlin:20280920T050000
DTSTAMP:20260422T200542
CREATED:20231130T093555Z
LAST-MODIFIED:20240130T105652Z
UID:10002095-1853013600-1853038800@wuewasgeht.com
SUMMARY:Studi Dienstag
DESCRIPTION:Studi Dienstag\nBombe\n  \n🔞 Ab 18 \n🎵 Mixed Music \n🍸 Longdrink 5.50€\, Bier 2.50€\, Schnaps 1.50€* \n💶 Free Entry \n  \n*Gilt nur für ausgewählte Spirituosen & Filler\nFoto: Club Bombe Würzburg
URL:https://wuewasgeht.com/events/studi-dienstag-bombe/2028-09-19/
LOCATION:Bombe\, Marienpl. 5\, Würzburg\, 97070\, Deutschland
CATEGORIES:Club Event
ATTACH;FMTTYPE=image/png:https://wuewasgeht.com/wp-content/uploads/2023/07/Bombe_1.png
END:VEVENT
BEGIN:VEVENT
DTSTART;TZID=Europe/Berlin:20280920T230000
DTEND;TZID=Europe/Berlin:20280921T050000
DTSTAMP:20260422T200542
CREATED:20231129T155931Z
LAST-MODIFIED:20240612T165702Z
UID:10004185-1853103600-1853125200@wuewasgeht.com
SUMMARY:Mittwochsdouble
DESCRIPTION:Mittwochsdouble\nOdeon-Lounge\n  \n🔞 Ab 18 \n🎵 Mixed Music \n🍸 Doppeldecker \n💶 Free Entry 23:00 – 00:00\, Free Entry mit tagesaktueller Nushu Rechnung \n  \nV.I.P – Lounge/Tischreservierungen unter: info@odeon-lounge.de oder https://odeon-lounge.de/vip-lounge/
URL:https://wuewasgeht.com/events/mittwochsdouble-odeon-lounge/2028-09-20/
LOCATION:Odeon Lounge\, Augustinerstraße 18\, Würzburg\, 97070\, Deutschland
CATEGORIES:Club Event
END:VEVENT
BEGIN:VEVENT
DTSTART;TZID=Europe/Berlin:20280923T220000
DTEND;TZID=Europe/Berlin:20280924T050000
DTSTAMP:20260422T200542
CREATED:20231130T094233Z
LAST-MODIFIED:20240130T105630Z
UID:10001826-1853359200-1853384400@wuewasgeht.com
SUMMARY:Kellerliebe
DESCRIPTION:Kellerliebe\nBombe\n  \n🔞 Ab 18 \n🎵 Mixed Music \n💶 Free Entry \n  \nFoto: Club Bombe Würzburg
URL:https://wuewasgeht.com/events/kellerliebe-club-bombe/2028-09-23/
LOCATION:Bombe\, Marienpl. 5\, Würzburg\, 97070\, Deutschland
CATEGORIES:Club Event
ATTACH;FMTTYPE=image/png:https://wuewasgeht.com/wp-content/uploads/2023/10/Bombe_Kellerliebe_Samstag.png
END:VEVENT
BEGIN:VEVENT
DTSTART;TZID=Europe/Berlin:20280926T220000
DTEND;TZID=Europe/Berlin:20280927T050000
DTSTAMP:20260422T200542
CREATED:20231130T093555Z
LAST-MODIFIED:20240130T105652Z
UID:10002096-1853618400-1853643600@wuewasgeht.com
SUMMARY:Studi Dienstag
DESCRIPTION:Studi Dienstag\nBombe\n  \n🔞 Ab 18 \n🎵 Mixed Music \n🍸 Longdrink 5.50€\, Bier 2.50€\, Schnaps 1.50€* \n💶 Free Entry \n  \n*Gilt nur für ausgewählte Spirituosen & Filler\nFoto: Club Bombe Würzburg
URL:https://wuewasgeht.com/events/studi-dienstag-bombe/2028-09-26/
LOCATION:Bombe\, Marienpl. 5\, Würzburg\, 97070\, Deutschland
CATEGORIES:Club Event
ATTACH;FMTTYPE=image/png:https://wuewasgeht.com/wp-content/uploads/2023/07/Bombe_1.png
END:VEVENT
BEGIN:VEVENT
DTSTART;TZID=Europe/Berlin:20280927T230000
DTEND;TZID=Europe/Berlin:20280928T050000
DTSTAMP:20260422T200542
CREATED:20231129T155931Z
LAST-MODIFIED:20240612T165702Z
UID:10004186-1853708400-1853730000@wuewasgeht.com
SUMMARY:Mittwochsdouble
DESCRIPTION:Mittwochsdouble\nOdeon-Lounge\n  \n🔞 Ab 18 \n🎵 Mixed Music \n🍸 Doppeldecker \n💶 Free Entry 23:00 – 00:00\, Free Entry mit tagesaktueller Nushu Rechnung \n  \nV.I.P – Lounge/Tischreservierungen unter: info@odeon-lounge.de oder https://odeon-lounge.de/vip-lounge/
URL:https://wuewasgeht.com/events/mittwochsdouble-odeon-lounge/2028-09-27/
LOCATION:Odeon Lounge\, Augustinerstraße 18\, Würzburg\, 97070\, Deutschland
CATEGORIES:Club Event
END:VEVENT
BEGIN:VEVENT
DTSTART;TZID=Europe/Berlin:20280930T220000
DTEND;TZID=Europe/Berlin:20281001T050000
DTSTAMP:20260422T200542
CREATED:20231130T094233Z
LAST-MODIFIED:20240130T105630Z
UID:10001827-1853964000-1853989200@wuewasgeht.com
SUMMARY:Kellerliebe
DESCRIPTION:Kellerliebe\nBombe\n  \n🔞 Ab 18 \n🎵 Mixed Music \n💶 Free Entry \n  \nFoto: Club Bombe Würzburg
URL:https://wuewasgeht.com/events/kellerliebe-club-bombe/2028-09-30/
LOCATION:Bombe\, Marienpl. 5\, Würzburg\, 97070\, Deutschland
CATEGORIES:Club Event
ATTACH;FMTTYPE=image/png:https://wuewasgeht.com/wp-content/uploads/2023/10/Bombe_Kellerliebe_Samstag.png
END:VEVENT
BEGIN:VEVENT
DTSTART;TZID=Europe/Berlin:20281003T220000
DTEND;TZID=Europe/Berlin:20281004T050000
DTSTAMP:20260422T200542
CREATED:20231130T093555Z
LAST-MODIFIED:20240130T105652Z
UID:10002097-1854223200-1854248400@wuewasgeht.com
SUMMARY:Studi Dienstag
DESCRIPTION:Studi Dienstag\nBombe\n  \n🔞 Ab 18 \n🎵 Mixed Music \n🍸 Longdrink 5.50€\, Bier 2.50€\, Schnaps 1.50€* \n💶 Free Entry \n  \n*Gilt nur für ausgewählte Spirituosen & Filler\nFoto: Club Bombe Würzburg
URL:https://wuewasgeht.com/events/studi-dienstag-bombe/2028-10-03/
LOCATION:Bombe\, Marienpl. 5\, Würzburg\, 97070\, Deutschland
CATEGORIES:Club Event
ATTACH;FMTTYPE=image/png:https://wuewasgeht.com/wp-content/uploads/2023/07/Bombe_1.png
END:VEVENT
BEGIN:VEVENT
DTSTART;TZID=Europe/Berlin:20281004T230000
DTEND;TZID=Europe/Berlin:20281005T050000
DTSTAMP:20260422T200542
CREATED:20231129T155931Z
LAST-MODIFIED:20240612T165702Z
UID:10004187-1854313200-1854334800@wuewasgeht.com
SUMMARY:Mittwochsdouble
DESCRIPTION:Mittwochsdouble\nOdeon-Lounge\n  \n🔞 Ab 18 \n🎵 Mixed Music \n🍸 Doppeldecker \n💶 Free Entry 23:00 – 00:00\, Free Entry mit tagesaktueller Nushu Rechnung \n  \nV.I.P – Lounge/Tischreservierungen unter: info@odeon-lounge.de oder https://odeon-lounge.de/vip-lounge/
URL:https://wuewasgeht.com/events/mittwochsdouble-odeon-lounge/2028-10-04/
LOCATION:Odeon Lounge\, Augustinerstraße 18\, Würzburg\, 97070\, Deutschland
CATEGORIES:Club Event
END:VEVENT
BEGIN:VEVENT
DTSTART;TZID=Europe/Berlin:20281007T220000
DTEND;TZID=Europe/Berlin:20281008T050000
DTSTAMP:20260422T200542
CREATED:20231130T094233Z
LAST-MODIFIED:20240130T105630Z
UID:10001828-1854568800-1854594000@wuewasgeht.com
SUMMARY:Kellerliebe
DESCRIPTION:Kellerliebe\nBombe\n  \n🔞 Ab 18 \n🎵 Mixed Music \n💶 Free Entry \n  \nFoto: Club Bombe Würzburg
URL:https://wuewasgeht.com/events/kellerliebe-club-bombe/2028-10-07/
LOCATION:Bombe\, Marienpl. 5\, Würzburg\, 97070\, Deutschland
CATEGORIES:Club Event
ATTACH;FMTTYPE=image/png:https://wuewasgeht.com/wp-content/uploads/2023/10/Bombe_Kellerliebe_Samstag.png
END:VEVENT
BEGIN:VEVENT
DTSTART;TZID=Europe/Berlin:20281010T220000
DTEND;TZID=Europe/Berlin:20281011T050000
DTSTAMP:20260422T200542
CREATED:20231130T093555Z
LAST-MODIFIED:20240130T105652Z
UID:10002098-1854828000-1854853200@wuewasgeht.com
SUMMARY:Studi Dienstag
DESCRIPTION:Studi Dienstag\nBombe\n  \n🔞 Ab 18 \n🎵 Mixed Music \n🍸 Longdrink 5.50€\, Bier 2.50€\, Schnaps 1.50€* \n💶 Free Entry \n  \n*Gilt nur für ausgewählte Spirituosen & Filler\nFoto: Club Bombe Würzburg
URL:https://wuewasgeht.com/events/studi-dienstag-bombe/2028-10-10/
LOCATION:Bombe\, Marienpl. 5\, Würzburg\, 97070\, Deutschland
CATEGORIES:Club Event
ATTACH;FMTTYPE=image/png:https://wuewasgeht.com/wp-content/uploads/2023/07/Bombe_1.png
END:VEVENT
BEGIN:VEVENT
DTSTART;TZID=Europe/Berlin:20281011T230000
DTEND;TZID=Europe/Berlin:20281012T050000
DTSTAMP:20260422T200542
CREATED:20231129T155931Z
LAST-MODIFIED:20240612T165702Z
UID:10004188-1854918000-1854939600@wuewasgeht.com
SUMMARY:Mittwochsdouble
DESCRIPTION:Mittwochsdouble\nOdeon-Lounge\n  \n🔞 Ab 18 \n🎵 Mixed Music \n🍸 Doppeldecker \n💶 Free Entry 23:00 – 00:00\, Free Entry mit tagesaktueller Nushu Rechnung \n  \nV.I.P – Lounge/Tischreservierungen unter: info@odeon-lounge.de oder https://odeon-lounge.de/vip-lounge/
URL:https://wuewasgeht.com/events/mittwochsdouble-odeon-lounge/2028-10-11/
LOCATION:Odeon Lounge\, Augustinerstraße 18\, Würzburg\, 97070\, Deutschland
CATEGORIES:Club Event
END:VEVENT
BEGIN:VEVENT
DTSTART;TZID=Europe/Berlin:20281014T220000
DTEND;TZID=Europe/Berlin:20281015T050000
DTSTAMP:20260422T200542
CREATED:20231130T094233Z
LAST-MODIFIED:20240130T105630Z
UID:10001829-1855173600-1855198800@wuewasgeht.com
SUMMARY:Kellerliebe
DESCRIPTION:Kellerliebe\nBombe\n  \n🔞 Ab 18 \n🎵 Mixed Music \n💶 Free Entry \n  \nFoto: Club Bombe Würzburg
URL:https://wuewasgeht.com/events/kellerliebe-club-bombe/2028-10-14/
LOCATION:Bombe\, Marienpl. 5\, Würzburg\, 97070\, Deutschland
CATEGORIES:Club Event
ATTACH;FMTTYPE=image/png:https://wuewasgeht.com/wp-content/uploads/2023/10/Bombe_Kellerliebe_Samstag.png
END:VEVENT
BEGIN:VEVENT
DTSTART;TZID=Europe/Berlin:20281017T220000
DTEND;TZID=Europe/Berlin:20281018T050000
DTSTAMP:20260422T200542
CREATED:20231130T093555Z
LAST-MODIFIED:20240130T105652Z
UID:10002099-1855432800-1855458000@wuewasgeht.com
SUMMARY:Studi Dienstag
DESCRIPTION:Studi Dienstag\nBombe\n  \n🔞 Ab 18 \n🎵 Mixed Music \n🍸 Longdrink 5.50€\, Bier 2.50€\, Schnaps 1.50€* \n💶 Free Entry \n  \n*Gilt nur für ausgewählte Spirituosen & Filler\nFoto: Club Bombe Würzburg
URL:https://wuewasgeht.com/events/studi-dienstag-bombe/2028-10-17/
LOCATION:Bombe\, Marienpl. 5\, Würzburg\, 97070\, Deutschland
CATEGORIES:Club Event
ATTACH;FMTTYPE=image/png:https://wuewasgeht.com/wp-content/uploads/2023/07/Bombe_1.png
END:VEVENT
BEGIN:VEVENT
DTSTART;TZID=Europe/Berlin:20281018T230000
DTEND;TZID=Europe/Berlin:20281019T050000
DTSTAMP:20260422T200542
CREATED:20231129T155931Z
LAST-MODIFIED:20240612T165702Z
UID:10004189-1855522800-1855544400@wuewasgeht.com
SUMMARY:Mittwochsdouble
DESCRIPTION:Mittwochsdouble\nOdeon-Lounge\n  \n🔞 Ab 18 \n🎵 Mixed Music \n🍸 Doppeldecker \n💶 Free Entry 23:00 – 00:00\, Free Entry mit tagesaktueller Nushu Rechnung \n  \nV.I.P – Lounge/Tischreservierungen unter: info@odeon-lounge.de oder https://odeon-lounge.de/vip-lounge/
URL:https://wuewasgeht.com/events/mittwochsdouble-odeon-lounge/2028-10-18/
LOCATION:Odeon Lounge\, Augustinerstraße 18\, Würzburg\, 97070\, Deutschland
CATEGORIES:Club Event
END:VEVENT
BEGIN:VEVENT
DTSTART;TZID=Europe/Berlin:20281021T220000
DTEND;TZID=Europe/Berlin:20281022T050000
DTSTAMP:20260422T200542
CREATED:20231130T094233Z
LAST-MODIFIED:20240130T105630Z
UID:10001830-1855778400-1855803600@wuewasgeht.com
SUMMARY:Kellerliebe
DESCRIPTION:Kellerliebe\nBombe\n  \n🔞 Ab 18 \n🎵 Mixed Music \n💶 Free Entry \n  \nFoto: Club Bombe Würzburg
URL:https://wuewasgeht.com/events/kellerliebe-club-bombe/2028-10-21/
LOCATION:Bombe\, Marienpl. 5\, Würzburg\, 97070\, Deutschland
CATEGORIES:Club Event
ATTACH;FMTTYPE=image/png:https://wuewasgeht.com/wp-content/uploads/2023/10/Bombe_Kellerliebe_Samstag.png
END:VEVENT
BEGIN:VEVENT
DTSTART;TZID=Europe/Berlin:20281024T220000
DTEND;TZID=Europe/Berlin:20281025T050000
DTSTAMP:20260422T200542
CREATED:20231130T093555Z
LAST-MODIFIED:20240130T105652Z
UID:10002100-1856037600-1856062800@wuewasgeht.com
SUMMARY:Studi Dienstag
DESCRIPTION:Studi Dienstag\nBombe\n  \n🔞 Ab 18 \n🎵 Mixed Music \n🍸 Longdrink 5.50€\, Bier 2.50€\, Schnaps 1.50€* \n💶 Free Entry \n  \n*Gilt nur für ausgewählte Spirituosen & Filler\nFoto: Club Bombe Würzburg
URL:https://wuewasgeht.com/events/studi-dienstag-bombe/2028-10-24/
LOCATION:Bombe\, Marienpl. 5\, Würzburg\, 97070\, Deutschland
CATEGORIES:Club Event
ATTACH;FMTTYPE=image/png:https://wuewasgeht.com/wp-content/uploads/2023/07/Bombe_1.png
END:VEVENT
BEGIN:VEVENT
DTSTART;TZID=Europe/Berlin:20281025T230000
DTEND;TZID=Europe/Berlin:20281026T050000
DTSTAMP:20260422T200542
CREATED:20231129T155931Z
LAST-MODIFIED:20240612T165702Z
UID:10004190-1856127600-1856149200@wuewasgeht.com
SUMMARY:Mittwochsdouble
DESCRIPTION:Mittwochsdouble\nOdeon-Lounge\n  \n🔞 Ab 18 \n🎵 Mixed Music \n🍸 Doppeldecker \n💶 Free Entry 23:00 – 00:00\, Free Entry mit tagesaktueller Nushu Rechnung \n  \nV.I.P – Lounge/Tischreservierungen unter: info@odeon-lounge.de oder https://odeon-lounge.de/vip-lounge/
URL:https://wuewasgeht.com/events/mittwochsdouble-odeon-lounge/2028-10-25/
LOCATION:Odeon Lounge\, Augustinerstraße 18\, Würzburg\, 97070\, Deutschland
CATEGORIES:Club Event
END:VEVENT
BEGIN:VEVENT
DTSTART;TZID=Europe/Berlin:20281028T220000
DTEND;TZID=Europe/Berlin:20281029T040000
DTSTAMP:20260422T200542
CREATED:20231130T094233Z
LAST-MODIFIED:20240130T105630Z
UID:10001831-1856383200-1856404800@wuewasgeht.com
SUMMARY:Kellerliebe
DESCRIPTION:Kellerliebe\nBombe\n  \n🔞 Ab 18 \n🎵 Mixed Music \n💶 Free Entry \n  \nFoto: Club Bombe Würzburg
URL:https://wuewasgeht.com/events/kellerliebe-club-bombe/2028-10-28/
LOCATION:Bombe\, Marienpl. 5\, Würzburg\, 97070\, Deutschland
CATEGORIES:Club Event
ATTACH;FMTTYPE=image/png:https://wuewasgeht.com/wp-content/uploads/2023/10/Bombe_Kellerliebe_Samstag.png
END:VEVENT
BEGIN:VEVENT
DTSTART;TZID=Europe/Berlin:20281031T220000
DTEND;TZID=Europe/Berlin:20281101T050000
DTSTAMP:20260422T200542
CREATED:20231130T093555Z
LAST-MODIFIED:20240130T105652Z
UID:10002101-1856642400-1856667600@wuewasgeht.com
SUMMARY:Studi Dienstag
DESCRIPTION:Studi Dienstag\nBombe\n  \n🔞 Ab 18 \n🎵 Mixed Music \n🍸 Longdrink 5.50€\, Bier 2.50€\, Schnaps 1.50€* \n💶 Free Entry \n  \n*Gilt nur für ausgewählte Spirituosen & Filler\nFoto: Club Bombe Würzburg
URL:https://wuewasgeht.com/events/studi-dienstag-bombe/2028-10-31/
LOCATION:Bombe\, Marienpl. 5\, Würzburg\, 97070\, Deutschland
CATEGORIES:Club Event
ATTACH;FMTTYPE=image/png:https://wuewasgeht.com/wp-content/uploads/2023/07/Bombe_1.png
END:VEVENT
BEGIN:VEVENT
DTSTART;TZID=Europe/Berlin:20281101T230000
DTEND;TZID=Europe/Berlin:20281102T050000
DTSTAMP:20260422T200542
CREATED:20231129T155931Z
LAST-MODIFIED:20240612T165702Z
UID:10004191-1856732400-1856754000@wuewasgeht.com
SUMMARY:Mittwochsdouble
DESCRIPTION:Mittwochsdouble\nOdeon-Lounge\n  \n🔞 Ab 18 \n🎵 Mixed Music \n🍸 Doppeldecker \n💶 Free Entry 23:00 – 00:00\, Free Entry mit tagesaktueller Nushu Rechnung \n  \nV.I.P – Lounge/Tischreservierungen unter: info@odeon-lounge.de oder https://odeon-lounge.de/vip-lounge/
URL:https://wuewasgeht.com/events/mittwochsdouble-odeon-lounge/2028-11-01/
LOCATION:Odeon Lounge\, Augustinerstraße 18\, Würzburg\, 97070\, Deutschland
CATEGORIES:Club Event
END:VEVENT
BEGIN:VEVENT
DTSTART;TZID=Europe/Berlin:20281104T220000
DTEND;TZID=Europe/Berlin:20281105T050000
DTSTAMP:20260422T200542
CREATED:20231130T094233Z
LAST-MODIFIED:20240130T105630Z
UID:10001832-1856988000-1857013200@wuewasgeht.com
SUMMARY:Kellerliebe
DESCRIPTION:Kellerliebe\nBombe\n  \n🔞 Ab 18 \n🎵 Mixed Music \n💶 Free Entry \n  \nFoto: Club Bombe Würzburg
URL:https://wuewasgeht.com/events/kellerliebe-club-bombe/2028-11-04/
LOCATION:Bombe\, Marienpl. 5\, Würzburg\, 97070\, Deutschland
CATEGORIES:Club Event
ATTACH;FMTTYPE=image/png:https://wuewasgeht.com/wp-content/uploads/2023/10/Bombe_Kellerliebe_Samstag.png
END:VEVENT
BEGIN:VEVENT
DTSTART;TZID=Europe/Berlin:20281107T220000
DTEND;TZID=Europe/Berlin:20281108T050000
DTSTAMP:20260422T200542
CREATED:20231130T093555Z
LAST-MODIFIED:20240130T105652Z
UID:10002102-1857247200-1857272400@wuewasgeht.com
SUMMARY:Studi Dienstag
DESCRIPTION:Studi Dienstag\nBombe\n  \n🔞 Ab 18 \n🎵 Mixed Music \n🍸 Longdrink 5.50€\, Bier 2.50€\, Schnaps 1.50€* \n💶 Free Entry \n  \n*Gilt nur für ausgewählte Spirituosen & Filler\nFoto: Club Bombe Würzburg
URL:https://wuewasgeht.com/events/studi-dienstag-bombe/2028-11-07/
LOCATION:Bombe\, Marienpl. 5\, Würzburg\, 97070\, Deutschland
CATEGORIES:Club Event
ATTACH;FMTTYPE=image/png:https://wuewasgeht.com/wp-content/uploads/2023/07/Bombe_1.png
END:VEVENT
BEGIN:VEVENT
DTSTART;TZID=Europe/Berlin:20281108T230000
DTEND;TZID=Europe/Berlin:20281109T050000
DTSTAMP:20260422T200542
CREATED:20231129T155931Z
LAST-MODIFIED:20240612T165702Z
UID:10004192-1857337200-1857358800@wuewasgeht.com
SUMMARY:Mittwochsdouble
DESCRIPTION:Mittwochsdouble\nOdeon-Lounge\n  \n🔞 Ab 18 \n🎵 Mixed Music \n🍸 Doppeldecker \n💶 Free Entry 23:00 – 00:00\, Free Entry mit tagesaktueller Nushu Rechnung \n  \nV.I.P – Lounge/Tischreservierungen unter: info@odeon-lounge.de oder https://odeon-lounge.de/vip-lounge/
URL:https://wuewasgeht.com/events/mittwochsdouble-odeon-lounge/2028-11-08/
LOCATION:Odeon Lounge\, Augustinerstraße 18\, Würzburg\, 97070\, Deutschland
CATEGORIES:Club Event
END:VEVENT
BEGIN:VEVENT
DTSTART;TZID=Europe/Berlin:20281111T220000
DTEND;TZID=Europe/Berlin:20281112T050000
DTSTAMP:20260422T200542
CREATED:20231130T094233Z
LAST-MODIFIED:20240130T105630Z
UID:10001833-1857592800-1857618000@wuewasgeht.com
SUMMARY:Kellerliebe
DESCRIPTION:Kellerliebe\nBombe\n  \n🔞 Ab 18 \n🎵 Mixed Music \n💶 Free Entry \n  \nFoto: Club Bombe Würzburg
URL:https://wuewasgeht.com/events/kellerliebe-club-bombe/2028-11-11/
LOCATION:Bombe\, Marienpl. 5\, Würzburg\, 97070\, Deutschland
CATEGORIES:Club Event
ATTACH;FMTTYPE=image/png:https://wuewasgeht.com/wp-content/uploads/2023/10/Bombe_Kellerliebe_Samstag.png
END:VEVENT
BEGIN:VEVENT
DTSTART;TZID=Europe/Berlin:20281114T220000
DTEND;TZID=Europe/Berlin:20281115T050000
DTSTAMP:20260422T200542
CREATED:20231130T093555Z
LAST-MODIFIED:20240130T105652Z
UID:10002103-1857852000-1857877200@wuewasgeht.com
SUMMARY:Studi Dienstag
DESCRIPTION:Studi Dienstag\nBombe\n  \n🔞 Ab 18 \n🎵 Mixed Music \n🍸 Longdrink 5.50€\, Bier 2.50€\, Schnaps 1.50€* \n💶 Free Entry \n  \n*Gilt nur für ausgewählte Spirituosen & Filler\nFoto: Club Bombe Würzburg
URL:https://wuewasgeht.com/events/studi-dienstag-bombe/2028-11-14/
LOCATION:Bombe\, Marienpl. 5\, Würzburg\, 97070\, Deutschland
CATEGORIES:Club Event
ATTACH;FMTTYPE=image/png:https://wuewasgeht.com/wp-content/uploads/2023/07/Bombe_1.png
END:VEVENT
BEGIN:VEVENT
DTSTART;TZID=Europe/Berlin:20281115T230000
DTEND;TZID=Europe/Berlin:20281116T050000
DTSTAMP:20260422T200542
CREATED:20231129T155931Z
LAST-MODIFIED:20240612T165702Z
UID:10004193-1857942000-1857963600@wuewasgeht.com
SUMMARY:Mittwochsdouble
DESCRIPTION:Mittwochsdouble\nOdeon-Lounge\n  \n🔞 Ab 18 \n🎵 Mixed Music \n🍸 Doppeldecker \n💶 Free Entry 23:00 – 00:00\, Free Entry mit tagesaktueller Nushu Rechnung \n  \nV.I.P – Lounge/Tischreservierungen unter: info@odeon-lounge.de oder https://odeon-lounge.de/vip-lounge/
URL:https://wuewasgeht.com/events/mittwochsdouble-odeon-lounge/2028-11-15/
LOCATION:Odeon Lounge\, Augustinerstraße 18\, Würzburg\, 97070\, Deutschland
CATEGORIES:Club Event
END:VEVENT
BEGIN:VEVENT
DTSTART;TZID=Europe/Berlin:20281118T220000
DTEND;TZID=Europe/Berlin:20281119T050000
DTSTAMP:20260422T200542
CREATED:20231130T094233Z
LAST-MODIFIED:20240130T105630Z
UID:10001834-1858197600-1858222800@wuewasgeht.com
SUMMARY:Kellerliebe
DESCRIPTION:Kellerliebe\nBombe\n  \n🔞 Ab 18 \n🎵 Mixed Music \n💶 Free Entry \n  \nFoto: Club Bombe Würzburg
URL:https://wuewasgeht.com/events/kellerliebe-club-bombe/2028-11-18/
LOCATION:Bombe\, Marienpl. 5\, Würzburg\, 97070\, Deutschland
CATEGORIES:Club Event
ATTACH;FMTTYPE=image/png:https://wuewasgeht.com/wp-content/uploads/2023/10/Bombe_Kellerliebe_Samstag.png
END:VEVENT
END:VCALENDAR