BEGIN:VCALENDAR
VERSION:2.0
PRODID:-//WueWasGeht - ECPv6.11.2.1//NONSGML v1.0//EN
CALSCALE:GREGORIAN
METHOD:PUBLISH
X-WR-CALNAME:WueWasGeht
X-ORIGINAL-URL:https://wuewasgeht.com
X-WR-CALDESC:Veranstaltungen für WueWasGeht
REFRESH-INTERVAL;VALUE=DURATION:PT1H
X-Robots-Tag:noindex
X-PUBLISHED-TTL:PT1H
BEGIN:VTIMEZONE
TZID:Europe/Berlin
BEGIN:DAYLIGHT
TZOFFSETFROM:+0100
TZOFFSETTO:+0200
TZNAME:CEST
DTSTART:20250330T010000
END:DAYLIGHT
BEGIN:STANDARD
TZOFFSETFROM:+0200
TZOFFSETTO:+0100
TZNAME:CET
DTSTART:20251026T010000
END:STANDARD
END:VTIMEZONE
BEGIN:VEVENT
DTSTART;TZID=Europe/Berlin:20251115T230000
DTEND;TZID=Europe/Berlin:20251116T050000
DTSTAMP:20260419T174514
CREATED:20231130T083525Z
LAST-MODIFIED:20240130T105918Z
UID:10003256-1763247600-1763269200@wuewasgeht.com
SUMMARY:Doppeldecker & Tanz
DESCRIPTION:Doppeldecker & Tanz\nKatze\n  \n🔞 Ab 18 \n🎵 Mixed Music \n🍸 Doppeldecker \n  \nFoto: Club Katze Würzburg
URL:https://wuewasgeht.com/events/doppeldecker-katze/2025-11-15/
LOCATION:Katze\, Gerberstraße 14\, Würzburg\, 97070\, Deutschland
CATEGORIES:Club Event
ATTACH;FMTTYPE=image/png:https://wuewasgeht.com/wp-content/uploads/2023/07/Katze_3-1.png
END:VEVENT
BEGIN:VEVENT
DTSTART;TZID=Europe/Berlin:20251115T220000
DTEND;TZID=Europe/Berlin:20251116T050000
DTSTAMP:20260419T174514
CREATED:20231128T121115Z
LAST-MODIFIED:20250225T190845Z
UID:10002727-1763244000-1763269200@wuewasgeht.com
SUMMARY:Sippin Saturday
DESCRIPTION:Sippin Saturday\nBoot\n  \n🔞 Ab 18 \n🎵 Mixed Music \n🍸 Happy Hour bis 24 Uhr \n💶 10€\, für Schüler und Studenten bis 24 Uhr: 5€ \n  \nFoto: Club Boot Würzburg
URL:https://wuewasgeht.com/events/sippin-saturday-boot/2025-11-15/
LOCATION:Boot\, Veitshöchheimer Str. 5c\, Würzburg\, 97080\, Deutschland
CATEGORIES:Club Event
ATTACH;FMTTYPE=image/png:https://wuewasgeht.com/wp-content/uploads/2023/07/Boot_3.png
END:VEVENT
BEGIN:VEVENT
DTSTART;TZID=Europe/Berlin:20251114T220000
DTEND;TZID=Europe/Berlin:20251115T050000
DTSTAMP:20260419T174514
CREATED:20231129T152151Z
LAST-MODIFIED:20250225T190751Z
UID:10002467-1763157600-1763182800@wuewasgeht.com
SUMMARY:Finally Friday
DESCRIPTION:Finally Friday\nBoot\n  \n🔞 Ab 18 \n🎵 Mixed Music \n🍸 Happy Hour bis 24 Uhr \n💶 9€\, für Schüler und Studenten bis 24 Uhr: 5€ \n  \nFoto: Club Boot Würzburg
URL:https://wuewasgeht.com/events/finally-friday-boot/2025-11-14/
LOCATION:Boot\, Veitshöchheimer Str. 5c\, Würzburg\, 97080\, Deutschland
CATEGORIES:Club Event
ATTACH;FMTTYPE=image/png:https://wuewasgeht.com/wp-content/uploads/2023/07/Boot_finallyfriday.png
END:VEVENT
BEGIN:VEVENT
DTSTART;TZID=Europe/Berlin:20251113T220000
DTEND;TZID=Europe/Berlin:20251114T050000
DTSTAMP:20260419T174514
CREATED:20231129T151551Z
LAST-MODIFIED:20240130T105720Z
UID:10002207-1763071200-1763096400@wuewasgeht.com
SUMMARY:Thirsty Thursday
DESCRIPTION:Thirsty Thursday\nBoot\n  \n🔞 Ab 18 \n🎵 Mixed Music \n🍸 Happy Hour \n💶 Eintritt: 5€\, für Schüler und Studenten bis 24 Uhr for free \n  \nFoto: Club Boot Würzburg
URL:https://wuewasgeht.com/events/thirsty-thursday-boot/2025-11-13/
LOCATION:Boot\, Veitshöchheimer Str. 5c\, Würzburg\, 97080\, Deutschland
CATEGORIES:Club Event
ATTACH;FMTTYPE=image/png:https://wuewasgeht.com/wp-content/uploads/2023/07/Boot_ThirstyThursday.png
END:VEVENT
BEGIN:VEVENT
DTSTART;TZID=Europe/Berlin:20251112T230000
DTEND;TZID=Europe/Berlin:20251113T050000
DTSTAMP:20260419T174514
CREATED:20231129T155931Z
LAST-MODIFIED:20240612T165702Z
UID:10004036-1762988400-1763010000@wuewasgeht.com
SUMMARY:Mittwochsdouble
DESCRIPTION:Mittwochsdouble\nOdeon-Lounge\n  \n🔞 Ab 18 \n🎵 Mixed Music \n🍸 Doppeldecker \n💶 Free Entry 23:00 – 00:00\, Free Entry mit tagesaktueller Nushu Rechnung \n  \nV.I.P – Lounge/Tischreservierungen unter: info@odeon-lounge.de oder https://odeon-lounge.de/vip-lounge/
URL:https://wuewasgeht.com/events/mittwochsdouble-odeon-lounge/2025-11-12/
LOCATION:Odeon Lounge\, Augustinerstraße 18\, Würzburg\, 97070\, Deutschland
CATEGORIES:Club Event
END:VEVENT
BEGIN:VEVENT
DTSTART;TZID=Europe/Berlin:20251111T220000
DTEND;TZID=Europe/Berlin:20251112T050000
DTSTAMP:20260419T174514
CREATED:20231130T093555Z
LAST-MODIFIED:20240130T105652Z
UID:10001946-1762898400-1762923600@wuewasgeht.com
SUMMARY:Studi Dienstag
DESCRIPTION:Studi Dienstag\nBombe\n  \n🔞 Ab 18 \n🎵 Mixed Music \n🍸 Longdrink 5.50€\, Bier 2.50€\, Schnaps 1.50€* \n💶 Free Entry \n  \n*Gilt nur für ausgewählte Spirituosen & Filler\nFoto: Club Bombe Würzburg
URL:https://wuewasgeht.com/events/studi-dienstag-bombe/2025-11-11/
LOCATION:Bombe\, Marienpl. 5\, Würzburg\, 97070\, Deutschland
CATEGORIES:Club Event
ATTACH;FMTTYPE=image/png:https://wuewasgeht.com/wp-content/uploads/2023/07/Bombe_1.png
END:VEVENT
BEGIN:VEVENT
DTSTART;TZID=Europe/Berlin:20251108T230000
DTEND;TZID=Europe/Berlin:20251109T050000
DTSTAMP:20260419T174514
CREATED:20231130T083525Z
LAST-MODIFIED:20240130T105918Z
UID:10003255-1762642800-1762664400@wuewasgeht.com
SUMMARY:Doppeldecker & Tanz
DESCRIPTION:Doppeldecker & Tanz\nKatze\n  \n🔞 Ab 18 \n🎵 Mixed Music \n🍸 Doppeldecker \n  \nFoto: Club Katze Würzburg
URL:https://wuewasgeht.com/events/doppeldecker-katze/2025-11-08/
LOCATION:Katze\, Gerberstraße 14\, Würzburg\, 97070\, Deutschland
CATEGORIES:Club Event
ATTACH;FMTTYPE=image/png:https://wuewasgeht.com/wp-content/uploads/2023/07/Katze_3-1.png
END:VEVENT
BEGIN:VEVENT
DTSTART;TZID=Europe/Berlin:20251108T220000
DTEND;TZID=Europe/Berlin:20251109T050000
DTSTAMP:20260419T174514
CREATED:20231128T121115Z
LAST-MODIFIED:20250225T190845Z
UID:10002726-1762639200-1762664400@wuewasgeht.com
SUMMARY:Sippin Saturday
DESCRIPTION:Sippin Saturday\nBoot\n  \n🔞 Ab 18 \n🎵 Mixed Music \n🍸 Happy Hour bis 24 Uhr \n💶 10€\, für Schüler und Studenten bis 24 Uhr: 5€ \n  \nFoto: Club Boot Würzburg
URL:https://wuewasgeht.com/events/sippin-saturday-boot/2025-11-08/
LOCATION:Boot\, Veitshöchheimer Str. 5c\, Würzburg\, 97080\, Deutschland
CATEGORIES:Club Event
ATTACH;FMTTYPE=image/png:https://wuewasgeht.com/wp-content/uploads/2023/07/Boot_3.png
END:VEVENT
BEGIN:VEVENT
DTSTART;TZID=Europe/Berlin:20251107T220000
DTEND;TZID=Europe/Berlin:20251108T050000
DTSTAMP:20260419T174514
CREATED:20231129T152151Z
LAST-MODIFIED:20250225T190751Z
UID:10002466-1762552800-1762578000@wuewasgeht.com
SUMMARY:Finally Friday
DESCRIPTION:Finally Friday\nBoot\n  \n🔞 Ab 18 \n🎵 Mixed Music \n🍸 Happy Hour bis 24 Uhr \n💶 9€\, für Schüler und Studenten bis 24 Uhr: 5€ \n  \nFoto: Club Boot Würzburg
URL:https://wuewasgeht.com/events/finally-friday-boot/2025-11-07/
LOCATION:Boot\, Veitshöchheimer Str. 5c\, Würzburg\, 97080\, Deutschland
CATEGORIES:Club Event
ATTACH;FMTTYPE=image/png:https://wuewasgeht.com/wp-content/uploads/2023/07/Boot_finallyfriday.png
END:VEVENT
BEGIN:VEVENT
DTSTART;TZID=Europe/Berlin:20251106T220000
DTEND;TZID=Europe/Berlin:20251107T050000
DTSTAMP:20260419T174514
CREATED:20231129T151551Z
LAST-MODIFIED:20240130T105720Z
UID:10002206-1762466400-1762491600@wuewasgeht.com
SUMMARY:Thirsty Thursday
DESCRIPTION:Thirsty Thursday\nBoot\n  \n🔞 Ab 18 \n🎵 Mixed Music \n🍸 Happy Hour \n💶 Eintritt: 5€\, für Schüler und Studenten bis 24 Uhr for free \n  \nFoto: Club Boot Würzburg
URL:https://wuewasgeht.com/events/thirsty-thursday-boot/2025-11-06/
LOCATION:Boot\, Veitshöchheimer Str. 5c\, Würzburg\, 97080\, Deutschland
CATEGORIES:Club Event
ATTACH;FMTTYPE=image/png:https://wuewasgeht.com/wp-content/uploads/2023/07/Boot_ThirstyThursday.png
END:VEVENT
BEGIN:VEVENT
DTSTART;TZID=Europe/Berlin:20251105T230000
DTEND;TZID=Europe/Berlin:20251106T050000
DTSTAMP:20260419T174514
CREATED:20231129T155931Z
LAST-MODIFIED:20240612T165702Z
UID:10004035-1762383600-1762405200@wuewasgeht.com
SUMMARY:Mittwochsdouble
DESCRIPTION:Mittwochsdouble\nOdeon-Lounge\n  \n🔞 Ab 18 \n🎵 Mixed Music \n🍸 Doppeldecker \n💶 Free Entry 23:00 – 00:00\, Free Entry mit tagesaktueller Nushu Rechnung \n  \nV.I.P – Lounge/Tischreservierungen unter: info@odeon-lounge.de oder https://odeon-lounge.de/vip-lounge/
URL:https://wuewasgeht.com/events/mittwochsdouble-odeon-lounge/2025-11-05/
LOCATION:Odeon Lounge\, Augustinerstraße 18\, Würzburg\, 97070\, Deutschland
CATEGORIES:Club Event
END:VEVENT
BEGIN:VEVENT
DTSTART;TZID=Europe/Berlin:20251104T220000
DTEND;TZID=Europe/Berlin:20251105T050000
DTSTAMP:20260419T174514
CREATED:20231130T093555Z
LAST-MODIFIED:20240130T105652Z
UID:10001945-1762293600-1762318800@wuewasgeht.com
SUMMARY:Studi Dienstag
DESCRIPTION:Studi Dienstag\nBombe\n  \n🔞 Ab 18 \n🎵 Mixed Music \n🍸 Longdrink 5.50€\, Bier 2.50€\, Schnaps 1.50€* \n💶 Free Entry \n  \n*Gilt nur für ausgewählte Spirituosen & Filler\nFoto: Club Bombe Würzburg
URL:https://wuewasgeht.com/events/studi-dienstag-bombe/2025-11-04/
LOCATION:Bombe\, Marienpl. 5\, Würzburg\, 97070\, Deutschland
CATEGORIES:Club Event
ATTACH;FMTTYPE=image/png:https://wuewasgeht.com/wp-content/uploads/2023/07/Bombe_1.png
END:VEVENT
BEGIN:VEVENT
DTSTART;TZID=Europe/Berlin:20251101T230000
DTEND;TZID=Europe/Berlin:20251102T050000
DTSTAMP:20260419T174514
CREATED:20231130T083525Z
LAST-MODIFIED:20240130T105918Z
UID:10003254-1762038000-1762059600@wuewasgeht.com
SUMMARY:Doppeldecker & Tanz
DESCRIPTION:Doppeldecker & Tanz\nKatze\n  \n🔞 Ab 18 \n🎵 Mixed Music \n🍸 Doppeldecker \n  \nFoto: Club Katze Würzburg
URL:https://wuewasgeht.com/events/doppeldecker-katze/2025-11-01/
LOCATION:Katze\, Gerberstraße 14\, Würzburg\, 97070\, Deutschland
CATEGORIES:Club Event
ATTACH;FMTTYPE=image/png:https://wuewasgeht.com/wp-content/uploads/2023/07/Katze_3-1.png
END:VEVENT
BEGIN:VEVENT
DTSTART;TZID=Europe/Berlin:20251101T220000
DTEND;TZID=Europe/Berlin:20251102T050000
DTSTAMP:20260419T174514
CREATED:20231128T121115Z
LAST-MODIFIED:20250225T190845Z
UID:10002725-1762034400-1762059600@wuewasgeht.com
SUMMARY:Sippin Saturday
DESCRIPTION:Sippin Saturday\nBoot\n  \n🔞 Ab 18 \n🎵 Mixed Music \n🍸 Happy Hour bis 24 Uhr \n💶 10€\, für Schüler und Studenten bis 24 Uhr: 5€ \n  \nFoto: Club Boot Würzburg
URL:https://wuewasgeht.com/events/sippin-saturday-boot/2025-11-01/
LOCATION:Boot\, Veitshöchheimer Str. 5c\, Würzburg\, 97080\, Deutschland
CATEGORIES:Club Event
ATTACH;FMTTYPE=image/png:https://wuewasgeht.com/wp-content/uploads/2023/07/Boot_3.png
END:VEVENT
BEGIN:VEVENT
DTSTART;TZID=Europe/Berlin:20251031T220000
DTEND;TZID=Europe/Berlin:20251101T050000
DTSTAMP:20260419T174514
CREATED:20231129T152151Z
LAST-MODIFIED:20250225T190751Z
UID:10002465-1761948000-1761973200@wuewasgeht.com
SUMMARY:Finally Friday
DESCRIPTION:Finally Friday\nBoot\n  \n🔞 Ab 18 \n🎵 Mixed Music \n🍸 Happy Hour bis 24 Uhr \n💶 9€\, für Schüler und Studenten bis 24 Uhr: 5€ \n  \nFoto: Club Boot Würzburg
URL:https://wuewasgeht.com/events/finally-friday-boot/2025-10-31/
LOCATION:Boot\, Veitshöchheimer Str. 5c\, Würzburg\, 97080\, Deutschland
CATEGORIES:Club Event
ATTACH;FMTTYPE=image/png:https://wuewasgeht.com/wp-content/uploads/2023/07/Boot_finallyfriday.png
END:VEVENT
BEGIN:VEVENT
DTSTART;TZID=Europe/Berlin:20251030T220000
DTEND;TZID=Europe/Berlin:20251031T050000
DTSTAMP:20260419T174514
CREATED:20231129T151551Z
LAST-MODIFIED:20240130T105720Z
UID:10002205-1761861600-1761886800@wuewasgeht.com
SUMMARY:Thirsty Thursday
DESCRIPTION:Thirsty Thursday\nBoot\n  \n🔞 Ab 18 \n🎵 Mixed Music \n🍸 Happy Hour \n💶 Eintritt: 5€\, für Schüler und Studenten bis 24 Uhr for free \n  \nFoto: Club Boot Würzburg
URL:https://wuewasgeht.com/events/thirsty-thursday-boot/2025-10-30/
LOCATION:Boot\, Veitshöchheimer Str. 5c\, Würzburg\, 97080\, Deutschland
CATEGORIES:Club Event
ATTACH;FMTTYPE=image/png:https://wuewasgeht.com/wp-content/uploads/2023/07/Boot_ThirstyThursday.png
END:VEVENT
BEGIN:VEVENT
DTSTART;TZID=Europe/Berlin:20251029T230000
DTEND;TZID=Europe/Berlin:20251030T050000
DTSTAMP:20260419T174514
CREATED:20231129T155931Z
LAST-MODIFIED:20240612T165702Z
UID:10004034-1761778800-1761800400@wuewasgeht.com
SUMMARY:Mittwochsdouble
DESCRIPTION:Mittwochsdouble\nOdeon-Lounge\n  \n🔞 Ab 18 \n🎵 Mixed Music \n🍸 Doppeldecker \n💶 Free Entry 23:00 – 00:00\, Free Entry mit tagesaktueller Nushu Rechnung \n  \nV.I.P – Lounge/Tischreservierungen unter: info@odeon-lounge.de oder https://odeon-lounge.de/vip-lounge/
URL:https://wuewasgeht.com/events/mittwochsdouble-odeon-lounge/2025-10-29/
LOCATION:Odeon Lounge\, Augustinerstraße 18\, Würzburg\, 97070\, Deutschland
CATEGORIES:Club Event
END:VEVENT
BEGIN:VEVENT
DTSTART;TZID=Europe/Berlin:20251028T220000
DTEND;TZID=Europe/Berlin:20251029T050000
DTSTAMP:20260419T174514
CREATED:20231130T093555Z
LAST-MODIFIED:20240130T105652Z
UID:10001944-1761688800-1761714000@wuewasgeht.com
SUMMARY:Studi Dienstag
DESCRIPTION:Studi Dienstag\nBombe\n  \n🔞 Ab 18 \n🎵 Mixed Music \n🍸 Longdrink 5.50€\, Bier 2.50€\, Schnaps 1.50€* \n💶 Free Entry \n  \n*Gilt nur für ausgewählte Spirituosen & Filler\nFoto: Club Bombe Würzburg
URL:https://wuewasgeht.com/events/studi-dienstag-bombe/2025-10-28/
LOCATION:Bombe\, Marienpl. 5\, Würzburg\, 97070\, Deutschland
CATEGORIES:Club Event
ATTACH;FMTTYPE=image/png:https://wuewasgeht.com/wp-content/uploads/2023/07/Bombe_1.png
END:VEVENT
BEGIN:VEVENT
DTSTART;TZID=Europe/Berlin:20251025T230000
DTEND;TZID=Europe/Berlin:20251026T040000
DTSTAMP:20260419T174514
CREATED:20231130T083525Z
LAST-MODIFIED:20240130T105918Z
UID:10003253-1761433200-1761451200@wuewasgeht.com
SUMMARY:Doppeldecker & Tanz
DESCRIPTION:Doppeldecker & Tanz\nKatze\n  \n🔞 Ab 18 \n🎵 Mixed Music \n🍸 Doppeldecker \n  \nFoto: Club Katze Würzburg
URL:https://wuewasgeht.com/events/doppeldecker-katze/2025-10-25/
LOCATION:Katze\, Gerberstraße 14\, Würzburg\, 97070\, Deutschland
CATEGORIES:Club Event
ATTACH;FMTTYPE=image/png:https://wuewasgeht.com/wp-content/uploads/2023/07/Katze_3-1.png
END:VEVENT
BEGIN:VEVENT
DTSTART;TZID=Europe/Berlin:20251025T220000
DTEND;TZID=Europe/Berlin:20251026T040000
DTSTAMP:20260419T174514
CREATED:20231128T121115Z
LAST-MODIFIED:20250225T190845Z
UID:10002724-1761429600-1761451200@wuewasgeht.com
SUMMARY:Sippin Saturday
DESCRIPTION:Sippin Saturday\nBoot\n  \n🔞 Ab 18 \n🎵 Mixed Music \n🍸 Happy Hour bis 24 Uhr \n💶 10€\, für Schüler und Studenten bis 24 Uhr: 5€ \n  \nFoto: Club Boot Würzburg
URL:https://wuewasgeht.com/events/sippin-saturday-boot/2025-10-25/
LOCATION:Boot\, Veitshöchheimer Str. 5c\, Würzburg\, 97080\, Deutschland
CATEGORIES:Club Event
ATTACH;FMTTYPE=image/png:https://wuewasgeht.com/wp-content/uploads/2023/07/Boot_3.png
END:VEVENT
BEGIN:VEVENT
DTSTART;TZID=Europe/Berlin:20251024T220000
DTEND;TZID=Europe/Berlin:20251025T050000
DTSTAMP:20260419T174514
CREATED:20231129T152151Z
LAST-MODIFIED:20250225T190751Z
UID:10002464-1761343200-1761368400@wuewasgeht.com
SUMMARY:Finally Friday
DESCRIPTION:Finally Friday\nBoot\n  \n🔞 Ab 18 \n🎵 Mixed Music \n🍸 Happy Hour bis 24 Uhr \n💶 9€\, für Schüler und Studenten bis 24 Uhr: 5€ \n  \nFoto: Club Boot Würzburg
URL:https://wuewasgeht.com/events/finally-friday-boot/2025-10-24/
LOCATION:Boot\, Veitshöchheimer Str. 5c\, Würzburg\, 97080\, Deutschland
CATEGORIES:Club Event
ATTACH;FMTTYPE=image/png:https://wuewasgeht.com/wp-content/uploads/2023/07/Boot_finallyfriday.png
END:VEVENT
BEGIN:VEVENT
DTSTART;TZID=Europe/Berlin:20251023T220000
DTEND;TZID=Europe/Berlin:20251024T050000
DTSTAMP:20260419T174514
CREATED:20231129T151551Z
LAST-MODIFIED:20240130T105720Z
UID:10002204-1761256800-1761282000@wuewasgeht.com
SUMMARY:Thirsty Thursday
DESCRIPTION:Thirsty Thursday\nBoot\n  \n🔞 Ab 18 \n🎵 Mixed Music \n🍸 Happy Hour \n💶 Eintritt: 5€\, für Schüler und Studenten bis 24 Uhr for free \n  \nFoto: Club Boot Würzburg
URL:https://wuewasgeht.com/events/thirsty-thursday-boot/2025-10-23/
LOCATION:Boot\, Veitshöchheimer Str. 5c\, Würzburg\, 97080\, Deutschland
CATEGORIES:Club Event
ATTACH;FMTTYPE=image/png:https://wuewasgeht.com/wp-content/uploads/2023/07/Boot_ThirstyThursday.png
END:VEVENT
BEGIN:VEVENT
DTSTART;TZID=Europe/Berlin:20251022T230000
DTEND;TZID=Europe/Berlin:20251023T050000
DTSTAMP:20260419T174514
CREATED:20231129T155931Z
LAST-MODIFIED:20240612T165702Z
UID:10004033-1761174000-1761195600@wuewasgeht.com
SUMMARY:Mittwochsdouble
DESCRIPTION:Mittwochsdouble\nOdeon-Lounge\n  \n🔞 Ab 18 \n🎵 Mixed Music \n🍸 Doppeldecker \n💶 Free Entry 23:00 – 00:00\, Free Entry mit tagesaktueller Nushu Rechnung \n  \nV.I.P – Lounge/Tischreservierungen unter: info@odeon-lounge.de oder https://odeon-lounge.de/vip-lounge/
URL:https://wuewasgeht.com/events/mittwochsdouble-odeon-lounge/2025-10-22/
LOCATION:Odeon Lounge\, Augustinerstraße 18\, Würzburg\, 97070\, Deutschland
CATEGORIES:Club Event
END:VEVENT
BEGIN:VEVENT
DTSTART;TZID=Europe/Berlin:20251021T220000
DTEND;TZID=Europe/Berlin:20251022T050000
DTSTAMP:20260419T174514
CREATED:20231130T093555Z
LAST-MODIFIED:20240130T105652Z
UID:10001943-1761084000-1761109200@wuewasgeht.com
SUMMARY:Studi Dienstag
DESCRIPTION:Studi Dienstag\nBombe\n  \n🔞 Ab 18 \n🎵 Mixed Music \n🍸 Longdrink 5.50€\, Bier 2.50€\, Schnaps 1.50€* \n💶 Free Entry \n  \n*Gilt nur für ausgewählte Spirituosen & Filler\nFoto: Club Bombe Würzburg
URL:https://wuewasgeht.com/events/studi-dienstag-bombe/2025-10-21/
LOCATION:Bombe\, Marienpl. 5\, Würzburg\, 97070\, Deutschland
CATEGORIES:Club Event
ATTACH;FMTTYPE=image/png:https://wuewasgeht.com/wp-content/uploads/2023/07/Bombe_1.png
END:VEVENT
BEGIN:VEVENT
DTSTART;TZID=Europe/Berlin:20251018T230000
DTEND;TZID=Europe/Berlin:20251019T050000
DTSTAMP:20260419T174514
CREATED:20231130T083525Z
LAST-MODIFIED:20240130T105918Z
UID:10003252-1760828400-1760850000@wuewasgeht.com
SUMMARY:Doppeldecker & Tanz
DESCRIPTION:Doppeldecker & Tanz\nKatze\n  \n🔞 Ab 18 \n🎵 Mixed Music \n🍸 Doppeldecker \n  \nFoto: Club Katze Würzburg
URL:https://wuewasgeht.com/events/doppeldecker-katze/2025-10-18/
LOCATION:Katze\, Gerberstraße 14\, Würzburg\, 97070\, Deutschland
CATEGORIES:Club Event
ATTACH;FMTTYPE=image/png:https://wuewasgeht.com/wp-content/uploads/2023/07/Katze_3-1.png
END:VEVENT
BEGIN:VEVENT
DTSTART;TZID=Europe/Berlin:20251018T220000
DTEND;TZID=Europe/Berlin:20251019T050000
DTSTAMP:20260419T174514
CREATED:20231128T121115Z
LAST-MODIFIED:20250225T190845Z
UID:10002723-1760824800-1760850000@wuewasgeht.com
SUMMARY:Sippin Saturday
DESCRIPTION:Sippin Saturday\nBoot\n  \n🔞 Ab 18 \n🎵 Mixed Music \n🍸 Happy Hour bis 24 Uhr \n💶 10€\, für Schüler und Studenten bis 24 Uhr: 5€ \n  \nFoto: Club Boot Würzburg
URL:https://wuewasgeht.com/events/sippin-saturday-boot/2025-10-18/
LOCATION:Boot\, Veitshöchheimer Str. 5c\, Würzburg\, 97080\, Deutschland
CATEGORIES:Club Event
ATTACH;FMTTYPE=image/png:https://wuewasgeht.com/wp-content/uploads/2023/07/Boot_3.png
END:VEVENT
BEGIN:VEVENT
DTSTART;TZID=Europe/Berlin:20251018T210000
DTEND;TZID=Europe/Berlin:20251019T050000
DTSTAMP:20260419T174514
CREATED:20251015T193706Z
LAST-MODIFIED:20251015T193706Z
UID:10011974-1760821200-1760850000@wuewasgeht.com
SUMMARY:Powerday
DESCRIPTION:Powerday\nAirport\n  \n🔞 Ab 16 \n🎵 Mixed Music\, Techno \n🍸 Doppeldecker \n🎧 DJ Early\, Lillivee b2b Marcare \n🎫 Tickets \n  \nFoto: Club Airport Würzburg
URL:https://wuewasgeht.com/events/powerday/
LOCATION:Airport\, Gattingerstraße 17\, Würzburg\, 97076\, Deutschland
CATEGORIES:Club Event
ATTACH;FMTTYPE=image/jpeg:https://wuewasgeht.com/wp-content/uploads/2025/10/Airport_Powerday.jpg
END:VEVENT
BEGIN:VEVENT
DTSTART;TZID=Europe/Berlin:20251017T230000
DTEND;TZID=Europe/Berlin:20251018T050000
DTSTAMP:20260419T174514
CREATED:20251015T193650Z
LAST-MODIFIED:20251015T193650Z
UID:10011982-1760742000-1760763600@wuewasgeht.com
SUMMARY:Prive Nights
DESCRIPTION:Prive Nights\n\n\n\nOdeon Lounge\n  \n🔞 Ab 18 \n🎵 Dancehall \n🎧 Victor Felisa (Ibiza) · Kintel (Berlin/Mongolei) · BUEHNE (Würzburg)
URL:https://wuewasgeht.com/events/prive-nights/
LOCATION:Odeon Lounge\, Augustinerstraße 18\, Würzburg\, 97070\, Deutschland
CATEGORIES:Club Event
END:VEVENT
BEGIN:VEVENT
DTSTART;TZID=Europe/Berlin:20251017T220000
DTEND;TZID=Europe/Berlin:20251018T050000
DTSTAMP:20260419T174514
CREATED:20231129T152151Z
LAST-MODIFIED:20250225T190751Z
UID:10002463-1760738400-1760763600@wuewasgeht.com
SUMMARY:Finally Friday
DESCRIPTION:Finally Friday\nBoot\n  \n🔞 Ab 18 \n🎵 Mixed Music \n🍸 Happy Hour bis 24 Uhr \n💶 9€\, für Schüler und Studenten bis 24 Uhr: 5€ \n  \nFoto: Club Boot Würzburg
URL:https://wuewasgeht.com/events/finally-friday-boot/2025-10-17/
LOCATION:Boot\, Veitshöchheimer Str. 5c\, Würzburg\, 97080\, Deutschland
CATEGORIES:Club Event
ATTACH;FMTTYPE=image/png:https://wuewasgeht.com/wp-content/uploads/2023/07/Boot_finallyfriday.png
END:VEVENT
BEGIN:VEVENT
DTSTART;TZID=Europe/Berlin:20251016T220000
DTEND;TZID=Europe/Berlin:20251017T050000
DTSTAMP:20260419T174514
CREATED:20231129T151551Z
LAST-MODIFIED:20240130T105720Z
UID:10002203-1760652000-1760677200@wuewasgeht.com
SUMMARY:Thirsty Thursday
DESCRIPTION:Thirsty Thursday\nBoot\n  \n🔞 Ab 18 \n🎵 Mixed Music \n🍸 Happy Hour \n💶 Eintritt: 5€\, für Schüler und Studenten bis 24 Uhr for free \n  \nFoto: Club Boot Würzburg
URL:https://wuewasgeht.com/events/thirsty-thursday-boot/2025-10-16/
LOCATION:Boot\, Veitshöchheimer Str. 5c\, Würzburg\, 97080\, Deutschland
CATEGORIES:Club Event
ATTACH;FMTTYPE=image/png:https://wuewasgeht.com/wp-content/uploads/2023/07/Boot_ThirstyThursday.png
END:VEVENT
END:VCALENDAR