BEGIN:VCALENDAR
VERSION:2.0
PRODID:-//WueWasGeht - ECPv6.11.2.1//NONSGML v1.0//EN
CALSCALE:GREGORIAN
METHOD:PUBLISH
X-WR-CALNAME:WueWasGeht
X-ORIGINAL-URL:https://wuewasgeht.com
X-WR-CALDESC:Veranstaltungen für WueWasGeht
REFRESH-INTERVAL;VALUE=DURATION:PT1H
X-Robots-Tag:noindex
X-PUBLISHED-TTL:PT1H
BEGIN:VTIMEZONE
TZID:Europe/Berlin
BEGIN:DAYLIGHT
TZOFFSETFROM:+0100
TZOFFSETTO:+0200
TZNAME:CEST
DTSTART:20250330T010000
END:DAYLIGHT
BEGIN:STANDARD
TZOFFSETFROM:+0200
TZOFFSETTO:+0100
TZNAME:CET
DTSTART:20251026T010000
END:STANDARD
END:VTIMEZONE
BEGIN:VEVENT
DTSTART;TZID=Europe/Berlin:20250927T230000
DTEND;TZID=Europe/Berlin:20250928T050000
DTSTAMP:20260425T193509
CREATED:20231130T083525Z
LAST-MODIFIED:20240130T105918Z
UID:10003249-1759014000-1759035600@wuewasgeht.com
SUMMARY:Doppeldecker & Tanz
DESCRIPTION:Doppeldecker & Tanz\nKatze\n  \n🔞 Ab 18 \n🎵 Mixed Music \n🍸 Doppeldecker \n  \nFoto: Club Katze Würzburg
URL:https://wuewasgeht.com/events/doppeldecker-katze/2025-09-27/
LOCATION:Katze\, Gerberstraße 14\, Würzburg\, 97070\, Deutschland
CATEGORIES:Club Event
ATTACH;FMTTYPE=image/png:https://wuewasgeht.com/wp-content/uploads/2023/07/Katze_3-1.png
END:VEVENT
BEGIN:VEVENT
DTSTART;TZID=Europe/Berlin:20250927T220000
DTEND;TZID=Europe/Berlin:20250928T050000
DTSTAMP:20260425T193509
CREATED:20231128T121115Z
LAST-MODIFIED:20250225T190845Z
UID:10002720-1759010400-1759035600@wuewasgeht.com
SUMMARY:Sippin Saturday
DESCRIPTION:Sippin Saturday\nBoot\n  \n🔞 Ab 18 \n🎵 Mixed Music \n🍸 Happy Hour bis 24 Uhr \n💶 10€\, für Schüler und Studenten bis 24 Uhr: 5€ \n  \nFoto: Club Boot Würzburg
URL:https://wuewasgeht.com/events/sippin-saturday-boot/2025-09-27/
LOCATION:Boot\, Veitshöchheimer Str. 5c\, Würzburg\, 97080\, Deutschland
CATEGORIES:Club Event
ATTACH;FMTTYPE=image/png:https://wuewasgeht.com/wp-content/uploads/2023/07/Boot_3.png
END:VEVENT
BEGIN:VEVENT
DTSTART;TZID=Europe/Berlin:20250926T220000
DTEND;TZID=Europe/Berlin:20250927T050000
DTSTAMP:20260425T193509
CREATED:20231129T152151Z
LAST-MODIFIED:20250225T190751Z
UID:10002460-1758924000-1758949200@wuewasgeht.com
SUMMARY:Finally Friday
DESCRIPTION:Finally Friday\nBoot\n  \n🔞 Ab 18 \n🎵 Mixed Music \n🍸 Happy Hour bis 24 Uhr \n💶 9€\, für Schüler und Studenten bis 24 Uhr: 5€ \n  \nFoto: Club Boot Würzburg
URL:https://wuewasgeht.com/events/finally-friday-boot/2025-09-26/
LOCATION:Boot\, Veitshöchheimer Str. 5c\, Würzburg\, 97080\, Deutschland
CATEGORIES:Club Event
ATTACH;FMTTYPE=image/png:https://wuewasgeht.com/wp-content/uploads/2023/07/Boot_finallyfriday.png
END:VEVENT
BEGIN:VEVENT
DTSTART;TZID=Europe/Berlin:20250925T220000
DTEND;TZID=Europe/Berlin:20250926T050000
DTSTAMP:20260425T193509
CREATED:20231129T151551Z
LAST-MODIFIED:20240130T105720Z
UID:10002200-1758837600-1758862800@wuewasgeht.com
SUMMARY:Thirsty Thursday
DESCRIPTION:Thirsty Thursday\nBoot\n  \n🔞 Ab 18 \n🎵 Mixed Music \n🍸 Happy Hour \n💶 Eintritt: 5€\, für Schüler und Studenten bis 24 Uhr for free \n  \nFoto: Club Boot Würzburg
URL:https://wuewasgeht.com/events/thirsty-thursday-boot/2025-09-25/
LOCATION:Boot\, Veitshöchheimer Str. 5c\, Würzburg\, 97080\, Deutschland
CATEGORIES:Club Event
ATTACH;FMTTYPE=image/png:https://wuewasgeht.com/wp-content/uploads/2023/07/Boot_ThirstyThursday.png
END:VEVENT
BEGIN:VEVENT
DTSTART;TZID=Europe/Berlin:20250924T230000
DTEND;TZID=Europe/Berlin:20250925T050000
DTSTAMP:20260425T193509
CREATED:20231129T155931Z
LAST-MODIFIED:20240612T165702Z
UID:10004029-1758754800-1758776400@wuewasgeht.com
SUMMARY:Mittwochsdouble
DESCRIPTION:Mittwochsdouble\nOdeon-Lounge\n  \n🔞 Ab 18 \n🎵 Mixed Music \n🍸 Doppeldecker \n💶 Free Entry 23:00 – 00:00\, Free Entry mit tagesaktueller Nushu Rechnung \n  \nV.I.P – Lounge/Tischreservierungen unter: info@odeon-lounge.de oder https://odeon-lounge.de/vip-lounge/
URL:https://wuewasgeht.com/events/mittwochsdouble-odeon-lounge/2025-09-24/
LOCATION:Odeon Lounge\, Augustinerstraße 18\, Würzburg\, 97070\, Deutschland
CATEGORIES:Club Event
END:VEVENT
BEGIN:VEVENT
DTSTART;TZID=Europe/Berlin:20250923T220000
DTEND;TZID=Europe/Berlin:20250924T050000
DTSTAMP:20260425T193509
CREATED:20231130T093555Z
LAST-MODIFIED:20240130T105652Z
UID:10001939-1758664800-1758690000@wuewasgeht.com
SUMMARY:Studi Dienstag
DESCRIPTION:Studi Dienstag\nBombe\n  \n🔞 Ab 18 \n🎵 Mixed Music \n🍸 Longdrink 5.50€\, Bier 2.50€\, Schnaps 1.50€* \n💶 Free Entry \n  \n*Gilt nur für ausgewählte Spirituosen & Filler\nFoto: Club Bombe Würzburg
URL:https://wuewasgeht.com/events/studi-dienstag-bombe/2025-09-23/
LOCATION:Bombe\, Marienpl. 5\, Würzburg\, 97070\, Deutschland
CATEGORIES:Club Event
ATTACH;FMTTYPE=image/png:https://wuewasgeht.com/wp-content/uploads/2023/07/Bombe_1.png
END:VEVENT
BEGIN:VEVENT
DTSTART;TZID=Europe/Berlin:20250920T230000
DTEND;TZID=Europe/Berlin:20250921T050000
DTSTAMP:20260425T193509
CREATED:20231130T083525Z
LAST-MODIFIED:20240130T105918Z
UID:10003248-1758409200-1758430800@wuewasgeht.com
SUMMARY:Doppeldecker & Tanz
DESCRIPTION:Doppeldecker & Tanz\nKatze\n  \n🔞 Ab 18 \n🎵 Mixed Music \n🍸 Doppeldecker \n  \nFoto: Club Katze Würzburg
URL:https://wuewasgeht.com/events/doppeldecker-katze/2025-09-20/
LOCATION:Katze\, Gerberstraße 14\, Würzburg\, 97070\, Deutschland
CATEGORIES:Club Event
ATTACH;FMTTYPE=image/png:https://wuewasgeht.com/wp-content/uploads/2023/07/Katze_3-1.png
END:VEVENT
BEGIN:VEVENT
DTSTART;TZID=Europe/Berlin:20250920T220000
DTEND;TZID=Europe/Berlin:20250921T050000
DTSTAMP:20260425T193510
CREATED:20231128T121115Z
LAST-MODIFIED:20250225T190845Z
UID:10002719-1758405600-1758430800@wuewasgeht.com
SUMMARY:Sippin Saturday
DESCRIPTION:Sippin Saturday\nBoot\n  \n🔞 Ab 18 \n🎵 Mixed Music \n🍸 Happy Hour bis 24 Uhr \n💶 10€\, für Schüler und Studenten bis 24 Uhr: 5€ \n  \nFoto: Club Boot Würzburg
URL:https://wuewasgeht.com/events/sippin-saturday-boot/2025-09-20/
LOCATION:Boot\, Veitshöchheimer Str. 5c\, Würzburg\, 97080\, Deutschland
CATEGORIES:Club Event
ATTACH;FMTTYPE=image/png:https://wuewasgeht.com/wp-content/uploads/2023/07/Boot_3.png
END:VEVENT
BEGIN:VEVENT
DTSTART;TZID=Europe/Berlin:20250919T220000
DTEND;TZID=Europe/Berlin:20250920T050000
DTSTAMP:20260425T193510
CREATED:20231129T152151Z
LAST-MODIFIED:20250225T190751Z
UID:10002459-1758319200-1758344400@wuewasgeht.com
SUMMARY:Finally Friday
DESCRIPTION:Finally Friday\nBoot\n  \n🔞 Ab 18 \n🎵 Mixed Music \n🍸 Happy Hour bis 24 Uhr \n💶 9€\, für Schüler und Studenten bis 24 Uhr: 5€ \n  \nFoto: Club Boot Würzburg
URL:https://wuewasgeht.com/events/finally-friday-boot/2025-09-19/
LOCATION:Boot\, Veitshöchheimer Str. 5c\, Würzburg\, 97080\, Deutschland
CATEGORIES:Club Event
ATTACH;FMTTYPE=image/png:https://wuewasgeht.com/wp-content/uploads/2023/07/Boot_finallyfriday.png
END:VEVENT
BEGIN:VEVENT
DTSTART;TZID=Europe/Berlin:20250918T220000
DTEND;TZID=Europe/Berlin:20250919T050000
DTSTAMP:20260425T193510
CREATED:20231129T151551Z
LAST-MODIFIED:20240130T105720Z
UID:10002199-1758232800-1758258000@wuewasgeht.com
SUMMARY:Thirsty Thursday
DESCRIPTION:Thirsty Thursday\nBoot\n  \n🔞 Ab 18 \n🎵 Mixed Music \n🍸 Happy Hour \n💶 Eintritt: 5€\, für Schüler und Studenten bis 24 Uhr for free \n  \nFoto: Club Boot Würzburg
URL:https://wuewasgeht.com/events/thirsty-thursday-boot/2025-09-18/
LOCATION:Boot\, Veitshöchheimer Str. 5c\, Würzburg\, 97080\, Deutschland
CATEGORIES:Club Event
ATTACH;FMTTYPE=image/png:https://wuewasgeht.com/wp-content/uploads/2023/07/Boot_ThirstyThursday.png
END:VEVENT
BEGIN:VEVENT
DTSTART;TZID=Europe/Berlin:20250917T230000
DTEND;TZID=Europe/Berlin:20250918T050000
DTSTAMP:20260425T193510
CREATED:20231129T155931Z
LAST-MODIFIED:20240612T165702Z
UID:10004028-1758150000-1758171600@wuewasgeht.com
SUMMARY:Mittwochsdouble
DESCRIPTION:Mittwochsdouble\nOdeon-Lounge\n  \n🔞 Ab 18 \n🎵 Mixed Music \n🍸 Doppeldecker \n💶 Free Entry 23:00 – 00:00\, Free Entry mit tagesaktueller Nushu Rechnung \n  \nV.I.P – Lounge/Tischreservierungen unter: info@odeon-lounge.de oder https://odeon-lounge.de/vip-lounge/
URL:https://wuewasgeht.com/events/mittwochsdouble-odeon-lounge/2025-09-17/
LOCATION:Odeon Lounge\, Augustinerstraße 18\, Würzburg\, 97070\, Deutschland
CATEGORIES:Club Event
END:VEVENT
BEGIN:VEVENT
DTSTART;TZID=Europe/Berlin:20250916T220000
DTEND;TZID=Europe/Berlin:20250917T050000
DTSTAMP:20260425T193510
CREATED:20231130T093555Z
LAST-MODIFIED:20240130T105652Z
UID:10001938-1758060000-1758085200@wuewasgeht.com
SUMMARY:Studi Dienstag
DESCRIPTION:Studi Dienstag\nBombe\n  \n🔞 Ab 18 \n🎵 Mixed Music \n🍸 Longdrink 5.50€\, Bier 2.50€\, Schnaps 1.50€* \n💶 Free Entry \n  \n*Gilt nur für ausgewählte Spirituosen & Filler\nFoto: Club Bombe Würzburg
URL:https://wuewasgeht.com/events/studi-dienstag-bombe/2025-09-16/
LOCATION:Bombe\, Marienpl. 5\, Würzburg\, 97070\, Deutschland
CATEGORIES:Club Event
ATTACH;FMTTYPE=image/png:https://wuewasgeht.com/wp-content/uploads/2023/07/Bombe_1.png
END:VEVENT
BEGIN:VEVENT
DTSTART;TZID=Europe/Berlin:20250913T230000
DTEND;TZID=Europe/Berlin:20250914T050000
DTSTAMP:20260425T193510
CREATED:20231130T083525Z
LAST-MODIFIED:20240130T105918Z
UID:10003247-1757804400-1757826000@wuewasgeht.com
SUMMARY:Doppeldecker & Tanz
DESCRIPTION:Doppeldecker & Tanz\nKatze\n  \n🔞 Ab 18 \n🎵 Mixed Music \n🍸 Doppeldecker \n  \nFoto: Club Katze Würzburg
URL:https://wuewasgeht.com/events/doppeldecker-katze/2025-09-13/
LOCATION:Katze\, Gerberstraße 14\, Würzburg\, 97070\, Deutschland
CATEGORIES:Club Event
ATTACH;FMTTYPE=image/png:https://wuewasgeht.com/wp-content/uploads/2023/07/Katze_3-1.png
END:VEVENT
BEGIN:VEVENT
DTSTART;TZID=Europe/Berlin:20250913T220000
DTEND;TZID=Europe/Berlin:20250914T050000
DTSTAMP:20260425T193510
CREATED:20231128T121115Z
LAST-MODIFIED:20250225T190845Z
UID:10002718-1757800800-1757826000@wuewasgeht.com
SUMMARY:Sippin Saturday
DESCRIPTION:Sippin Saturday\nBoot\n  \n🔞 Ab 18 \n🎵 Mixed Music \n🍸 Happy Hour bis 24 Uhr \n💶 10€\, für Schüler und Studenten bis 24 Uhr: 5€ \n  \nFoto: Club Boot Würzburg
URL:https://wuewasgeht.com/events/sippin-saturday-boot/2025-09-13/
LOCATION:Boot\, Veitshöchheimer Str. 5c\, Würzburg\, 97080\, Deutschland
CATEGORIES:Club Event
ATTACH;FMTTYPE=image/png:https://wuewasgeht.com/wp-content/uploads/2023/07/Boot_3.png
END:VEVENT
BEGIN:VEVENT
DTSTART;TZID=Europe/Berlin:20250913T210000
DTEND;TZID=Europe/Berlin:20250914T050000
DTSTAMP:20260425T193510
CREATED:20250910T153659Z
LAST-MODIFIED:20250910T153659Z
UID:10011937-1757797200-1757826000@wuewasgeht.com
SUMMARY:Aftair Eight pres.
DESCRIPTION:Aftair Eight pres. Summer Party\nAirport\n  \n🔞 Ab 16 \n🎵 Mixed Music/Hip-Hop/RnB \n🍸 Vodka Bull 5\,50€\, Alle Biere 3€ \n🎧 DJ G.O.G \n💶 Free Entry mit Schülerausweis bis 23:00uhr \n🎫 Tickets \n  \nFoto: Club Airport Würzburg
URL:https://wuewasgeht.com/events/aftair-eight-pres/
LOCATION:Airport\, Gattingerstraße 17\, Würzburg\, 97076\, Deutschland
CATEGORIES:Club Event
END:VEVENT
BEGIN:VEVENT
DTSTART;TZID=Europe/Berlin:20250912T220000
DTEND;TZID=Europe/Berlin:20250913T050000
DTSTAMP:20260425T193510
CREATED:20250910T153818Z
LAST-MODIFIED:20250910T153818Z
UID:10011942-1757714400-1757739600@wuewasgeht.com
SUMMARY:FRIYAY
DESCRIPTION:FRIYAY\n\n\n\nOdeon\n  \n🔞 Ab 16 \n🎵 Mixed Music \n🍸 Würzburger Hofbräu nur 2\,50 € \n💶 Eintritt 5€ \n🎧 DJ Enjoey
URL:https://wuewasgeht.com/events/friyay-2/
LOCATION:Odeon Lounge\, Augustinerstraße 18\, Würzburg\, 97070\, Deutschland
CATEGORIES:Club Event
END:VEVENT
BEGIN:VEVENT
DTSTART;TZID=Europe/Berlin:20250912T220000
DTEND;TZID=Europe/Berlin:20250913T050000
DTSTAMP:20260425T193510
CREATED:20231129T152151Z
LAST-MODIFIED:20250225T190751Z
UID:10002458-1757714400-1757739600@wuewasgeht.com
SUMMARY:Finally Friday
DESCRIPTION:Finally Friday\nBoot\n  \n🔞 Ab 18 \n🎵 Mixed Music \n🍸 Happy Hour bis 24 Uhr \n💶 9€\, für Schüler und Studenten bis 24 Uhr: 5€ \n  \nFoto: Club Boot Würzburg
URL:https://wuewasgeht.com/events/finally-friday-boot/2025-09-12/
LOCATION:Boot\, Veitshöchheimer Str. 5c\, Würzburg\, 97080\, Deutschland
CATEGORIES:Club Event
ATTACH;FMTTYPE=image/png:https://wuewasgeht.com/wp-content/uploads/2023/07/Boot_finallyfriday.png
END:VEVENT
BEGIN:VEVENT
DTSTART;TZID=Europe/Berlin:20250911T220000
DTEND;TZID=Europe/Berlin:20250912T050000
DTSTAMP:20260425T193510
CREATED:20231129T151551Z
LAST-MODIFIED:20240130T105720Z
UID:10002198-1757628000-1757653200@wuewasgeht.com
SUMMARY:Thirsty Thursday
DESCRIPTION:Thirsty Thursday\nBoot\n  \n🔞 Ab 18 \n🎵 Mixed Music \n🍸 Happy Hour \n💶 Eintritt: 5€\, für Schüler und Studenten bis 24 Uhr for free \n  \nFoto: Club Boot Würzburg
URL:https://wuewasgeht.com/events/thirsty-thursday-boot/2025-09-11/
LOCATION:Boot\, Veitshöchheimer Str. 5c\, Würzburg\, 97080\, Deutschland
CATEGORIES:Club Event
ATTACH;FMTTYPE=image/png:https://wuewasgeht.com/wp-content/uploads/2023/07/Boot_ThirstyThursday.png
END:VEVENT
BEGIN:VEVENT
DTSTART;TZID=Europe/Berlin:20250910T230000
DTEND;TZID=Europe/Berlin:20250911T050000
DTSTAMP:20260425T193510
CREATED:20231129T155931Z
LAST-MODIFIED:20240612T165702Z
UID:10004027-1757545200-1757566800@wuewasgeht.com
SUMMARY:Mittwochsdouble
DESCRIPTION:Mittwochsdouble\nOdeon-Lounge\n  \n🔞 Ab 18 \n🎵 Mixed Music \n🍸 Doppeldecker \n💶 Free Entry 23:00 – 00:00\, Free Entry mit tagesaktueller Nushu Rechnung \n  \nV.I.P – Lounge/Tischreservierungen unter: info@odeon-lounge.de oder https://odeon-lounge.de/vip-lounge/
URL:https://wuewasgeht.com/events/mittwochsdouble-odeon-lounge/2025-09-10/
LOCATION:Odeon Lounge\, Augustinerstraße 18\, Würzburg\, 97070\, Deutschland
CATEGORIES:Club Event
END:VEVENT
BEGIN:VEVENT
DTSTART;TZID=Europe/Berlin:20250909T220000
DTEND;TZID=Europe/Berlin:20250910T050000
DTSTAMP:20260425T193510
CREATED:20231130T093555Z
LAST-MODIFIED:20240130T105652Z
UID:10001937-1757455200-1757480400@wuewasgeht.com
SUMMARY:Studi Dienstag
DESCRIPTION:Studi Dienstag\nBombe\n  \n🔞 Ab 18 \n🎵 Mixed Music \n🍸 Longdrink 5.50€\, Bier 2.50€\, Schnaps 1.50€* \n💶 Free Entry \n  \n*Gilt nur für ausgewählte Spirituosen & Filler\nFoto: Club Bombe Würzburg
URL:https://wuewasgeht.com/events/studi-dienstag-bombe/2025-09-09/
LOCATION:Bombe\, Marienpl. 5\, Würzburg\, 97070\, Deutschland
CATEGORIES:Club Event
ATTACH;FMTTYPE=image/png:https://wuewasgeht.com/wp-content/uploads/2023/07/Bombe_1.png
END:VEVENT
BEGIN:VEVENT
DTSTART;TZID=Europe/Berlin:20250906T230000
DTEND;TZID=Europe/Berlin:20250907T050000
DTSTAMP:20260425T193510
CREATED:20231130T083525Z
LAST-MODIFIED:20240130T105918Z
UID:10003246-1757199600-1757221200@wuewasgeht.com
SUMMARY:Doppeldecker & Tanz
DESCRIPTION:Doppeldecker & Tanz\nKatze\n  \n🔞 Ab 18 \n🎵 Mixed Music \n🍸 Doppeldecker \n  \nFoto: Club Katze Würzburg
URL:https://wuewasgeht.com/events/doppeldecker-katze/2025-09-06/
LOCATION:Katze\, Gerberstraße 14\, Würzburg\, 97070\, Deutschland
CATEGORIES:Club Event
ATTACH;FMTTYPE=image/png:https://wuewasgeht.com/wp-content/uploads/2023/07/Katze_3-1.png
END:VEVENT
BEGIN:VEVENT
DTSTART;TZID=Europe/Berlin:20250906T220000
DTEND;TZID=Europe/Berlin:20250907T050000
DTSTAMP:20260425T193510
CREATED:20231128T121115Z
LAST-MODIFIED:20250225T190845Z
UID:10002717-1757196000-1757221200@wuewasgeht.com
SUMMARY:Sippin Saturday
DESCRIPTION:Sippin Saturday\nBoot\n  \n🔞 Ab 18 \n🎵 Mixed Music \n🍸 Happy Hour bis 24 Uhr \n💶 10€\, für Schüler und Studenten bis 24 Uhr: 5€ \n  \nFoto: Club Boot Würzburg
URL:https://wuewasgeht.com/events/sippin-saturday-boot/2025-09-06/
LOCATION:Boot\, Veitshöchheimer Str. 5c\, Würzburg\, 97080\, Deutschland
CATEGORIES:Club Event
ATTACH;FMTTYPE=image/png:https://wuewasgeht.com/wp-content/uploads/2023/07/Boot_3.png
END:VEVENT
BEGIN:VEVENT
DTSTART;TZID=Europe/Berlin:20250906T200000
DTEND;TZID=Europe/Berlin:20250907T050000
DTSTAMP:20260425T193510
CREATED:20250905T140849Z
LAST-MODIFIED:20250905T140849Z
UID:10011929-1757188800-1757221200@wuewasgeht.com
SUMMARY:Elternabend
DESCRIPTION:Elternabend\nAirport\n  \n🔞 Ab 25 \n🎵 Mixed Music\, House\, Trance\, Techno \n🎧 DJ Early\, DJ T.MO \n🍸Begrüßungssekt inklusive (bis 21:00) \n🎫 Tickets \n  \nFoto: Club Airport Würzburg
URL:https://wuewasgeht.com/events/elternabend/
LOCATION:Airport\, Gattingerstraße 17\, Würzburg\, 97076\, Deutschland
CATEGORIES:Club Event
ATTACH;FMTTYPE=image/jpeg:https://wuewasgeht.com/wp-content/uploads/2025/09/Elternabend.jpg
END:VEVENT
BEGIN:VEVENT
DTSTART;TZID=Europe/Berlin:20250905T230000
DTEND;TZID=Europe/Berlin:20250906T050000
DTSTAMP:20260425T193510
CREATED:20250905T141131Z
LAST-MODIFIED:20250905T141131Z
UID:10011933-1757113200-1757134800@wuewasgeht.com
SUMMARY:Fiesta Latina
DESCRIPTION:Fiesta Latina\n\n\n\nOdeon Lounge\n  \n🔞 Ab 18 \n🎵 Dancehall & Reggeaton \n🍸 Tequila 1\,50 €
URL:https://wuewasgeht.com/events/fiesta-latina/
LOCATION:Odeon Lounge\, Augustinerstraße 18\, Würzburg\, 97070\, Deutschland
CATEGORIES:Club Event
END:VEVENT
BEGIN:VEVENT
DTSTART;TZID=Europe/Berlin:20250905T220000
DTEND;TZID=Europe/Berlin:20250906T050000
DTSTAMP:20260425T193510
CREATED:20250905T140403Z
LAST-MODIFIED:20250905T141049Z
UID:10011931-1757109600-1757134800@wuewasgeht.com
SUMMARY:Ladies Night
DESCRIPTION:Ladies Night\nBombe\n  \n🔞 Ab 18 \n🎵 Mixed Music \n🍸 Spritz Getränke 5\,50€ \n💶 Freier Eintritt for Ladys
URL:https://wuewasgeht.com/events/ladies-night-2/
LOCATION:Bombe\, Marienpl. 5\, Würzburg\, 97070\, Deutschland
CATEGORIES:Club Event
ATTACH;FMTTYPE=image/jpeg:https://wuewasgeht.com/wp-content/uploads/2025/09/Ladies-3.jpg
END:VEVENT
BEGIN:VEVENT
DTSTART;TZID=Europe/Berlin:20250905T220000
DTEND;TZID=Europe/Berlin:20250906T050000
DTSTAMP:20260425T193510
CREATED:20231129T152151Z
LAST-MODIFIED:20250225T190751Z
UID:10002457-1757109600-1757134800@wuewasgeht.com
SUMMARY:Finally Friday
DESCRIPTION:Finally Friday\nBoot\n  \n🔞 Ab 18 \n🎵 Mixed Music \n🍸 Happy Hour bis 24 Uhr \n💶 9€\, für Schüler und Studenten bis 24 Uhr: 5€ \n  \nFoto: Club Boot Würzburg
URL:https://wuewasgeht.com/events/finally-friday-boot/2025-09-05/
LOCATION:Boot\, Veitshöchheimer Str. 5c\, Würzburg\, 97080\, Deutschland
CATEGORIES:Club Event
ATTACH;FMTTYPE=image/png:https://wuewasgeht.com/wp-content/uploads/2023/07/Boot_finallyfriday.png
END:VEVENT
BEGIN:VEVENT
DTSTART;TZID=Europe/Berlin:20250904T220000
DTEND;TZID=Europe/Berlin:20250905T050000
DTSTAMP:20260425T193510
CREATED:20231129T151551Z
LAST-MODIFIED:20240130T105720Z
UID:10002197-1757023200-1757048400@wuewasgeht.com
SUMMARY:Thirsty Thursday
DESCRIPTION:Thirsty Thursday\nBoot\n  \n🔞 Ab 18 \n🎵 Mixed Music \n🍸 Happy Hour \n💶 Eintritt: 5€\, für Schüler und Studenten bis 24 Uhr for free \n  \nFoto: Club Boot Würzburg
URL:https://wuewasgeht.com/events/thirsty-thursday-boot/2025-09-04/
LOCATION:Boot\, Veitshöchheimer Str. 5c\, Würzburg\, 97080\, Deutschland
CATEGORIES:Club Event
ATTACH;FMTTYPE=image/png:https://wuewasgeht.com/wp-content/uploads/2023/07/Boot_ThirstyThursday.png
END:VEVENT
BEGIN:VEVENT
DTSTART;TZID=Europe/Berlin:20250903T230000
DTEND;TZID=Europe/Berlin:20250904T050000
DTSTAMP:20260425T193510
CREATED:20231129T155931Z
LAST-MODIFIED:20240612T165702Z
UID:10004026-1756940400-1756962000@wuewasgeht.com
SUMMARY:Mittwochsdouble
DESCRIPTION:Mittwochsdouble\nOdeon-Lounge\n  \n🔞 Ab 18 \n🎵 Mixed Music \n🍸 Doppeldecker \n💶 Free Entry 23:00 – 00:00\, Free Entry mit tagesaktueller Nushu Rechnung \n  \nV.I.P – Lounge/Tischreservierungen unter: info@odeon-lounge.de oder https://odeon-lounge.de/vip-lounge/
URL:https://wuewasgeht.com/events/mittwochsdouble-odeon-lounge/2025-09-03/
LOCATION:Odeon Lounge\, Augustinerstraße 18\, Würzburg\, 97070\, Deutschland
CATEGORIES:Club Event
END:VEVENT
BEGIN:VEVENT
DTSTART;TZID=Europe/Berlin:20250902T220000
DTEND;TZID=Europe/Berlin:20250903T050000
DTSTAMP:20260425T193510
CREATED:20231130T093555Z
LAST-MODIFIED:20240130T105652Z
UID:10001936-1756850400-1756875600@wuewasgeht.com
SUMMARY:Studi Dienstag
DESCRIPTION:Studi Dienstag\nBombe\n  \n🔞 Ab 18 \n🎵 Mixed Music \n🍸 Longdrink 5.50€\, Bier 2.50€\, Schnaps 1.50€* \n💶 Free Entry \n  \n*Gilt nur für ausgewählte Spirituosen & Filler\nFoto: Club Bombe Würzburg
URL:https://wuewasgeht.com/events/studi-dienstag-bombe/2025-09-02/
LOCATION:Bombe\, Marienpl. 5\, Würzburg\, 97070\, Deutschland
CATEGORIES:Club Event
ATTACH;FMTTYPE=image/png:https://wuewasgeht.com/wp-content/uploads/2023/07/Bombe_1.png
END:VEVENT
BEGIN:VEVENT
DTSTART;TZID=Europe/Berlin:20250830T230000
DTEND;TZID=Europe/Berlin:20250831T050000
DTSTAMP:20260425T193510
CREATED:20231130T083525Z
LAST-MODIFIED:20240130T105918Z
UID:10003245-1756594800-1756616400@wuewasgeht.com
SUMMARY:Doppeldecker & Tanz
DESCRIPTION:Doppeldecker & Tanz\nKatze\n  \n🔞 Ab 18 \n🎵 Mixed Music \n🍸 Doppeldecker \n  \nFoto: Club Katze Würzburg
URL:https://wuewasgeht.com/events/doppeldecker-katze/2025-08-30/
LOCATION:Katze\, Gerberstraße 14\, Würzburg\, 97070\, Deutschland
CATEGORIES:Club Event
ATTACH;FMTTYPE=image/png:https://wuewasgeht.com/wp-content/uploads/2023/07/Katze_3-1.png
END:VEVENT
END:VCALENDAR