BEGIN:VCALENDAR
VERSION:2.0
PRODID:-//WueWasGeht - ECPv6.11.2.1//NONSGML v1.0//EN
CALSCALE:GREGORIAN
METHOD:PUBLISH
X-ORIGINAL-URL:https://wuewasgeht.com
X-WR-CALDESC:Veranstaltungen für WueWasGeht
REFRESH-INTERVAL;VALUE=DURATION:PT1H
X-Robots-Tag:noindex
X-PUBLISHED-TTL:PT1H
BEGIN:VTIMEZONE
TZID:Europe/Berlin
BEGIN:DAYLIGHT
TZOFFSETFROM:+0100
TZOFFSETTO:+0200
TZNAME:CEST
DTSTART:20250330T010000
END:DAYLIGHT
BEGIN:STANDARD
TZOFFSETFROM:+0200
TZOFFSETTO:+0100
TZNAME:CET
DTSTART:20251026T010000
END:STANDARD
END:VTIMEZONE
BEGIN:VEVENT
DTSTART;TZID=Europe/Berlin:20250905T220000
DTEND;TZID=Europe/Berlin:20250906T050000
DTSTAMP:20260425T225923
CREATED:20250905T140403Z
LAST-MODIFIED:20250905T141049Z
UID:10011931-1757109600-1757134800@wuewasgeht.com
SUMMARY:Ladies Night
DESCRIPTION:Ladies Night\nBombe\n  \n🔞 Ab 18 \n🎵 Mixed Music \n🍸 Spritz Getränke 5\,50€ \n💶 Freier Eintritt for Ladys
URL:https://wuewasgeht.com/events/ladies-night-2/
LOCATION:Bombe\, Marienpl. 5\, Würzburg\, 97070\, Deutschland
CATEGORIES:Club Event
ATTACH;FMTTYPE=image/jpeg:https://wuewasgeht.com/wp-content/uploads/2025/09/Ladies-3.jpg
END:VEVENT
BEGIN:VEVENT
DTSTART;TZID=Europe/Berlin:20250905T220000
DTEND;TZID=Europe/Berlin:20250906T050000
DTSTAMP:20260425T225923
CREATED:20231129T152151Z
LAST-MODIFIED:20250225T190751Z
UID:10002457-1757109600-1757134800@wuewasgeht.com
SUMMARY:Finally Friday
DESCRIPTION:Finally Friday\nBoot\n  \n🔞 Ab 18 \n🎵 Mixed Music \n🍸 Happy Hour bis 24 Uhr \n💶 9€\, für Schüler und Studenten bis 24 Uhr: 5€ \n  \nFoto: Club Boot Würzburg
URL:https://wuewasgeht.com/events/finally-friday-boot/2025-09-05/
LOCATION:Boot\, Veitshöchheimer Str. 5c\, Würzburg\, 97080\, Deutschland
CATEGORIES:Club Event
ATTACH;FMTTYPE=image/png:https://wuewasgeht.com/wp-content/uploads/2023/07/Boot_finallyfriday.png
END:VEVENT
BEGIN:VEVENT
DTSTART;TZID=Europe/Berlin:20250904T220000
DTEND;TZID=Europe/Berlin:20250905T050000
DTSTAMP:20260425T225923
CREATED:20231129T151551Z
LAST-MODIFIED:20240130T105720Z
UID:10002197-1757023200-1757048400@wuewasgeht.com
SUMMARY:Thirsty Thursday
DESCRIPTION:Thirsty Thursday\nBoot\n  \n🔞 Ab 18 \n🎵 Mixed Music \n🍸 Happy Hour \n💶 Eintritt: 5€\, für Schüler und Studenten bis 24 Uhr for free \n  \nFoto: Club Boot Würzburg
URL:https://wuewasgeht.com/events/thirsty-thursday-boot/2025-09-04/
LOCATION:Boot\, Veitshöchheimer Str. 5c\, Würzburg\, 97080\, Deutschland
CATEGORIES:Club Event
ATTACH;FMTTYPE=image/png:https://wuewasgeht.com/wp-content/uploads/2023/07/Boot_ThirstyThursday.png
END:VEVENT
BEGIN:VEVENT
DTSTART;TZID=Europe/Berlin:20250903T230000
DTEND;TZID=Europe/Berlin:20250904T050000
DTSTAMP:20260425T225923
CREATED:20231129T155931Z
LAST-MODIFIED:20240612T165702Z
UID:10004026-1756940400-1756962000@wuewasgeht.com
SUMMARY:Mittwochsdouble
DESCRIPTION:Mittwochsdouble\nOdeon-Lounge\n  \n🔞 Ab 18 \n🎵 Mixed Music \n🍸 Doppeldecker \n💶 Free Entry 23:00 – 00:00\, Free Entry mit tagesaktueller Nushu Rechnung \n  \nV.I.P – Lounge/Tischreservierungen unter: info@odeon-lounge.de oder https://odeon-lounge.de/vip-lounge/
URL:https://wuewasgeht.com/events/mittwochsdouble-odeon-lounge/2025-09-03/
LOCATION:Odeon Lounge\, Augustinerstraße 18\, Würzburg\, 97070\, Deutschland
CATEGORIES:Club Event
END:VEVENT
BEGIN:VEVENT
DTSTART;TZID=Europe/Berlin:20250902T220000
DTEND;TZID=Europe/Berlin:20250903T050000
DTSTAMP:20260425T225923
CREATED:20231130T093555Z
LAST-MODIFIED:20240130T105652Z
UID:10001936-1756850400-1756875600@wuewasgeht.com
SUMMARY:Studi Dienstag
DESCRIPTION:Studi Dienstag\nBombe\n  \n🔞 Ab 18 \n🎵 Mixed Music \n🍸 Longdrink 5.50€\, Bier 2.50€\, Schnaps 1.50€* \n💶 Free Entry \n  \n*Gilt nur für ausgewählte Spirituosen & Filler\nFoto: Club Bombe Würzburg
URL:https://wuewasgeht.com/events/studi-dienstag-bombe/2025-09-02/
LOCATION:Bombe\, Marienpl. 5\, Würzburg\, 97070\, Deutschland
CATEGORIES:Club Event
ATTACH;FMTTYPE=image/png:https://wuewasgeht.com/wp-content/uploads/2023/07/Bombe_1.png
END:VEVENT
BEGIN:VEVENT
DTSTART;TZID=Europe/Berlin:20250830T230000
DTEND;TZID=Europe/Berlin:20250831T050000
DTSTAMP:20260425T225923
CREATED:20231130T083525Z
LAST-MODIFIED:20240130T105918Z
UID:10003245-1756594800-1756616400@wuewasgeht.com
SUMMARY:Doppeldecker & Tanz
DESCRIPTION:Doppeldecker & Tanz\nKatze\n  \n🔞 Ab 18 \n🎵 Mixed Music \n🍸 Doppeldecker \n  \nFoto: Club Katze Würzburg
URL:https://wuewasgeht.com/events/doppeldecker-katze/2025-08-30/
LOCATION:Katze\, Gerberstraße 14\, Würzburg\, 97070\, Deutschland
CATEGORIES:Club Event
ATTACH;FMTTYPE=image/png:https://wuewasgeht.com/wp-content/uploads/2023/07/Katze_3-1.png
END:VEVENT
BEGIN:VEVENT
DTSTART;TZID=Europe/Berlin:20250830T220000
DTEND;TZID=Europe/Berlin:20250831T050000
DTSTAMP:20260425T225923
CREATED:20231128T121115Z
LAST-MODIFIED:20250225T190845Z
UID:10002716-1756591200-1756616400@wuewasgeht.com
SUMMARY:Sippin Saturday
DESCRIPTION:Sippin Saturday\nBoot\n  \n🔞 Ab 18 \n🎵 Mixed Music \n🍸 Happy Hour bis 24 Uhr \n💶 10€\, für Schüler und Studenten bis 24 Uhr: 5€ \n  \nFoto: Club Boot Würzburg
URL:https://wuewasgeht.com/events/sippin-saturday-boot/2025-08-30/
LOCATION:Boot\, Veitshöchheimer Str. 5c\, Würzburg\, 97080\, Deutschland
CATEGORIES:Club Event
ATTACH;FMTTYPE=image/png:https://wuewasgeht.com/wp-content/uploads/2023/07/Boot_3.png
END:VEVENT
BEGIN:VEVENT
DTSTART;TZID=Europe/Berlin:20250829T220000
DTEND;TZID=Europe/Berlin:20250830T050000
DTSTAMP:20260425T225923
CREATED:20231129T152151Z
LAST-MODIFIED:20250225T190751Z
UID:10002456-1756504800-1756530000@wuewasgeht.com
SUMMARY:Finally Friday
DESCRIPTION:Finally Friday\nBoot\n  \n🔞 Ab 18 \n🎵 Mixed Music \n🍸 Happy Hour bis 24 Uhr \n💶 9€\, für Schüler und Studenten bis 24 Uhr: 5€ \n  \nFoto: Club Boot Würzburg
URL:https://wuewasgeht.com/events/finally-friday-boot/2025-08-29/
LOCATION:Boot\, Veitshöchheimer Str. 5c\, Würzburg\, 97080\, Deutschland
CATEGORIES:Club Event
ATTACH;FMTTYPE=image/png:https://wuewasgeht.com/wp-content/uploads/2023/07/Boot_finallyfriday.png
END:VEVENT
BEGIN:VEVENT
DTSTART;TZID=Europe/Berlin:20250828T220000
DTEND;TZID=Europe/Berlin:20250829T050000
DTSTAMP:20260425T225923
CREATED:20231129T151551Z
LAST-MODIFIED:20240130T105720Z
UID:10002196-1756418400-1756443600@wuewasgeht.com
SUMMARY:Thirsty Thursday
DESCRIPTION:Thirsty Thursday\nBoot\n  \n🔞 Ab 18 \n🎵 Mixed Music \n🍸 Happy Hour \n💶 Eintritt: 5€\, für Schüler und Studenten bis 24 Uhr for free \n  \nFoto: Club Boot Würzburg
URL:https://wuewasgeht.com/events/thirsty-thursday-boot/2025-08-28/
LOCATION:Boot\, Veitshöchheimer Str. 5c\, Würzburg\, 97080\, Deutschland
CATEGORIES:Club Event
ATTACH;FMTTYPE=image/png:https://wuewasgeht.com/wp-content/uploads/2023/07/Boot_ThirstyThursday.png
END:VEVENT
BEGIN:VEVENT
DTSTART;TZID=Europe/Berlin:20250827T230000
DTEND;TZID=Europe/Berlin:20250828T050000
DTSTAMP:20260425T225923
CREATED:20231129T155931Z
LAST-MODIFIED:20240612T165702Z
UID:10004025-1756335600-1756357200@wuewasgeht.com
SUMMARY:Mittwochsdouble
DESCRIPTION:Mittwochsdouble\nOdeon-Lounge\n  \n🔞 Ab 18 \n🎵 Mixed Music \n🍸 Doppeldecker \n💶 Free Entry 23:00 – 00:00\, Free Entry mit tagesaktueller Nushu Rechnung \n  \nV.I.P – Lounge/Tischreservierungen unter: info@odeon-lounge.de oder https://odeon-lounge.de/vip-lounge/
URL:https://wuewasgeht.com/events/mittwochsdouble-odeon-lounge/2025-08-27/
LOCATION:Odeon Lounge\, Augustinerstraße 18\, Würzburg\, 97070\, Deutschland
CATEGORIES:Club Event
END:VEVENT
BEGIN:VEVENT
DTSTART;TZID=Europe/Berlin:20250826T220000
DTEND;TZID=Europe/Berlin:20250827T050000
DTSTAMP:20260425T225923
CREATED:20231130T093555Z
LAST-MODIFIED:20240130T105652Z
UID:10001935-1756245600-1756270800@wuewasgeht.com
SUMMARY:Studi Dienstag
DESCRIPTION:Studi Dienstag\nBombe\n  \n🔞 Ab 18 \n🎵 Mixed Music \n🍸 Longdrink 5.50€\, Bier 2.50€\, Schnaps 1.50€* \n💶 Free Entry \n  \n*Gilt nur für ausgewählte Spirituosen & Filler\nFoto: Club Bombe Würzburg
URL:https://wuewasgeht.com/events/studi-dienstag-bombe/2025-08-26/
LOCATION:Bombe\, Marienpl. 5\, Würzburg\, 97070\, Deutschland
CATEGORIES:Club Event
ATTACH;FMTTYPE=image/png:https://wuewasgeht.com/wp-content/uploads/2023/07/Bombe_1.png
END:VEVENT
BEGIN:VEVENT
DTSTART;TZID=Europe/Berlin:20250823T230000
DTEND;TZID=Europe/Berlin:20250824T050000
DTSTAMP:20260425T225923
CREATED:20231130T083525Z
LAST-MODIFIED:20240130T105918Z
UID:10003244-1755990000-1756011600@wuewasgeht.com
SUMMARY:Doppeldecker & Tanz
DESCRIPTION:Doppeldecker & Tanz\nKatze\n  \n🔞 Ab 18 \n🎵 Mixed Music \n🍸 Doppeldecker \n  \nFoto: Club Katze Würzburg
URL:https://wuewasgeht.com/events/doppeldecker-katze/2025-08-23/
LOCATION:Katze\, Gerberstraße 14\, Würzburg\, 97070\, Deutschland
CATEGORIES:Club Event
ATTACH;FMTTYPE=image/png:https://wuewasgeht.com/wp-content/uploads/2023/07/Katze_3-1.png
END:VEVENT
BEGIN:VEVENT
DTSTART;TZID=Europe/Berlin:20250823T220000
DTEND;TZID=Europe/Berlin:20250824T050000
DTSTAMP:20260425T225923
CREATED:20231128T121115Z
LAST-MODIFIED:20250225T190845Z
UID:10002715-1755986400-1756011600@wuewasgeht.com
SUMMARY:Sippin Saturday
DESCRIPTION:Sippin Saturday\nBoot\n  \n🔞 Ab 18 \n🎵 Mixed Music \n🍸 Happy Hour bis 24 Uhr \n💶 10€\, für Schüler und Studenten bis 24 Uhr: 5€ \n  \nFoto: Club Boot Würzburg
URL:https://wuewasgeht.com/events/sippin-saturday-boot/2025-08-23/
LOCATION:Boot\, Veitshöchheimer Str. 5c\, Würzburg\, 97080\, Deutschland
CATEGORIES:Club Event
ATTACH;FMTTYPE=image/png:https://wuewasgeht.com/wp-content/uploads/2023/07/Boot_3.png
END:VEVENT
BEGIN:VEVENT
DTSTART;TZID=Europe/Berlin:20250822T220000
DTEND;TZID=Europe/Berlin:20250823T050000
DTSTAMP:20260425T225923
CREATED:20250819T154326Z
LAST-MODIFIED:20250819T155219Z
UID:10011918-1755900000-1755925200@wuewasgeht.com
SUMMARY:FRIYAY
DESCRIPTION:FRIYAY\n\n\n\nOdeon\n  \n🔞 Ab 16 \n🎵 Mixed Music \n🍸 Würzburger Hofbräu nur 2\,50 € \n💶 Eintritt 5€ \n🎧 DJ Poppiges
URL:https://wuewasgeht.com/events/friyay/
LOCATION:Odeon Lounge\, Augustinerstraße 18\, Würzburg\, 97070\, Deutschland
CATEGORIES:Club Event
ATTACH;FMTTYPE=image/jpeg:https://wuewasgeht.com/wp-content/uploads/2025/08/Odeon-Loung-FRIDAY.jpg
END:VEVENT
BEGIN:VEVENT
DTSTART;TZID=Europe/Berlin:20250822T220000
DTEND;TZID=Europe/Berlin:20250823T050000
DTSTAMP:20260425T225923
CREATED:20231129T152151Z
LAST-MODIFIED:20250225T190751Z
UID:10002455-1755900000-1755925200@wuewasgeht.com
SUMMARY:Finally Friday
DESCRIPTION:Finally Friday\nBoot\n  \n🔞 Ab 18 \n🎵 Mixed Music \n🍸 Happy Hour bis 24 Uhr \n💶 9€\, für Schüler und Studenten bis 24 Uhr: 5€ \n  \nFoto: Club Boot Würzburg
URL:https://wuewasgeht.com/events/finally-friday-boot/2025-08-22/
LOCATION:Boot\, Veitshöchheimer Str. 5c\, Würzburg\, 97080\, Deutschland
CATEGORIES:Club Event
ATTACH;FMTTYPE=image/png:https://wuewasgeht.com/wp-content/uploads/2023/07/Boot_finallyfriday.png
END:VEVENT
BEGIN:VEVENT
DTSTART;TZID=Europe/Berlin:20250822T210000
DTEND;TZID=Europe/Berlin:20250823T050000
DTSTAMP:20260425T225923
CREATED:20250819T154642Z
LAST-MODIFIED:20250819T154642Z
UID:10011914-1755896400-1755925200@wuewasgeht.com
SUMMARY:Jahrzehnte Party
DESCRIPTION:Jahrzehnte Party\nAirport\n  \n🔞 Ab 16 \n🎵 90er\, 2000er \n🍸 Bier 3€\, Longdrink 4\,50€ \n🎧 DJ G.O.G \n🎫 Tickets \n  \nFoto: Club Airport Würzburg
URL:https://wuewasgeht.com/events/jahrzehnte-party/
LOCATION:Airport\, Gattingerstraße 17\, Würzburg\, 97076\, Deutschland
CATEGORIES:Club Event
ATTACH;FMTTYPE=image/jpeg:https://wuewasgeht.com/wp-content/uploads/2025/08/525276196_1159683362860359_3041376517301667210_n.jpg
END:VEVENT
BEGIN:VEVENT
DTSTART;TZID=Europe/Berlin:20250821T220000
DTEND;TZID=Europe/Berlin:20250822T050000
DTSTAMP:20260425T225923
CREATED:20231129T151551Z
LAST-MODIFIED:20240130T105720Z
UID:10002195-1755813600-1755838800@wuewasgeht.com
SUMMARY:Thirsty Thursday
DESCRIPTION:Thirsty Thursday\nBoot\n  \n🔞 Ab 18 \n🎵 Mixed Music \n🍸 Happy Hour \n💶 Eintritt: 5€\, für Schüler und Studenten bis 24 Uhr for free \n  \nFoto: Club Boot Würzburg
URL:https://wuewasgeht.com/events/thirsty-thursday-boot/2025-08-21/
LOCATION:Boot\, Veitshöchheimer Str. 5c\, Würzburg\, 97080\, Deutschland
CATEGORIES:Club Event
ATTACH;FMTTYPE=image/png:https://wuewasgeht.com/wp-content/uploads/2023/07/Boot_ThirstyThursday.png
END:VEVENT
BEGIN:VEVENT
DTSTART;TZID=Europe/Berlin:20250820T230000
DTEND;TZID=Europe/Berlin:20250821T050000
DTSTAMP:20260425T225923
CREATED:20231129T155931Z
LAST-MODIFIED:20240612T165702Z
UID:10004024-1755730800-1755752400@wuewasgeht.com
SUMMARY:Mittwochsdouble
DESCRIPTION:Mittwochsdouble\nOdeon-Lounge\n  \n🔞 Ab 18 \n🎵 Mixed Music \n🍸 Doppeldecker \n💶 Free Entry 23:00 – 00:00\, Free Entry mit tagesaktueller Nushu Rechnung \n  \nV.I.P – Lounge/Tischreservierungen unter: info@odeon-lounge.de oder https://odeon-lounge.de/vip-lounge/
URL:https://wuewasgeht.com/events/mittwochsdouble-odeon-lounge/2025-08-20/
LOCATION:Odeon Lounge\, Augustinerstraße 18\, Würzburg\, 97070\, Deutschland
CATEGORIES:Club Event
END:VEVENT
BEGIN:VEVENT
DTSTART;TZID=Europe/Berlin:20250819T220000
DTEND;TZID=Europe/Berlin:20250820T050000
DTSTAMP:20260425T225923
CREATED:20231130T093555Z
LAST-MODIFIED:20240130T105652Z
UID:10001934-1755640800-1755666000@wuewasgeht.com
SUMMARY:Studi Dienstag
DESCRIPTION:Studi Dienstag\nBombe\n  \n🔞 Ab 18 \n🎵 Mixed Music \n🍸 Longdrink 5.50€\, Bier 2.50€\, Schnaps 1.50€* \n💶 Free Entry \n  \n*Gilt nur für ausgewählte Spirituosen & Filler\nFoto: Club Bombe Würzburg
URL:https://wuewasgeht.com/events/studi-dienstag-bombe/2025-08-19/
LOCATION:Bombe\, Marienpl. 5\, Würzburg\, 97070\, Deutschland
CATEGORIES:Club Event
ATTACH;FMTTYPE=image/png:https://wuewasgeht.com/wp-content/uploads/2023/07/Bombe_1.png
END:VEVENT
BEGIN:VEVENT
DTSTART;TZID=Europe/Berlin:20250816T230000
DTEND;TZID=Europe/Berlin:20250817T050000
DTSTAMP:20260425T225923
CREATED:20231130T083525Z
LAST-MODIFIED:20240130T105918Z
UID:10003243-1755385200-1755406800@wuewasgeht.com
SUMMARY:Doppeldecker & Tanz
DESCRIPTION:Doppeldecker & Tanz\nKatze\n  \n🔞 Ab 18 \n🎵 Mixed Music \n🍸 Doppeldecker \n  \nFoto: Club Katze Würzburg
URL:https://wuewasgeht.com/events/doppeldecker-katze/2025-08-16/
LOCATION:Katze\, Gerberstraße 14\, Würzburg\, 97070\, Deutschland
CATEGORIES:Club Event
ATTACH;FMTTYPE=image/png:https://wuewasgeht.com/wp-content/uploads/2023/07/Katze_3-1.png
END:VEVENT
BEGIN:VEVENT
DTSTART;TZID=Europe/Berlin:20250816T220000
DTEND;TZID=Europe/Berlin:20250817T050000
DTSTAMP:20260425T225923
CREATED:20231128T121115Z
LAST-MODIFIED:20250225T190845Z
UID:10002714-1755381600-1755406800@wuewasgeht.com
SUMMARY:Sippin Saturday
DESCRIPTION:Sippin Saturday\nBoot\n  \n🔞 Ab 18 \n🎵 Mixed Music \n🍸 Happy Hour bis 24 Uhr \n💶 10€\, für Schüler und Studenten bis 24 Uhr: 5€ \n  \nFoto: Club Boot Würzburg
URL:https://wuewasgeht.com/events/sippin-saturday-boot/2025-08-16/
LOCATION:Boot\, Veitshöchheimer Str. 5c\, Würzburg\, 97080\, Deutschland
CATEGORIES:Club Event
ATTACH;FMTTYPE=image/png:https://wuewasgeht.com/wp-content/uploads/2023/07/Boot_3.png
END:VEVENT
BEGIN:VEVENT
DTSTART;TZID=Europe/Berlin:20250816T210000
DTEND;TZID=Europe/Berlin:20250817T050000
DTSTAMP:20260425T225923
CREATED:20250815T131412Z
LAST-MODIFIED:20250815T131959Z
UID:10011906-1755378000-1755406800@wuewasgeht.com
SUMMARY:Aftair Eight pres.
DESCRIPTION:Aftair Eight pres. Flirt Night\nAirport\n  \n🔞 Ab 16 \n🎵 Mixed Music/Hip-Hop/RnB \n🍸 Doppeldecker auf Ficken Shots & Longdrinks\, Weinschorle für 3\,00€ \n🎧 DJ Kidrush \n💶 Free Entry für Ladies bis 23:00Uhr \n🎫 Tickets \n  \nFoto: Club Airport Würzburg
URL:https://wuewasgeht.com/events/airport-aftair-eight-pres-1608/
LOCATION:Airport\, Gattingerstraße 17\, Würzburg\, 97076\, Deutschland
CATEGORIES:Club Event
ATTACH;FMTTYPE=image/png:https://wuewasgeht.com/wp-content/uploads/2025/08/Airport_12.png
END:VEVENT
BEGIN:VEVENT
DTSTART;TZID=Europe/Berlin:20250815T220000
DTEND;TZID=Europe/Berlin:20250816T050000
DTSTAMP:20260425T225923
CREATED:20250815T101307Z
LAST-MODIFIED:20250815T101307Z
UID:10011909-1755295200-1755320400@wuewasgeht.com
SUMMARY:Ladies Night
DESCRIPTION:Ladies Night\nBombe\n  \n🔞 Ab 18 \n🎵 Mixed Music \n🍸 Spritz Getränke 5\,50€ \n💶 Freier Eintritt for Ladys
URL:https://wuewasgeht.com/events/bombe-ladies-night-1508/
LOCATION:Bombe\, Marienpl. 5\, Würzburg\, 97070\, Deutschland
CATEGORIES:Club Event
END:VEVENT
BEGIN:VEVENT
DTSTART;TZID=Europe/Berlin:20250815T220000
DTEND;TZID=Europe/Berlin:20250816T050000
DTSTAMP:20260425T225923
CREATED:20231129T152151Z
LAST-MODIFIED:20250225T190751Z
UID:10002454-1755295200-1755320400@wuewasgeht.com
SUMMARY:Finally Friday
DESCRIPTION:Finally Friday\nBoot\n  \n🔞 Ab 18 \n🎵 Mixed Music \n🍸 Happy Hour bis 24 Uhr \n💶 9€\, für Schüler und Studenten bis 24 Uhr: 5€ \n  \nFoto: Club Boot Würzburg
URL:https://wuewasgeht.com/events/finally-friday-boot/2025-08-15/
LOCATION:Boot\, Veitshöchheimer Str. 5c\, Würzburg\, 97080\, Deutschland
CATEGORIES:Club Event
ATTACH;FMTTYPE=image/png:https://wuewasgeht.com/wp-content/uploads/2023/07/Boot_finallyfriday.png
END:VEVENT
BEGIN:VEVENT
DTSTART;TZID=Europe/Berlin:20250814T220000
DTEND;TZID=Europe/Berlin:20250815T050000
DTSTAMP:20260425T225923
CREATED:20231129T151551Z
LAST-MODIFIED:20240130T105720Z
UID:10002194-1755208800-1755234000@wuewasgeht.com
SUMMARY:Thirsty Thursday
DESCRIPTION:Thirsty Thursday\nBoot\n  \n🔞 Ab 18 \n🎵 Mixed Music \n🍸 Happy Hour \n💶 Eintritt: 5€\, für Schüler und Studenten bis 24 Uhr for free \n  \nFoto: Club Boot Würzburg
URL:https://wuewasgeht.com/events/thirsty-thursday-boot/2025-08-14/
LOCATION:Boot\, Veitshöchheimer Str. 5c\, Würzburg\, 97080\, Deutschland
CATEGORIES:Club Event
ATTACH;FMTTYPE=image/png:https://wuewasgeht.com/wp-content/uploads/2023/07/Boot_ThirstyThursday.png
END:VEVENT
BEGIN:VEVENT
DTSTART;TZID=Europe/Berlin:20250813T230000
DTEND;TZID=Europe/Berlin:20250814T050000
DTSTAMP:20260425T225923
CREATED:20231129T155931Z
LAST-MODIFIED:20240612T165702Z
UID:10004023-1755126000-1755147600@wuewasgeht.com
SUMMARY:Mittwochsdouble
DESCRIPTION:Mittwochsdouble\nOdeon-Lounge\n  \n🔞 Ab 18 \n🎵 Mixed Music \n🍸 Doppeldecker \n💶 Free Entry 23:00 – 00:00\, Free Entry mit tagesaktueller Nushu Rechnung \n  \nV.I.P – Lounge/Tischreservierungen unter: info@odeon-lounge.de oder https://odeon-lounge.de/vip-lounge/
URL:https://wuewasgeht.com/events/mittwochsdouble-odeon-lounge/2025-08-13/
LOCATION:Odeon Lounge\, Augustinerstraße 18\, Würzburg\, 97070\, Deutschland
CATEGORIES:Club Event
END:VEVENT
BEGIN:VEVENT
DTSTART;TZID=Europe/Berlin:20250812T220000
DTEND;TZID=Europe/Berlin:20250813T050000
DTSTAMP:20260425T225923
CREATED:20231130T093555Z
LAST-MODIFIED:20240130T105652Z
UID:10001933-1755036000-1755061200@wuewasgeht.com
SUMMARY:Studi Dienstag
DESCRIPTION:Studi Dienstag\nBombe\n  \n🔞 Ab 18 \n🎵 Mixed Music \n🍸 Longdrink 5.50€\, Bier 2.50€\, Schnaps 1.50€* \n💶 Free Entry \n  \n*Gilt nur für ausgewählte Spirituosen & Filler\nFoto: Club Bombe Würzburg
URL:https://wuewasgeht.com/events/studi-dienstag-bombe/2025-08-12/
LOCATION:Bombe\, Marienpl. 5\, Würzburg\, 97070\, Deutschland
CATEGORIES:Club Event
ATTACH;FMTTYPE=image/png:https://wuewasgeht.com/wp-content/uploads/2023/07/Bombe_1.png
END:VEVENT
BEGIN:VEVENT
DTSTART;TZID=Europe/Berlin:20250809T230000
DTEND;TZID=Europe/Berlin:20250810T050000
DTSTAMP:20260425T225923
CREATED:20231130T083525Z
LAST-MODIFIED:20240130T105918Z
UID:10003242-1754780400-1754802000@wuewasgeht.com
SUMMARY:Doppeldecker & Tanz
DESCRIPTION:Doppeldecker & Tanz\nKatze\n  \n🔞 Ab 18 \n🎵 Mixed Music \n🍸 Doppeldecker \n  \nFoto: Club Katze Würzburg
URL:https://wuewasgeht.com/events/doppeldecker-katze/2025-08-09/
LOCATION:Katze\, Gerberstraße 14\, Würzburg\, 97070\, Deutschland
CATEGORIES:Club Event
ATTACH;FMTTYPE=image/png:https://wuewasgeht.com/wp-content/uploads/2023/07/Katze_3-1.png
END:VEVENT
BEGIN:VEVENT
DTSTART;TZID=Europe/Berlin:20250809T220000
DTEND;TZID=Europe/Berlin:20250810T050000
DTSTAMP:20260425T225923
CREATED:20231128T121115Z
LAST-MODIFIED:20250225T190845Z
UID:10002713-1754776800-1754802000@wuewasgeht.com
SUMMARY:Sippin Saturday
DESCRIPTION:Sippin Saturday\nBoot\n  \n🔞 Ab 18 \n🎵 Mixed Music \n🍸 Happy Hour bis 24 Uhr \n💶 10€\, für Schüler und Studenten bis 24 Uhr: 5€ \n  \nFoto: Club Boot Würzburg
URL:https://wuewasgeht.com/events/sippin-saturday-boot/2025-08-09/
LOCATION:Boot\, Veitshöchheimer Str. 5c\, Würzburg\, 97080\, Deutschland
CATEGORIES:Club Event
ATTACH;FMTTYPE=image/png:https://wuewasgeht.com/wp-content/uploads/2023/07/Boot_3.png
END:VEVENT
BEGIN:VEVENT
DTSTART;TZID=Europe/Berlin:20250808T220000
DTEND;TZID=Europe/Berlin:20250809T050000
DTSTAMP:20260425T225923
CREATED:20231129T152151Z
LAST-MODIFIED:20250225T190751Z
UID:10002453-1754690400-1754715600@wuewasgeht.com
SUMMARY:Finally Friday
DESCRIPTION:Finally Friday\nBoot\n  \n🔞 Ab 18 \n🎵 Mixed Music \n🍸 Happy Hour bis 24 Uhr \n💶 9€\, für Schüler und Studenten bis 24 Uhr: 5€ \n  \nFoto: Club Boot Würzburg
URL:https://wuewasgeht.com/events/finally-friday-boot/2025-08-08/
LOCATION:Boot\, Veitshöchheimer Str. 5c\, Würzburg\, 97080\, Deutschland
CATEGORIES:Club Event
ATTACH;FMTTYPE=image/png:https://wuewasgeht.com/wp-content/uploads/2023/07/Boot_finallyfriday.png
END:VEVENT
END:VCALENDAR