BEGIN:VCALENDAR
VERSION:2.0
PRODID:-//WueWasGeht - ECPv6.11.2.1//NONSGML v1.0//EN
CALSCALE:GREGORIAN
METHOD:PUBLISH
X-WR-CALNAME:WueWasGeht
X-ORIGINAL-URL:https://wuewasgeht.com
X-WR-CALDESC:Veranstaltungen für WueWasGeht
REFRESH-INTERVAL;VALUE=DURATION:PT1H
X-Robots-Tag:noindex
X-PUBLISHED-TTL:PT1H
BEGIN:VTIMEZONE
TZID:Europe/Berlin
BEGIN:DAYLIGHT
TZOFFSETFROM:+0100
TZOFFSETTO:+0200
TZNAME:CEST
DTSTART:20250330T010000
END:DAYLIGHT
BEGIN:STANDARD
TZOFFSETFROM:+0200
TZOFFSETTO:+0100
TZNAME:CET
DTSTART:20251026T010000
END:STANDARD
END:VTIMEZONE
BEGIN:VEVENT
DTSTART;TZID=Europe/Berlin:20250801T220000
DTEND;TZID=Europe/Berlin:20250802T050000
DTSTAMP:20260426T033822
CREATED:20231129T152151Z
LAST-MODIFIED:20250225T190751Z
UID:10002452-1754085600-1754110800@wuewasgeht.com
SUMMARY:Finally Friday
DESCRIPTION:Finally Friday\nBoot\n  \n🔞 Ab 18 \n🎵 Mixed Music \n🍸 Happy Hour bis 24 Uhr \n💶 9€\, für Schüler und Studenten bis 24 Uhr: 5€ \n  \nFoto: Club Boot Würzburg
URL:https://wuewasgeht.com/events/finally-friday-boot/2025-08-01/
LOCATION:Boot\, Veitshöchheimer Str. 5c\, Würzburg\, 97080\, Deutschland
CATEGORIES:Club Event
ATTACH;FMTTYPE=image/png:https://wuewasgeht.com/wp-content/uploads/2023/07/Boot_finallyfriday.png
END:VEVENT
BEGIN:VEVENT
DTSTART;TZID=Europe/Berlin:20250731T220000
DTEND;TZID=Europe/Berlin:20250801T050000
DTSTAMP:20260426T033822
CREATED:20231129T151551Z
LAST-MODIFIED:20240130T105720Z
UID:10002192-1753999200-1754024400@wuewasgeht.com
SUMMARY:Thirsty Thursday
DESCRIPTION:Thirsty Thursday\nBoot\n  \n🔞 Ab 18 \n🎵 Mixed Music \n🍸 Happy Hour \n💶 Eintritt: 5€\, für Schüler und Studenten bis 24 Uhr for free \n  \nFoto: Club Boot Würzburg
URL:https://wuewasgeht.com/events/thirsty-thursday-boot/2025-07-31/
LOCATION:Boot\, Veitshöchheimer Str. 5c\, Würzburg\, 97080\, Deutschland
CATEGORIES:Club Event
ATTACH;FMTTYPE=image/png:https://wuewasgeht.com/wp-content/uploads/2023/07/Boot_ThirstyThursday.png
END:VEVENT
BEGIN:VEVENT
DTSTART;TZID=Europe/Berlin:20250730T230000
DTEND;TZID=Europe/Berlin:20250731T050000
DTSTAMP:20260426T033822
CREATED:20231129T155931Z
LAST-MODIFIED:20240612T165702Z
UID:10004021-1753916400-1753938000@wuewasgeht.com
SUMMARY:Mittwochsdouble
DESCRIPTION:Mittwochsdouble\nOdeon-Lounge\n  \n🔞 Ab 18 \n🎵 Mixed Music \n🍸 Doppeldecker \n💶 Free Entry 23:00 – 00:00\, Free Entry mit tagesaktueller Nushu Rechnung \n  \nV.I.P – Lounge/Tischreservierungen unter: info@odeon-lounge.de oder https://odeon-lounge.de/vip-lounge/
URL:https://wuewasgeht.com/events/mittwochsdouble-odeon-lounge/2025-07-30/
LOCATION:Odeon Lounge\, Augustinerstraße 18\, Würzburg\, 97070\, Deutschland
CATEGORIES:Club Event
END:VEVENT
BEGIN:VEVENT
DTSTART;TZID=Europe/Berlin:20250729T220000
DTEND;TZID=Europe/Berlin:20250730T050000
DTSTAMP:20260426T033822
CREATED:20231130T093555Z
LAST-MODIFIED:20240130T105652Z
UID:10001931-1753826400-1753851600@wuewasgeht.com
SUMMARY:Studi Dienstag
DESCRIPTION:Studi Dienstag\nBombe\n  \n🔞 Ab 18 \n🎵 Mixed Music \n🍸 Longdrink 5.50€\, Bier 2.50€\, Schnaps 1.50€* \n💶 Free Entry \n  \n*Gilt nur für ausgewählte Spirituosen & Filler\nFoto: Club Bombe Würzburg
URL:https://wuewasgeht.com/events/studi-dienstag-bombe/2025-07-29/
LOCATION:Bombe\, Marienpl. 5\, Würzburg\, 97070\, Deutschland
CATEGORIES:Club Event
ATTACH;FMTTYPE=image/png:https://wuewasgeht.com/wp-content/uploads/2023/07/Bombe_1.png
END:VEVENT
BEGIN:VEVENT
DTSTART;TZID=Europe/Berlin:20250726T230000
DTEND;TZID=Europe/Berlin:20250727T050000
DTSTAMP:20260426T033822
CREATED:20231130T083525Z
LAST-MODIFIED:20240130T105918Z
UID:10003240-1753570800-1753592400@wuewasgeht.com
SUMMARY:Doppeldecker & Tanz
DESCRIPTION:Doppeldecker & Tanz\nKatze\n  \n🔞 Ab 18 \n🎵 Mixed Music \n🍸 Doppeldecker \n  \nFoto: Club Katze Würzburg
URL:https://wuewasgeht.com/events/doppeldecker-katze/2025-07-26/
LOCATION:Katze\, Gerberstraße 14\, Würzburg\, 97070\, Deutschland
CATEGORIES:Club Event
ATTACH;FMTTYPE=image/png:https://wuewasgeht.com/wp-content/uploads/2023/07/Katze_3-1.png
END:VEVENT
BEGIN:VEVENT
DTSTART;TZID=Europe/Berlin:20250726T220000
DTEND;TZID=Europe/Berlin:20250727T050000
DTSTAMP:20260426T033822
CREATED:20250723T112759Z
LAST-MODIFIED:20250723T112759Z
UID:10011889-1753567200-1753592400@wuewasgeht.com
SUMMARY:Oldschool HipHop-Party
DESCRIPTION:Oldschool HipHop-Party\nLabyrinth\n  \n🔞 Ab 16 \n🍸 Getränkespecial: Happy Juice für nur 8€d \n🎵 HipHop \n🎧 DJ Oli Geisler \n💵 bis 23 Uhr 5€ Eintritt \n  \nFoto: Club Labyrinth Würzburg
URL:https://wuewasgeht.com/events/labyrinth-oldschool-hiphop-party-2607/
LOCATION:Labyrinth\, Beethovenstraße 3\, Würzburg\, 97080\, Deutschland
CATEGORIES:Club Event
ATTACH;FMTTYPE=image/png:https://wuewasgeht.com/wp-content/uploads/2025/02/Labyrinth_4.png
END:VEVENT
BEGIN:VEVENT
DTSTART;TZID=Europe/Berlin:20250726T220000
DTEND;TZID=Europe/Berlin:20250727T050000
DTSTAMP:20260426T033822
CREATED:20231128T121115Z
LAST-MODIFIED:20250225T190845Z
UID:10002711-1753567200-1753592400@wuewasgeht.com
SUMMARY:Sippin Saturday
DESCRIPTION:Sippin Saturday\nBoot\n  \n🔞 Ab 18 \n🎵 Mixed Music \n🍸 Happy Hour bis 24 Uhr \n💶 10€\, für Schüler und Studenten bis 24 Uhr: 5€ \n  \nFoto: Club Boot Würzburg
URL:https://wuewasgeht.com/events/sippin-saturday-boot/2025-07-26/
LOCATION:Boot\, Veitshöchheimer Str. 5c\, Würzburg\, 97080\, Deutschland
CATEGORIES:Club Event
ATTACH;FMTTYPE=image/png:https://wuewasgeht.com/wp-content/uploads/2023/07/Boot_3.png
END:VEVENT
BEGIN:VEVENT
DTSTART;TZID=Europe/Berlin:20250726T210000
DTEND;TZID=Europe/Berlin:20250727T050000
DTSTAMP:20260426T033822
CREATED:20250725T070718Z
LAST-MODIFIED:20250725T070718Z
UID:10011884-1753563600-1753592400@wuewasgeht.com
SUMMARY:Powerday
DESCRIPTION:Powerday\nAirport\n  \n🔞 Ab 16 \n🎵 Mixed Music\, Techno \n🍸 Doppeldecker \n🎧 DJ KID RUSH\, Farout \n🎫 Tickets \n  \nFoto: Club Airport Würzburg
URL:https://wuewasgeht.com/events/airport-powerday-2607/
LOCATION:Airport\, Gattingerstraße 17\, Würzburg\, 97076\, Deutschland
CATEGORIES:Club Event
ATTACH;FMTTYPE=image/png:https://wuewasgeht.com/wp-content/uploads/2025/07/Airport_1.png
END:VEVENT
BEGIN:VEVENT
DTSTART;TZID=Europe/Berlin:20250725T220000
DTEND;TZID=Europe/Berlin:20250726T050000
DTSTAMP:20260426T033822
CREATED:20231129T152151Z
LAST-MODIFIED:20250225T190751Z
UID:10002451-1753480800-1753506000@wuewasgeht.com
SUMMARY:Finally Friday
DESCRIPTION:Finally Friday\nBoot\n  \n🔞 Ab 18 \n🎵 Mixed Music \n🍸 Happy Hour bis 24 Uhr \n💶 9€\, für Schüler und Studenten bis 24 Uhr: 5€ \n  \nFoto: Club Boot Würzburg
URL:https://wuewasgeht.com/events/finally-friday-boot/2025-07-25/
LOCATION:Boot\, Veitshöchheimer Str. 5c\, Würzburg\, 97080\, Deutschland
CATEGORIES:Club Event
ATTACH;FMTTYPE=image/png:https://wuewasgeht.com/wp-content/uploads/2023/07/Boot_finallyfriday.png
END:VEVENT
BEGIN:VEVENT
DTSTART;TZID=Europe/Berlin:20250724T220000
DTEND;TZID=Europe/Berlin:20250725T050000
DTSTAMP:20260426T033822
CREATED:20231129T151551Z
LAST-MODIFIED:20240130T105720Z
UID:10002191-1753394400-1753419600@wuewasgeht.com
SUMMARY:Thirsty Thursday
DESCRIPTION:Thirsty Thursday\nBoot\n  \n🔞 Ab 18 \n🎵 Mixed Music \n🍸 Happy Hour \n💶 Eintritt: 5€\, für Schüler und Studenten bis 24 Uhr for free \n  \nFoto: Club Boot Würzburg
URL:https://wuewasgeht.com/events/thirsty-thursday-boot/2025-07-24/
LOCATION:Boot\, Veitshöchheimer Str. 5c\, Würzburg\, 97080\, Deutschland
CATEGORIES:Club Event
ATTACH;FMTTYPE=image/png:https://wuewasgeht.com/wp-content/uploads/2023/07/Boot_ThirstyThursday.png
END:VEVENT
BEGIN:VEVENT
DTSTART;TZID=Europe/Berlin:20250723T230000
DTEND;TZID=Europe/Berlin:20250724T050000
DTSTAMP:20260426T033822
CREATED:20231129T155931Z
LAST-MODIFIED:20240612T165702Z
UID:10004020-1753311600-1753333200@wuewasgeht.com
SUMMARY:Mittwochsdouble
DESCRIPTION:Mittwochsdouble\nOdeon-Lounge\n  \n🔞 Ab 18 \n🎵 Mixed Music \n🍸 Doppeldecker \n💶 Free Entry 23:00 – 00:00\, Free Entry mit tagesaktueller Nushu Rechnung \n  \nV.I.P – Lounge/Tischreservierungen unter: info@odeon-lounge.de oder https://odeon-lounge.de/vip-lounge/
URL:https://wuewasgeht.com/events/mittwochsdouble-odeon-lounge/2025-07-23/
LOCATION:Odeon Lounge\, Augustinerstraße 18\, Würzburg\, 97070\, Deutschland
CATEGORIES:Club Event
END:VEVENT
BEGIN:VEVENT
DTSTART;TZID=Europe/Berlin:20250722T220000
DTEND;TZID=Europe/Berlin:20250723T050000
DTSTAMP:20260426T033822
CREATED:20231130T093555Z
LAST-MODIFIED:20240130T105652Z
UID:10001930-1753221600-1753246800@wuewasgeht.com
SUMMARY:Studi Dienstag
DESCRIPTION:Studi Dienstag\nBombe\n  \n🔞 Ab 18 \n🎵 Mixed Music \n🍸 Longdrink 5.50€\, Bier 2.50€\, Schnaps 1.50€* \n💶 Free Entry \n  \n*Gilt nur für ausgewählte Spirituosen & Filler\nFoto: Club Bombe Würzburg
URL:https://wuewasgeht.com/events/studi-dienstag-bombe/2025-07-22/
LOCATION:Bombe\, Marienpl. 5\, Würzburg\, 97070\, Deutschland
CATEGORIES:Club Event
ATTACH;FMTTYPE=image/png:https://wuewasgeht.com/wp-content/uploads/2023/07/Bombe_1.png
END:VEVENT
BEGIN:VEVENT
DTSTART;TZID=Europe/Berlin:20250719T230000
DTEND;TZID=Europe/Berlin:20250720T050000
DTSTAMP:20260426T033822
CREATED:20231130T083525Z
LAST-MODIFIED:20240130T105918Z
UID:10003239-1752966000-1752987600@wuewasgeht.com
SUMMARY:Doppeldecker & Tanz
DESCRIPTION:Doppeldecker & Tanz\nKatze\n  \n🔞 Ab 18 \n🎵 Mixed Music \n🍸 Doppeldecker \n  \nFoto: Club Katze Würzburg
URL:https://wuewasgeht.com/events/doppeldecker-katze/2025-07-19/
LOCATION:Katze\, Gerberstraße 14\, Würzburg\, 97070\, Deutschland
CATEGORIES:Club Event
ATTACH;FMTTYPE=image/png:https://wuewasgeht.com/wp-content/uploads/2023/07/Katze_3-1.png
END:VEVENT
BEGIN:VEVENT
DTSTART;TZID=Europe/Berlin:20250719T220000
DTEND;TZID=Europe/Berlin:20250720T050000
DTSTAMP:20260426T033822
CREATED:20231128T121115Z
LAST-MODIFIED:20250225T190845Z
UID:10002710-1752962400-1752987600@wuewasgeht.com
SUMMARY:Sippin Saturday
DESCRIPTION:Sippin Saturday\nBoot\n  \n🔞 Ab 18 \n🎵 Mixed Music \n🍸 Happy Hour bis 24 Uhr \n💶 10€\, für Schüler und Studenten bis 24 Uhr: 5€ \n  \nFoto: Club Boot Würzburg
URL:https://wuewasgeht.com/events/sippin-saturday-boot/2025-07-19/
LOCATION:Boot\, Veitshöchheimer Str. 5c\, Würzburg\, 97080\, Deutschland
CATEGORIES:Club Event
ATTACH;FMTTYPE=image/png:https://wuewasgeht.com/wp-content/uploads/2023/07/Boot_3.png
END:VEVENT
BEGIN:VEVENT
DTSTART;TZID=Europe/Berlin:20250718T220000
DTEND;TZID=Europe/Berlin:20250719T050000
DTSTAMP:20260426T033822
CREATED:20231129T152151Z
LAST-MODIFIED:20250225T190751Z
UID:10002450-1752876000-1752901200@wuewasgeht.com
SUMMARY:Finally Friday
DESCRIPTION:Finally Friday\nBoot\n  \n🔞 Ab 18 \n🎵 Mixed Music \n🍸 Happy Hour bis 24 Uhr \n💶 9€\, für Schüler und Studenten bis 24 Uhr: 5€ \n  \nFoto: Club Boot Würzburg
URL:https://wuewasgeht.com/events/finally-friday-boot/2025-07-18/
LOCATION:Boot\, Veitshöchheimer Str. 5c\, Würzburg\, 97080\, Deutschland
CATEGORIES:Club Event
ATTACH;FMTTYPE=image/png:https://wuewasgeht.com/wp-content/uploads/2023/07/Boot_finallyfriday.png
END:VEVENT
BEGIN:VEVENT
DTSTART;TZID=Europe/Berlin:20250717T220000
DTEND;TZID=Europe/Berlin:20250718T050000
DTSTAMP:20260426T033822
CREATED:20231129T151551Z
LAST-MODIFIED:20240130T105720Z
UID:10002190-1752789600-1752814800@wuewasgeht.com
SUMMARY:Thirsty Thursday
DESCRIPTION:Thirsty Thursday\nBoot\n  \n🔞 Ab 18 \n🎵 Mixed Music \n🍸 Happy Hour \n💶 Eintritt: 5€\, für Schüler und Studenten bis 24 Uhr for free \n  \nFoto: Club Boot Würzburg
URL:https://wuewasgeht.com/events/thirsty-thursday-boot/2025-07-17/
LOCATION:Boot\, Veitshöchheimer Str. 5c\, Würzburg\, 97080\, Deutschland
CATEGORIES:Club Event
ATTACH;FMTTYPE=image/png:https://wuewasgeht.com/wp-content/uploads/2023/07/Boot_ThirstyThursday.png
END:VEVENT
BEGIN:VEVENT
DTSTART;TZID=Europe/Berlin:20250716T230000
DTEND;TZID=Europe/Berlin:20250717T050000
DTSTAMP:20260426T033822
CREATED:20231129T155931Z
LAST-MODIFIED:20240612T165702Z
UID:10004019-1752706800-1752728400@wuewasgeht.com
SUMMARY:Mittwochsdouble
DESCRIPTION:Mittwochsdouble\nOdeon-Lounge\n  \n🔞 Ab 18 \n🎵 Mixed Music \n🍸 Doppeldecker \n💶 Free Entry 23:00 – 00:00\, Free Entry mit tagesaktueller Nushu Rechnung \n  \nV.I.P – Lounge/Tischreservierungen unter: info@odeon-lounge.de oder https://odeon-lounge.de/vip-lounge/
URL:https://wuewasgeht.com/events/mittwochsdouble-odeon-lounge/2025-07-16/
LOCATION:Odeon Lounge\, Augustinerstraße 18\, Würzburg\, 97070\, Deutschland
CATEGORIES:Club Event
END:VEVENT
BEGIN:VEVENT
DTSTART;TZID=Europe/Berlin:20250715T220000
DTEND;TZID=Europe/Berlin:20250716T050000
DTSTAMP:20260426T033822
CREATED:20231130T093555Z
LAST-MODIFIED:20240130T105652Z
UID:10001929-1752616800-1752642000@wuewasgeht.com
SUMMARY:Studi Dienstag
DESCRIPTION:Studi Dienstag\nBombe\n  \n🔞 Ab 18 \n🎵 Mixed Music \n🍸 Longdrink 5.50€\, Bier 2.50€\, Schnaps 1.50€* \n💶 Free Entry \n  \n*Gilt nur für ausgewählte Spirituosen & Filler\nFoto: Club Bombe Würzburg
URL:https://wuewasgeht.com/events/studi-dienstag-bombe/2025-07-15/
LOCATION:Bombe\, Marienpl. 5\, Würzburg\, 97070\, Deutschland
CATEGORIES:Club Event
ATTACH;FMTTYPE=image/png:https://wuewasgeht.com/wp-content/uploads/2023/07/Bombe_1.png
END:VEVENT
BEGIN:VEVENT
DTSTART;TZID=Europe/Berlin:20250712T230000
DTEND;TZID=Europe/Berlin:20250713T050000
DTSTAMP:20260426T033822
CREATED:20231130T083525Z
LAST-MODIFIED:20240130T105918Z
UID:10003238-1752361200-1752382800@wuewasgeht.com
SUMMARY:Doppeldecker & Tanz
DESCRIPTION:Doppeldecker & Tanz\nKatze\n  \n🔞 Ab 18 \n🎵 Mixed Music \n🍸 Doppeldecker \n  \nFoto: Club Katze Würzburg
URL:https://wuewasgeht.com/events/doppeldecker-katze/2025-07-12/
LOCATION:Katze\, Gerberstraße 14\, Würzburg\, 97070\, Deutschland
CATEGORIES:Club Event
ATTACH;FMTTYPE=image/png:https://wuewasgeht.com/wp-content/uploads/2023/07/Katze_3-1.png
END:VEVENT
BEGIN:VEVENT
DTSTART;TZID=Europe/Berlin:20250712T220000
DTEND;TZID=Europe/Berlin:20250713T050000
DTSTAMP:20260426T033822
CREATED:20231128T121115Z
LAST-MODIFIED:20250225T190845Z
UID:10002709-1752357600-1752382800@wuewasgeht.com
SUMMARY:Sippin Saturday
DESCRIPTION:Sippin Saturday\nBoot\n  \n🔞 Ab 18 \n🎵 Mixed Music \n🍸 Happy Hour bis 24 Uhr \n💶 10€\, für Schüler und Studenten bis 24 Uhr: 5€ \n  \nFoto: Club Boot Würzburg
URL:https://wuewasgeht.com/events/sippin-saturday-boot/2025-07-12/
LOCATION:Boot\, Veitshöchheimer Str. 5c\, Würzburg\, 97080\, Deutschland
CATEGORIES:Club Event
ATTACH;FMTTYPE=image/png:https://wuewasgeht.com/wp-content/uploads/2023/07/Boot_3.png
END:VEVENT
BEGIN:VEVENT
DTSTART;TZID=Europe/Berlin:20250711T230000
DTEND;TZID=Europe/Berlin:20250712T050000
DTSTAMP:20260426T033822
CREATED:20250709T160440Z
LAST-MODIFIED:20250709T160440Z
UID:10011878-1752274800-1752296400@wuewasgeht.com
SUMMARY:After Kiliani
DESCRIPTION:After Kiliani\n\n\n\nOdeon\n  \n🔞 Ab 18 \n🎵 Mixed Music \n🍸 Würzburger Hofbräu helles für nur 2\,50 € \n🎧 Dj G.O.G
URL:https://wuewasgeht.com/events/odeon-after-kiliani-1107/
LOCATION:Odeon Lounge\, Augustinerstraße 18\, Würzburg\, 97070\, Deutschland
CATEGORIES:Club Event
END:VEVENT
BEGIN:VEVENT
DTSTART;TZID=Europe/Berlin:20250711T220000
DTEND;TZID=Europe/Berlin:20250712T050000
DTSTAMP:20260426T033822
CREATED:20250709T161720Z
LAST-MODIFIED:20250709T161720Z
UID:10011873-1752271200-1752296400@wuewasgeht.com
SUMMARY:Ladies Night
DESCRIPTION:Ladies Night\nBombe\n  \n🔞 Ab 18 \n🎵 Mixed Music \n🍸 Spritz Getränke 5\,50€ \n🎧 DJ Dan May \n💶 Freier Eintritt
URL:https://wuewasgeht.com/events/bombe-ladies-night-1107/
LOCATION:Bombe\, Marienpl. 5\, Würzburg\, 97070\, Deutschland
CATEGORIES:Club Event
END:VEVENT
BEGIN:VEVENT
DTSTART;TZID=Europe/Berlin:20250711T220000
DTEND;TZID=Europe/Berlin:20250712T050000
DTSTAMP:20260426T033822
CREATED:20231129T152151Z
LAST-MODIFIED:20250225T190751Z
UID:10002449-1752271200-1752296400@wuewasgeht.com
SUMMARY:Finally Friday
DESCRIPTION:Finally Friday\nBoot\n  \n🔞 Ab 18 \n🎵 Mixed Music \n🍸 Happy Hour bis 24 Uhr \n💶 9€\, für Schüler und Studenten bis 24 Uhr: 5€ \n  \nFoto: Club Boot Würzburg
URL:https://wuewasgeht.com/events/finally-friday-boot/2025-07-11/
LOCATION:Boot\, Veitshöchheimer Str. 5c\, Würzburg\, 97080\, Deutschland
CATEGORIES:Club Event
ATTACH;FMTTYPE=image/png:https://wuewasgeht.com/wp-content/uploads/2023/07/Boot_finallyfriday.png
END:VEVENT
BEGIN:VEVENT
DTSTART;TZID=Europe/Berlin:20250710T220000
DTEND;TZID=Europe/Berlin:20250711T050000
DTSTAMP:20260426T033822
CREATED:20231129T151551Z
LAST-MODIFIED:20240130T105720Z
UID:10002189-1752184800-1752210000@wuewasgeht.com
SUMMARY:Thirsty Thursday
DESCRIPTION:Thirsty Thursday\nBoot\n  \n🔞 Ab 18 \n🎵 Mixed Music \n🍸 Happy Hour \n💶 Eintritt: 5€\, für Schüler und Studenten bis 24 Uhr for free \n  \nFoto: Club Boot Würzburg
URL:https://wuewasgeht.com/events/thirsty-thursday-boot/2025-07-10/
LOCATION:Boot\, Veitshöchheimer Str. 5c\, Würzburg\, 97080\, Deutschland
CATEGORIES:Club Event
ATTACH;FMTTYPE=image/png:https://wuewasgeht.com/wp-content/uploads/2023/07/Boot_ThirstyThursday.png
END:VEVENT
BEGIN:VEVENT
DTSTART;TZID=Europe/Berlin:20250709T230000
DTEND;TZID=Europe/Berlin:20250710T050000
DTSTAMP:20260426T033822
CREATED:20231129T155931Z
LAST-MODIFIED:20240612T165702Z
UID:10004018-1752102000-1752123600@wuewasgeht.com
SUMMARY:Mittwochsdouble
DESCRIPTION:Mittwochsdouble\nOdeon-Lounge\n  \n🔞 Ab 18 \n🎵 Mixed Music \n🍸 Doppeldecker \n💶 Free Entry 23:00 – 00:00\, Free Entry mit tagesaktueller Nushu Rechnung \n  \nV.I.P – Lounge/Tischreservierungen unter: info@odeon-lounge.de oder https://odeon-lounge.de/vip-lounge/
URL:https://wuewasgeht.com/events/mittwochsdouble-odeon-lounge/2025-07-09/
LOCATION:Odeon Lounge\, Augustinerstraße 18\, Würzburg\, 97070\, Deutschland
CATEGORIES:Club Event
END:VEVENT
BEGIN:VEVENT
DTSTART;TZID=Europe/Berlin:20250708T220000
DTEND;TZID=Europe/Berlin:20250709T050000
DTSTAMP:20260426T033822
CREATED:20231130T093555Z
LAST-MODIFIED:20240130T105652Z
UID:10001928-1752012000-1752037200@wuewasgeht.com
SUMMARY:Studi Dienstag
DESCRIPTION:Studi Dienstag\nBombe\n  \n🔞 Ab 18 \n🎵 Mixed Music \n🍸 Longdrink 5.50€\, Bier 2.50€\, Schnaps 1.50€* \n💶 Free Entry \n  \n*Gilt nur für ausgewählte Spirituosen & Filler\nFoto: Club Bombe Würzburg
URL:https://wuewasgeht.com/events/studi-dienstag-bombe/2025-07-08/
LOCATION:Bombe\, Marienpl. 5\, Würzburg\, 97070\, Deutschland
CATEGORIES:Club Event
ATTACH;FMTTYPE=image/png:https://wuewasgeht.com/wp-content/uploads/2023/07/Bombe_1.png
END:VEVENT
BEGIN:VEVENT
DTSTART;TZID=Europe/Berlin:20250705T230000
DTEND;TZID=Europe/Berlin:20250706T050000
DTSTAMP:20260426T033822
CREATED:20231130T083525Z
LAST-MODIFIED:20240130T105918Z
UID:10003237-1751756400-1751778000@wuewasgeht.com
SUMMARY:Doppeldecker & Tanz
DESCRIPTION:Doppeldecker & Tanz\nKatze\n  \n🔞 Ab 18 \n🎵 Mixed Music \n🍸 Doppeldecker \n  \nFoto: Club Katze Würzburg
URL:https://wuewasgeht.com/events/doppeldecker-katze/2025-07-05/
LOCATION:Katze\, Gerberstraße 14\, Würzburg\, 97070\, Deutschland
CATEGORIES:Club Event
ATTACH;FMTTYPE=image/png:https://wuewasgeht.com/wp-content/uploads/2023/07/Katze_3-1.png
END:VEVENT
BEGIN:VEVENT
DTSTART;TZID=Europe/Berlin:20250705T220000
DTEND;TZID=Europe/Berlin:20250706T050000
DTSTAMP:20260426T033822
CREATED:20231128T121115Z
LAST-MODIFIED:20250225T190845Z
UID:10002708-1751752800-1751778000@wuewasgeht.com
SUMMARY:Sippin Saturday
DESCRIPTION:Sippin Saturday\nBoot\n  \n🔞 Ab 18 \n🎵 Mixed Music \n🍸 Happy Hour bis 24 Uhr \n💶 10€\, für Schüler und Studenten bis 24 Uhr: 5€ \n  \nFoto: Club Boot Würzburg
URL:https://wuewasgeht.com/events/sippin-saturday-boot/2025-07-05/
LOCATION:Boot\, Veitshöchheimer Str. 5c\, Würzburg\, 97080\, Deutschland
CATEGORIES:Club Event
ATTACH;FMTTYPE=image/png:https://wuewasgeht.com/wp-content/uploads/2023/07/Boot_3.png
END:VEVENT
BEGIN:VEVENT
DTSTART;TZID=Europe/Berlin:20250704T220000
DTEND;TZID=Europe/Berlin:20250705T050000
DTSTAMP:20260426T033822
CREATED:20231129T152151Z
LAST-MODIFIED:20250225T190751Z
UID:10002448-1751666400-1751691600@wuewasgeht.com
SUMMARY:Finally Friday
DESCRIPTION:Finally Friday\nBoot\n  \n🔞 Ab 18 \n🎵 Mixed Music \n🍸 Happy Hour bis 24 Uhr \n💶 9€\, für Schüler und Studenten bis 24 Uhr: 5€ \n  \nFoto: Club Boot Würzburg
URL:https://wuewasgeht.com/events/finally-friday-boot/2025-07-04/
LOCATION:Boot\, Veitshöchheimer Str. 5c\, Würzburg\, 97080\, Deutschland
CATEGORIES:Club Event
ATTACH;FMTTYPE=image/png:https://wuewasgeht.com/wp-content/uploads/2023/07/Boot_finallyfriday.png
END:VEVENT
BEGIN:VEVENT
DTSTART;TZID=Europe/Berlin:20250703T220000
DTEND;TZID=Europe/Berlin:20250704T050000
DTSTAMP:20260426T033822
CREATED:20231129T151551Z
LAST-MODIFIED:20240130T105720Z
UID:10002188-1751580000-1751605200@wuewasgeht.com
SUMMARY:Thirsty Thursday
DESCRIPTION:Thirsty Thursday\nBoot\n  \n🔞 Ab 18 \n🎵 Mixed Music \n🍸 Happy Hour \n💶 Eintritt: 5€\, für Schüler und Studenten bis 24 Uhr for free \n  \nFoto: Club Boot Würzburg
URL:https://wuewasgeht.com/events/thirsty-thursday-boot/2025-07-03/
LOCATION:Boot\, Veitshöchheimer Str. 5c\, Würzburg\, 97080\, Deutschland
CATEGORIES:Club Event
ATTACH;FMTTYPE=image/png:https://wuewasgeht.com/wp-content/uploads/2023/07/Boot_ThirstyThursday.png
END:VEVENT
END:VCALENDAR