BEGIN:VCALENDAR
VERSION:2.0
PRODID:-//WueWasGeht - ECPv6.11.2.1//NONSGML v1.0//EN
CALSCALE:GREGORIAN
METHOD:PUBLISH
X-ORIGINAL-URL:https://wuewasgeht.com
X-WR-CALDESC:Veranstaltungen für WueWasGeht
REFRESH-INTERVAL;VALUE=DURATION:PT1H
X-Robots-Tag:noindex
X-PUBLISHED-TTL:PT1H
BEGIN:VTIMEZONE
TZID:Europe/Berlin
BEGIN:DAYLIGHT
TZOFFSETFROM:+0100
TZOFFSETTO:+0200
TZNAME:CEST
DTSTART:20240331T010000
END:DAYLIGHT
BEGIN:STANDARD
TZOFFSETFROM:+0200
TZOFFSETTO:+0100
TZNAME:CET
DTSTART:20241027T010000
END:STANDARD
END:VTIMEZONE
BEGIN:VEVENT
DTSTART;TZID=Europe/Berlin:20241128T220000
DTEND;TZID=Europe/Berlin:20241129T050000
DTSTAMP:20260421T011726
CREATED:20231129T151551Z
LAST-MODIFIED:20240130T105720Z
UID:10002157-1732831200-1732856400@wuewasgeht.com
SUMMARY:Thirsty Thursday
DESCRIPTION:Thirsty Thursday\nBoot\n  \n🔞 Ab 18 \n🎵 Mixed Music \n🍸 Happy Hour \n💶 Eintritt: 5€\, für Schüler und Studenten bis 24 Uhr for free \n  \nFoto: Club Boot Würzburg
URL:https://wuewasgeht.com/events/thirsty-thursday-boot/2024-11-28/
LOCATION:Boot\, Veitshöchheimer Str. 5c\, Würzburg\, 97080\, Deutschland
CATEGORIES:Club Event
ATTACH;FMTTYPE=image/png:https://wuewasgeht.com/wp-content/uploads/2023/07/Boot_ThirstyThursday.png
END:VEVENT
BEGIN:VEVENT
DTSTART;TZID=Europe/Berlin:20241129T220000
DTEND;TZID=Europe/Berlin:20241130T050000
DTSTAMP:20260421T011726
CREATED:20231129T152151Z
LAST-MODIFIED:20250225T190751Z
UID:10002417-1732917600-1732942800@wuewasgeht.com
SUMMARY:Finally Friday
DESCRIPTION:Finally Friday\nBoot\n  \n🔞 Ab 18 \n🎵 Mixed Music \n🍸 Happy Hour bis 24 Uhr \n💶 9€\, für Schüler und Studenten bis 24 Uhr: 5€ \n  \nFoto: Club Boot Würzburg
URL:https://wuewasgeht.com/events/finally-friday-boot/2024-11-29/
LOCATION:Boot\, Veitshöchheimer Str. 5c\, Würzburg\, 97080\, Deutschland
CATEGORIES:Club Event
ATTACH;FMTTYPE=image/png:https://wuewasgeht.com/wp-content/uploads/2023/07/Boot_finallyfriday.png
END:VEVENT
BEGIN:VEVENT
DTSTART;TZID=Europe/Berlin:20241130T220000
DTEND;TZID=Europe/Berlin:20241201T050000
DTSTAMP:20260421T011726
CREATED:20231128T121115Z
LAST-MODIFIED:20250225T190845Z
UID:10002677-1733004000-1733029200@wuewasgeht.com
SUMMARY:Sippin Saturday
DESCRIPTION:Sippin Saturday\nBoot\n  \n🔞 Ab 18 \n🎵 Mixed Music \n🍸 Happy Hour bis 24 Uhr \n💶 10€\, für Schüler und Studenten bis 24 Uhr: 5€ \n  \nFoto: Club Boot Würzburg
URL:https://wuewasgeht.com/events/sippin-saturday-boot/2024-11-30/
LOCATION:Boot\, Veitshöchheimer Str. 5c\, Würzburg\, 97080\, Deutschland
CATEGORIES:Club Event
ATTACH;FMTTYPE=image/png:https://wuewasgeht.com/wp-content/uploads/2023/07/Boot_3.png
END:VEVENT
END:VCALENDAR