BEGIN:VCALENDAR
VERSION:2.0
PRODID:-//WueWasGeht - ECPv6.11.2.1//NONSGML v1.0//EN
CALSCALE:GREGORIAN
METHOD:PUBLISH
X-WR-CALNAME:WueWasGeht
X-ORIGINAL-URL:https://wuewasgeht.com
X-WR-CALDESC:Veranstaltungen für WueWasGeht
REFRESH-INTERVAL;VALUE=DURATION:PT1H
X-Robots-Tag:noindex
X-PUBLISHED-TTL:PT1H
BEGIN:VTIMEZONE
TZID:Europe/Berlin
BEGIN:DAYLIGHT
TZOFFSETFROM:+0100
TZOFFSETTO:+0200
TZNAME:CEST
DTSTART:20280326T010000
END:DAYLIGHT
BEGIN:STANDARD
TZOFFSETFROM:+0200
TZOFFSETTO:+0100
TZNAME:CET
DTSTART:20281029T010000
END:STANDARD
END:VTIMEZONE
BEGIN:VEVENT
DTSTART;TZID=Europe/Berlin:20280603T220000
DTEND;TZID=Europe/Berlin:20280604T050000
DTSTAMP:20260425T124418
CREATED:20231128T121115Z
LAST-MODIFIED:20250225T190845Z
UID:10002860-1843682400-1843707600@wuewasgeht.com
SUMMARY:Sippin Saturday
DESCRIPTION:Sippin Saturday\nBoot\n  \n🔞 Ab 18 \n🎵 Mixed Music \n🍸 Happy Hour bis 24 Uhr \n💶 10€\, für Schüler und Studenten bis 24 Uhr: 5€ \n  \nFoto: Club Boot Würzburg
URL:https://wuewasgeht.com/events/sippin-saturday-boot/2028-06-03/
LOCATION:Boot\, Veitshöchheimer Str. 5c\, Würzburg\, 97080\, Deutschland
CATEGORIES:Club Event
ATTACH;FMTTYPE=image/png:https://wuewasgeht.com/wp-content/uploads/2023/07/Boot_3.png
END:VEVENT
BEGIN:VEVENT
DTSTART;TZID=Europe/Berlin:20280608T220000
DTEND;TZID=Europe/Berlin:20280609T050000
DTSTAMP:20260425T124418
CREATED:20231129T151551Z
LAST-MODIFIED:20240130T105720Z
UID:10002341-1844114400-1844139600@wuewasgeht.com
SUMMARY:Thirsty Thursday
DESCRIPTION:Thirsty Thursday\nBoot\n  \n🔞 Ab 18 \n🎵 Mixed Music \n🍸 Happy Hour \n💶 Eintritt: 5€\, für Schüler und Studenten bis 24 Uhr for free \n  \nFoto: Club Boot Würzburg
URL:https://wuewasgeht.com/events/thirsty-thursday-boot/2028-06-08/
LOCATION:Boot\, Veitshöchheimer Str. 5c\, Würzburg\, 97080\, Deutschland
CATEGORIES:Club Event
ATTACH;FMTTYPE=image/png:https://wuewasgeht.com/wp-content/uploads/2023/07/Boot_ThirstyThursday.png
END:VEVENT
BEGIN:VEVENT
DTSTART;TZID=Europe/Berlin:20280609T220000
DTEND;TZID=Europe/Berlin:20280610T050000
DTSTAMP:20260425T124418
CREATED:20231129T152151Z
LAST-MODIFIED:20250225T190751Z
UID:10002601-1844200800-1844226000@wuewasgeht.com
SUMMARY:Finally Friday
DESCRIPTION:Finally Friday\nBoot\n  \n🔞 Ab 18 \n🎵 Mixed Music \n🍸 Happy Hour bis 24 Uhr \n💶 9€\, für Schüler und Studenten bis 24 Uhr: 5€ \n  \nFoto: Club Boot Würzburg
URL:https://wuewasgeht.com/events/finally-friday-boot/2028-06-09/
LOCATION:Boot\, Veitshöchheimer Str. 5c\, Würzburg\, 97080\, Deutschland
CATEGORIES:Club Event
ATTACH;FMTTYPE=image/png:https://wuewasgeht.com/wp-content/uploads/2023/07/Boot_finallyfriday.png
END:VEVENT
BEGIN:VEVENT
DTSTART;TZID=Europe/Berlin:20280610T220000
DTEND;TZID=Europe/Berlin:20280611T050000
DTSTAMP:20260425T124418
CREATED:20231128T121115Z
LAST-MODIFIED:20250225T190845Z
UID:10002861-1844287200-1844312400@wuewasgeht.com
SUMMARY:Sippin Saturday
DESCRIPTION:Sippin Saturday\nBoot\n  \n🔞 Ab 18 \n🎵 Mixed Music \n🍸 Happy Hour bis 24 Uhr \n💶 10€\, für Schüler und Studenten bis 24 Uhr: 5€ \n  \nFoto: Club Boot Würzburg
URL:https://wuewasgeht.com/events/sippin-saturday-boot/2028-06-10/
LOCATION:Boot\, Veitshöchheimer Str. 5c\, Würzburg\, 97080\, Deutschland
CATEGORIES:Club Event
ATTACH;FMTTYPE=image/png:https://wuewasgeht.com/wp-content/uploads/2023/07/Boot_3.png
END:VEVENT
BEGIN:VEVENT
DTSTART;TZID=Europe/Berlin:20280615T220000
DTEND;TZID=Europe/Berlin:20280616T050000
DTSTAMP:20260425T124418
CREATED:20231129T151551Z
LAST-MODIFIED:20240130T105720Z
UID:10002342-1844719200-1844744400@wuewasgeht.com
SUMMARY:Thirsty Thursday
DESCRIPTION:Thirsty Thursday\nBoot\n  \n🔞 Ab 18 \n🎵 Mixed Music \n🍸 Happy Hour \n💶 Eintritt: 5€\, für Schüler und Studenten bis 24 Uhr for free \n  \nFoto: Club Boot Würzburg
URL:https://wuewasgeht.com/events/thirsty-thursday-boot/2028-06-15/
LOCATION:Boot\, Veitshöchheimer Str. 5c\, Würzburg\, 97080\, Deutschland
CATEGORIES:Club Event
ATTACH;FMTTYPE=image/png:https://wuewasgeht.com/wp-content/uploads/2023/07/Boot_ThirstyThursday.png
END:VEVENT
BEGIN:VEVENT
DTSTART;TZID=Europe/Berlin:20280616T220000
DTEND;TZID=Europe/Berlin:20280617T050000
DTSTAMP:20260425T124418
CREATED:20231129T152151Z
LAST-MODIFIED:20250225T190751Z
UID:10002602-1844805600-1844830800@wuewasgeht.com
SUMMARY:Finally Friday
DESCRIPTION:Finally Friday\nBoot\n  \n🔞 Ab 18 \n🎵 Mixed Music \n🍸 Happy Hour bis 24 Uhr \n💶 9€\, für Schüler und Studenten bis 24 Uhr: 5€ \n  \nFoto: Club Boot Würzburg
URL:https://wuewasgeht.com/events/finally-friday-boot/2028-06-16/
LOCATION:Boot\, Veitshöchheimer Str. 5c\, Würzburg\, 97080\, Deutschland
CATEGORIES:Club Event
ATTACH;FMTTYPE=image/png:https://wuewasgeht.com/wp-content/uploads/2023/07/Boot_finallyfriday.png
END:VEVENT
BEGIN:VEVENT
DTSTART;TZID=Europe/Berlin:20280617T220000
DTEND;TZID=Europe/Berlin:20280618T050000
DTSTAMP:20260425T124418
CREATED:20231128T121115Z
LAST-MODIFIED:20250225T190845Z
UID:10002862-1844892000-1844917200@wuewasgeht.com
SUMMARY:Sippin Saturday
DESCRIPTION:Sippin Saturday\nBoot\n  \n🔞 Ab 18 \n🎵 Mixed Music \n🍸 Happy Hour bis 24 Uhr \n💶 10€\, für Schüler und Studenten bis 24 Uhr: 5€ \n  \nFoto: Club Boot Würzburg
URL:https://wuewasgeht.com/events/sippin-saturday-boot/2028-06-17/
LOCATION:Boot\, Veitshöchheimer Str. 5c\, Würzburg\, 97080\, Deutschland
CATEGORIES:Club Event
ATTACH;FMTTYPE=image/png:https://wuewasgeht.com/wp-content/uploads/2023/07/Boot_3.png
END:VEVENT
BEGIN:VEVENT
DTSTART;TZID=Europe/Berlin:20280622T220000
DTEND;TZID=Europe/Berlin:20280623T050000
DTSTAMP:20260425T124418
CREATED:20231129T151551Z
LAST-MODIFIED:20240130T105720Z
UID:10002343-1845324000-1845349200@wuewasgeht.com
SUMMARY:Thirsty Thursday
DESCRIPTION:Thirsty Thursday\nBoot\n  \n🔞 Ab 18 \n🎵 Mixed Music \n🍸 Happy Hour \n💶 Eintritt: 5€\, für Schüler und Studenten bis 24 Uhr for free \n  \nFoto: Club Boot Würzburg
URL:https://wuewasgeht.com/events/thirsty-thursday-boot/2028-06-22/
LOCATION:Boot\, Veitshöchheimer Str. 5c\, Würzburg\, 97080\, Deutschland
CATEGORIES:Club Event
ATTACH;FMTTYPE=image/png:https://wuewasgeht.com/wp-content/uploads/2023/07/Boot_ThirstyThursday.png
END:VEVENT
BEGIN:VEVENT
DTSTART;TZID=Europe/Berlin:20280623T220000
DTEND;TZID=Europe/Berlin:20280624T050000
DTSTAMP:20260425T124418
CREATED:20231129T152151Z
LAST-MODIFIED:20250225T190751Z
UID:10002603-1845410400-1845435600@wuewasgeht.com
SUMMARY:Finally Friday
DESCRIPTION:Finally Friday\nBoot\n  \n🔞 Ab 18 \n🎵 Mixed Music \n🍸 Happy Hour bis 24 Uhr \n💶 9€\, für Schüler und Studenten bis 24 Uhr: 5€ \n  \nFoto: Club Boot Würzburg
URL:https://wuewasgeht.com/events/finally-friday-boot/2028-06-23/
LOCATION:Boot\, Veitshöchheimer Str. 5c\, Würzburg\, 97080\, Deutschland
CATEGORIES:Club Event
ATTACH;FMTTYPE=image/png:https://wuewasgeht.com/wp-content/uploads/2023/07/Boot_finallyfriday.png
END:VEVENT
BEGIN:VEVENT
DTSTART;TZID=Europe/Berlin:20280624T220000
DTEND;TZID=Europe/Berlin:20280625T050000
DTSTAMP:20260425T124418
CREATED:20231128T121115Z
LAST-MODIFIED:20250225T190845Z
UID:10002863-1845496800-1845522000@wuewasgeht.com
SUMMARY:Sippin Saturday
DESCRIPTION:Sippin Saturday\nBoot\n  \n🔞 Ab 18 \n🎵 Mixed Music \n🍸 Happy Hour bis 24 Uhr \n💶 10€\, für Schüler und Studenten bis 24 Uhr: 5€ \n  \nFoto: Club Boot Würzburg
URL:https://wuewasgeht.com/events/sippin-saturday-boot/2028-06-24/
LOCATION:Boot\, Veitshöchheimer Str. 5c\, Würzburg\, 97080\, Deutschland
CATEGORIES:Club Event
ATTACH;FMTTYPE=image/png:https://wuewasgeht.com/wp-content/uploads/2023/07/Boot_3.png
END:VEVENT
BEGIN:VEVENT
DTSTART;TZID=Europe/Berlin:20280629T220000
DTEND;TZID=Europe/Berlin:20280630T050000
DTSTAMP:20260425T124418
CREATED:20231129T151551Z
LAST-MODIFIED:20240130T105720Z
UID:10002344-1845928800-1845954000@wuewasgeht.com
SUMMARY:Thirsty Thursday
DESCRIPTION:Thirsty Thursday\nBoot\n  \n🔞 Ab 18 \n🎵 Mixed Music \n🍸 Happy Hour \n💶 Eintritt: 5€\, für Schüler und Studenten bis 24 Uhr for free \n  \nFoto: Club Boot Würzburg
URL:https://wuewasgeht.com/events/thirsty-thursday-boot/2028-06-29/
LOCATION:Boot\, Veitshöchheimer Str. 5c\, Würzburg\, 97080\, Deutschland
CATEGORIES:Club Event
ATTACH;FMTTYPE=image/png:https://wuewasgeht.com/wp-content/uploads/2023/07/Boot_ThirstyThursday.png
END:VEVENT
BEGIN:VEVENT
DTSTART;TZID=Europe/Berlin:20280630T220000
DTEND;TZID=Europe/Berlin:20280701T050000
DTSTAMP:20260425T124418
CREATED:20231129T152151Z
LAST-MODIFIED:20250225T190751Z
UID:10002604-1846015200-1846040400@wuewasgeht.com
SUMMARY:Finally Friday
DESCRIPTION:Finally Friday\nBoot\n  \n🔞 Ab 18 \n🎵 Mixed Music \n🍸 Happy Hour bis 24 Uhr \n💶 9€\, für Schüler und Studenten bis 24 Uhr: 5€ \n  \nFoto: Club Boot Würzburg
URL:https://wuewasgeht.com/events/finally-friday-boot/2028-06-30/
LOCATION:Boot\, Veitshöchheimer Str. 5c\, Würzburg\, 97080\, Deutschland
CATEGORIES:Club Event
ATTACH;FMTTYPE=image/png:https://wuewasgeht.com/wp-content/uploads/2023/07/Boot_finallyfriday.png
END:VEVENT
BEGIN:VEVENT
DTSTART;TZID=Europe/Berlin:20280701T220000
DTEND;TZID=Europe/Berlin:20280702T050000
DTSTAMP:20260425T124418
CREATED:20231128T121115Z
LAST-MODIFIED:20250225T190845Z
UID:10002864-1846101600-1846126800@wuewasgeht.com
SUMMARY:Sippin Saturday
DESCRIPTION:Sippin Saturday\nBoot\n  \n🔞 Ab 18 \n🎵 Mixed Music \n🍸 Happy Hour bis 24 Uhr \n💶 10€\, für Schüler und Studenten bis 24 Uhr: 5€ \n  \nFoto: Club Boot Würzburg
URL:https://wuewasgeht.com/events/sippin-saturday-boot/2028-07-01/
LOCATION:Boot\, Veitshöchheimer Str. 5c\, Würzburg\, 97080\, Deutschland
CATEGORIES:Club Event
ATTACH;FMTTYPE=image/png:https://wuewasgeht.com/wp-content/uploads/2023/07/Boot_3.png
END:VEVENT
BEGIN:VEVENT
DTSTART;TZID=Europe/Berlin:20280706T220000
DTEND;TZID=Europe/Berlin:20280707T050000
DTSTAMP:20260425T124418
CREATED:20231129T151551Z
LAST-MODIFIED:20240130T105720Z
UID:10002345-1846533600-1846558800@wuewasgeht.com
SUMMARY:Thirsty Thursday
DESCRIPTION:Thirsty Thursday\nBoot\n  \n🔞 Ab 18 \n🎵 Mixed Music \n🍸 Happy Hour \n💶 Eintritt: 5€\, für Schüler und Studenten bis 24 Uhr for free \n  \nFoto: Club Boot Würzburg
URL:https://wuewasgeht.com/events/thirsty-thursday-boot/2028-07-06/
LOCATION:Boot\, Veitshöchheimer Str. 5c\, Würzburg\, 97080\, Deutschland
CATEGORIES:Club Event
ATTACH;FMTTYPE=image/png:https://wuewasgeht.com/wp-content/uploads/2023/07/Boot_ThirstyThursday.png
END:VEVENT
BEGIN:VEVENT
DTSTART;TZID=Europe/Berlin:20280707T220000
DTEND;TZID=Europe/Berlin:20280708T050000
DTSTAMP:20260425T124418
CREATED:20231129T152151Z
LAST-MODIFIED:20250225T190751Z
UID:10002605-1846620000-1846645200@wuewasgeht.com
SUMMARY:Finally Friday
DESCRIPTION:Finally Friday\nBoot\n  \n🔞 Ab 18 \n🎵 Mixed Music \n🍸 Happy Hour bis 24 Uhr \n💶 9€\, für Schüler und Studenten bis 24 Uhr: 5€ \n  \nFoto: Club Boot Würzburg
URL:https://wuewasgeht.com/events/finally-friday-boot/2028-07-07/
LOCATION:Boot\, Veitshöchheimer Str. 5c\, Würzburg\, 97080\, Deutschland
CATEGORIES:Club Event
ATTACH;FMTTYPE=image/png:https://wuewasgeht.com/wp-content/uploads/2023/07/Boot_finallyfriday.png
END:VEVENT
BEGIN:VEVENT
DTSTART;TZID=Europe/Berlin:20280708T220000
DTEND;TZID=Europe/Berlin:20280709T050000
DTSTAMP:20260425T124418
CREATED:20231128T121115Z
LAST-MODIFIED:20250225T190845Z
UID:10002865-1846706400-1846731600@wuewasgeht.com
SUMMARY:Sippin Saturday
DESCRIPTION:Sippin Saturday\nBoot\n  \n🔞 Ab 18 \n🎵 Mixed Music \n🍸 Happy Hour bis 24 Uhr \n💶 10€\, für Schüler und Studenten bis 24 Uhr: 5€ \n  \nFoto: Club Boot Würzburg
URL:https://wuewasgeht.com/events/sippin-saturday-boot/2028-07-08/
LOCATION:Boot\, Veitshöchheimer Str. 5c\, Würzburg\, 97080\, Deutschland
CATEGORIES:Club Event
ATTACH;FMTTYPE=image/png:https://wuewasgeht.com/wp-content/uploads/2023/07/Boot_3.png
END:VEVENT
BEGIN:VEVENT
DTSTART;TZID=Europe/Berlin:20280713T220000
DTEND;TZID=Europe/Berlin:20280714T050000
DTSTAMP:20260425T124418
CREATED:20231129T151551Z
LAST-MODIFIED:20240130T105720Z
UID:10002346-1847138400-1847163600@wuewasgeht.com
SUMMARY:Thirsty Thursday
DESCRIPTION:Thirsty Thursday\nBoot\n  \n🔞 Ab 18 \n🎵 Mixed Music \n🍸 Happy Hour \n💶 Eintritt: 5€\, für Schüler und Studenten bis 24 Uhr for free \n  \nFoto: Club Boot Würzburg
URL:https://wuewasgeht.com/events/thirsty-thursday-boot/2028-07-13/
LOCATION:Boot\, Veitshöchheimer Str. 5c\, Würzburg\, 97080\, Deutschland
CATEGORIES:Club Event
ATTACH;FMTTYPE=image/png:https://wuewasgeht.com/wp-content/uploads/2023/07/Boot_ThirstyThursday.png
END:VEVENT
BEGIN:VEVENT
DTSTART;TZID=Europe/Berlin:20280714T220000
DTEND;TZID=Europe/Berlin:20280715T050000
DTSTAMP:20260425T124418
CREATED:20231129T152151Z
LAST-MODIFIED:20250225T190751Z
UID:10002606-1847224800-1847250000@wuewasgeht.com
SUMMARY:Finally Friday
DESCRIPTION:Finally Friday\nBoot\n  \n🔞 Ab 18 \n🎵 Mixed Music \n🍸 Happy Hour bis 24 Uhr \n💶 9€\, für Schüler und Studenten bis 24 Uhr: 5€ \n  \nFoto: Club Boot Würzburg
URL:https://wuewasgeht.com/events/finally-friday-boot/2028-07-14/
LOCATION:Boot\, Veitshöchheimer Str. 5c\, Würzburg\, 97080\, Deutschland
CATEGORIES:Club Event
ATTACH;FMTTYPE=image/png:https://wuewasgeht.com/wp-content/uploads/2023/07/Boot_finallyfriday.png
END:VEVENT
BEGIN:VEVENT
DTSTART;TZID=Europe/Berlin:20280715T220000
DTEND;TZID=Europe/Berlin:20280716T050000
DTSTAMP:20260425T124418
CREATED:20231128T121115Z
LAST-MODIFIED:20250225T190845Z
UID:10002866-1847311200-1847336400@wuewasgeht.com
SUMMARY:Sippin Saturday
DESCRIPTION:Sippin Saturday\nBoot\n  \n🔞 Ab 18 \n🎵 Mixed Music \n🍸 Happy Hour bis 24 Uhr \n💶 10€\, für Schüler und Studenten bis 24 Uhr: 5€ \n  \nFoto: Club Boot Würzburg
URL:https://wuewasgeht.com/events/sippin-saturday-boot/2028-07-15/
LOCATION:Boot\, Veitshöchheimer Str. 5c\, Würzburg\, 97080\, Deutschland
CATEGORIES:Club Event
ATTACH;FMTTYPE=image/png:https://wuewasgeht.com/wp-content/uploads/2023/07/Boot_3.png
END:VEVENT
BEGIN:VEVENT
DTSTART;TZID=Europe/Berlin:20280720T220000
DTEND;TZID=Europe/Berlin:20280721T050000
DTSTAMP:20260425T124418
CREATED:20231129T151551Z
LAST-MODIFIED:20240130T105720Z
UID:10002347-1847743200-1847768400@wuewasgeht.com
SUMMARY:Thirsty Thursday
DESCRIPTION:Thirsty Thursday\nBoot\n  \n🔞 Ab 18 \n🎵 Mixed Music \n🍸 Happy Hour \n💶 Eintritt: 5€\, für Schüler und Studenten bis 24 Uhr for free \n  \nFoto: Club Boot Würzburg
URL:https://wuewasgeht.com/events/thirsty-thursday-boot/2028-07-20/
LOCATION:Boot\, Veitshöchheimer Str. 5c\, Würzburg\, 97080\, Deutschland
CATEGORIES:Club Event
ATTACH;FMTTYPE=image/png:https://wuewasgeht.com/wp-content/uploads/2023/07/Boot_ThirstyThursday.png
END:VEVENT
BEGIN:VEVENT
DTSTART;TZID=Europe/Berlin:20280721T220000
DTEND;TZID=Europe/Berlin:20280722T050000
DTSTAMP:20260425T124418
CREATED:20231129T152151Z
LAST-MODIFIED:20250225T190751Z
UID:10002607-1847829600-1847854800@wuewasgeht.com
SUMMARY:Finally Friday
DESCRIPTION:Finally Friday\nBoot\n  \n🔞 Ab 18 \n🎵 Mixed Music \n🍸 Happy Hour bis 24 Uhr \n💶 9€\, für Schüler und Studenten bis 24 Uhr: 5€ \n  \nFoto: Club Boot Würzburg
URL:https://wuewasgeht.com/events/finally-friday-boot/2028-07-21/
LOCATION:Boot\, Veitshöchheimer Str. 5c\, Würzburg\, 97080\, Deutschland
CATEGORIES:Club Event
ATTACH;FMTTYPE=image/png:https://wuewasgeht.com/wp-content/uploads/2023/07/Boot_finallyfriday.png
END:VEVENT
BEGIN:VEVENT
DTSTART;TZID=Europe/Berlin:20280722T220000
DTEND;TZID=Europe/Berlin:20280723T050000
DTSTAMP:20260425T124418
CREATED:20231128T121115Z
LAST-MODIFIED:20250225T190845Z
UID:10002867-1847916000-1847941200@wuewasgeht.com
SUMMARY:Sippin Saturday
DESCRIPTION:Sippin Saturday\nBoot\n  \n🔞 Ab 18 \n🎵 Mixed Music \n🍸 Happy Hour bis 24 Uhr \n💶 10€\, für Schüler und Studenten bis 24 Uhr: 5€ \n  \nFoto: Club Boot Würzburg
URL:https://wuewasgeht.com/events/sippin-saturday-boot/2028-07-22/
LOCATION:Boot\, Veitshöchheimer Str. 5c\, Würzburg\, 97080\, Deutschland
CATEGORIES:Club Event
ATTACH;FMTTYPE=image/png:https://wuewasgeht.com/wp-content/uploads/2023/07/Boot_3.png
END:VEVENT
BEGIN:VEVENT
DTSTART;TZID=Europe/Berlin:20280727T220000
DTEND;TZID=Europe/Berlin:20280728T050000
DTSTAMP:20260425T124418
CREATED:20231129T151551Z
LAST-MODIFIED:20240130T105720Z
UID:10002348-1848348000-1848373200@wuewasgeht.com
SUMMARY:Thirsty Thursday
DESCRIPTION:Thirsty Thursday\nBoot\n  \n🔞 Ab 18 \n🎵 Mixed Music \n🍸 Happy Hour \n💶 Eintritt: 5€\, für Schüler und Studenten bis 24 Uhr for free \n  \nFoto: Club Boot Würzburg
URL:https://wuewasgeht.com/events/thirsty-thursday-boot/2028-07-27/
LOCATION:Boot\, Veitshöchheimer Str. 5c\, Würzburg\, 97080\, Deutschland
CATEGORIES:Club Event
ATTACH;FMTTYPE=image/png:https://wuewasgeht.com/wp-content/uploads/2023/07/Boot_ThirstyThursday.png
END:VEVENT
BEGIN:VEVENT
DTSTART;TZID=Europe/Berlin:20280728T220000
DTEND;TZID=Europe/Berlin:20280729T050000
DTSTAMP:20260425T124418
CREATED:20231129T152151Z
LAST-MODIFIED:20250225T190751Z
UID:10002608-1848434400-1848459600@wuewasgeht.com
SUMMARY:Finally Friday
DESCRIPTION:Finally Friday\nBoot\n  \n🔞 Ab 18 \n🎵 Mixed Music \n🍸 Happy Hour bis 24 Uhr \n💶 9€\, für Schüler und Studenten bis 24 Uhr: 5€ \n  \nFoto: Club Boot Würzburg
URL:https://wuewasgeht.com/events/finally-friday-boot/2028-07-28/
LOCATION:Boot\, Veitshöchheimer Str. 5c\, Würzburg\, 97080\, Deutschland
CATEGORIES:Club Event
ATTACH;FMTTYPE=image/png:https://wuewasgeht.com/wp-content/uploads/2023/07/Boot_finallyfriday.png
END:VEVENT
BEGIN:VEVENT
DTSTART;TZID=Europe/Berlin:20280729T220000
DTEND;TZID=Europe/Berlin:20280730T050000
DTSTAMP:20260425T124418
CREATED:20231128T121115Z
LAST-MODIFIED:20250225T190845Z
UID:10002868-1848520800-1848546000@wuewasgeht.com
SUMMARY:Sippin Saturday
DESCRIPTION:Sippin Saturday\nBoot\n  \n🔞 Ab 18 \n🎵 Mixed Music \n🍸 Happy Hour bis 24 Uhr \n💶 10€\, für Schüler und Studenten bis 24 Uhr: 5€ \n  \nFoto: Club Boot Würzburg
URL:https://wuewasgeht.com/events/sippin-saturday-boot/2028-07-29/
LOCATION:Boot\, Veitshöchheimer Str. 5c\, Würzburg\, 97080\, Deutschland
CATEGORIES:Club Event
ATTACH;FMTTYPE=image/png:https://wuewasgeht.com/wp-content/uploads/2023/07/Boot_3.png
END:VEVENT
BEGIN:VEVENT
DTSTART;TZID=Europe/Berlin:20280803T220000
DTEND;TZID=Europe/Berlin:20280804T050000
DTSTAMP:20260425T124418
CREATED:20231129T151551Z
LAST-MODIFIED:20240130T105720Z
UID:10002349-1848952800-1848978000@wuewasgeht.com
SUMMARY:Thirsty Thursday
DESCRIPTION:Thirsty Thursday\nBoot\n  \n🔞 Ab 18 \n🎵 Mixed Music \n🍸 Happy Hour \n💶 Eintritt: 5€\, für Schüler und Studenten bis 24 Uhr for free \n  \nFoto: Club Boot Würzburg
URL:https://wuewasgeht.com/events/thirsty-thursday-boot/2028-08-03/
LOCATION:Boot\, Veitshöchheimer Str. 5c\, Würzburg\, 97080\, Deutschland
CATEGORIES:Club Event
ATTACH;FMTTYPE=image/png:https://wuewasgeht.com/wp-content/uploads/2023/07/Boot_ThirstyThursday.png
END:VEVENT
BEGIN:VEVENT
DTSTART;TZID=Europe/Berlin:20280804T220000
DTEND;TZID=Europe/Berlin:20280805T050000
DTSTAMP:20260425T124418
CREATED:20231129T152151Z
LAST-MODIFIED:20250225T190751Z
UID:10002609-1849039200-1849064400@wuewasgeht.com
SUMMARY:Finally Friday
DESCRIPTION:Finally Friday\nBoot\n  \n🔞 Ab 18 \n🎵 Mixed Music \n🍸 Happy Hour bis 24 Uhr \n💶 9€\, für Schüler und Studenten bis 24 Uhr: 5€ \n  \nFoto: Club Boot Würzburg
URL:https://wuewasgeht.com/events/finally-friday-boot/2028-08-04/
LOCATION:Boot\, Veitshöchheimer Str. 5c\, Würzburg\, 97080\, Deutschland
CATEGORIES:Club Event
ATTACH;FMTTYPE=image/png:https://wuewasgeht.com/wp-content/uploads/2023/07/Boot_finallyfriday.png
END:VEVENT
BEGIN:VEVENT
DTSTART;TZID=Europe/Berlin:20280805T220000
DTEND;TZID=Europe/Berlin:20280806T050000
DTSTAMP:20260425T124418
CREATED:20231128T121115Z
LAST-MODIFIED:20250225T190845Z
UID:10002869-1849125600-1849150800@wuewasgeht.com
SUMMARY:Sippin Saturday
DESCRIPTION:Sippin Saturday\nBoot\n  \n🔞 Ab 18 \n🎵 Mixed Music \n🍸 Happy Hour bis 24 Uhr \n💶 10€\, für Schüler und Studenten bis 24 Uhr: 5€ \n  \nFoto: Club Boot Würzburg
URL:https://wuewasgeht.com/events/sippin-saturday-boot/2028-08-05/
LOCATION:Boot\, Veitshöchheimer Str. 5c\, Würzburg\, 97080\, Deutschland
CATEGORIES:Club Event
ATTACH;FMTTYPE=image/png:https://wuewasgeht.com/wp-content/uploads/2023/07/Boot_3.png
END:VEVENT
BEGIN:VEVENT
DTSTART;TZID=Europe/Berlin:20280810T220000
DTEND;TZID=Europe/Berlin:20280811T050000
DTSTAMP:20260425T124418
CREATED:20231129T151551Z
LAST-MODIFIED:20240130T105720Z
UID:10002350-1849557600-1849582800@wuewasgeht.com
SUMMARY:Thirsty Thursday
DESCRIPTION:Thirsty Thursday\nBoot\n  \n🔞 Ab 18 \n🎵 Mixed Music \n🍸 Happy Hour \n💶 Eintritt: 5€\, für Schüler und Studenten bis 24 Uhr for free \n  \nFoto: Club Boot Würzburg
URL:https://wuewasgeht.com/events/thirsty-thursday-boot/2028-08-10/
LOCATION:Boot\, Veitshöchheimer Str. 5c\, Würzburg\, 97080\, Deutschland
CATEGORIES:Club Event
ATTACH;FMTTYPE=image/png:https://wuewasgeht.com/wp-content/uploads/2023/07/Boot_ThirstyThursday.png
END:VEVENT
BEGIN:VEVENT
DTSTART;TZID=Europe/Berlin:20280811T220000
DTEND;TZID=Europe/Berlin:20280812T050000
DTSTAMP:20260425T124418
CREATED:20231129T152151Z
LAST-MODIFIED:20250225T190751Z
UID:10002610-1849644000-1849669200@wuewasgeht.com
SUMMARY:Finally Friday
DESCRIPTION:Finally Friday\nBoot\n  \n🔞 Ab 18 \n🎵 Mixed Music \n🍸 Happy Hour bis 24 Uhr \n💶 9€\, für Schüler und Studenten bis 24 Uhr: 5€ \n  \nFoto: Club Boot Würzburg
URL:https://wuewasgeht.com/events/finally-friday-boot/2028-08-11/
LOCATION:Boot\, Veitshöchheimer Str. 5c\, Würzburg\, 97080\, Deutschland
CATEGORIES:Club Event
ATTACH;FMTTYPE=image/png:https://wuewasgeht.com/wp-content/uploads/2023/07/Boot_finallyfriday.png
END:VEVENT
END:VCALENDAR