BEGIN:VCALENDAR
VERSION:2.0
PRODID:-//WueWasGeht - ECPv6.11.2.1//NONSGML v1.0//EN
CALSCALE:GREGORIAN
METHOD:PUBLISH
X-ORIGINAL-URL:https://wuewasgeht.com
X-WR-CALDESC:Veranstaltungen für WueWasGeht
REFRESH-INTERVAL;VALUE=DURATION:PT1H
X-Robots-Tag:noindex
X-PUBLISHED-TTL:PT1H
BEGIN:VTIMEZONE
TZID:Europe/Berlin
BEGIN:DAYLIGHT
TZOFFSETFROM:+0100
TZOFFSETTO:+0200
TZNAME:CEST
DTSTART:20250330T010000
END:DAYLIGHT
BEGIN:STANDARD
TZOFFSETFROM:+0200
TZOFFSETTO:+0100
TZNAME:CET
DTSTART:20251026T010000
END:STANDARD
END:VTIMEZONE
BEGIN:VEVENT
DTSTART;TZID=Europe/Berlin:20250117T210000
DTEND;TZID=Europe/Berlin:20250118T050000
DTSTAMP:20260425T170755
CREATED:20250113T114432Z
LAST-MODIFIED:20250113T114846Z
UID:10011047-1737147600-1737176400@wuewasgeht.com
SUMMARY:Aftair Eight pres. College Night
DESCRIPTION:Aftair Eight pres. College Night\nAirport\n  \n🔞 Ab 16 \n🎵 Mixed Music/Hip-Hop/Trap/Y2K Hits \n🍸 ALLE LONGDRINKS 5\,00€\, Alle Biere für 3€ \n🎧 DJ Bambi \n🎫 Tickets \n  \nFoto: Club Airport Würzburg
URL:https://wuewasgeht.com/events/airport-aftair-eight-pres-college-night-1701/
LOCATION:Airport\, Gattingerstraße 17\, Würzburg\, 97076\, Deutschland
CATEGORIES:Club Event
ATTACH;FMTTYPE=image/png:https://wuewasgeht.com/wp-content/uploads/2025/01/Airport_5.png
END:VEVENT
BEGIN:VEVENT
DTSTART;TZID=Europe/Berlin:20250118T210000
DTEND;TZID=Europe/Berlin:20250119T050000
DTSTAMP:20260425T170755
CREATED:20250116T175659Z
LAST-MODIFIED:20250116T175659Z
UID:10011057-1737234000-1737262800@wuewasgeht.com
SUMMARY:We Love Music
DESCRIPTION:We Love Music from the 80s ´til today!\nZauberberg\n  \n🔞 Ab 18 \n🎵 Mixed Music\, HipHop \n💶 Eintritt ist bis 22 Uhr frei über Marrakesh-Zelt \n🎧 DJ Tobi Grimm\, Redskin\, DJ John \nFoto: Club Zauberberg Würzburg
URL:https://wuewasgeht.com/events/zauberberg-we-love-music-1801/
LOCATION:Zauberberg\, Veitshöchheimer Str. 20\, Würzburg\, 97080\, Deutschland
CATEGORIES:Club Event
ATTACH;FMTTYPE=image/png:https://wuewasgeht.com/wp-content/uploads/2025/01/Zauberberg_2.png
END:VEVENT
BEGIN:VEVENT
DTSTART;TZID=Europe/Berlin:20250118T230000
DTEND;TZID=Europe/Berlin:20250119T050000
DTSTAMP:20260425T170755
CREATED:20250116T180738Z
LAST-MODIFIED:20250116T181205Z
UID:10011056-1737241200-1737262800@wuewasgeht.com
SUMMARY:ODEON SATURDAY´S X HEROES
DESCRIPTION:ODEON SATURDAY´S X HEROES\n\n\n\nOdeon\n  \n🔞 Ab 18 \n🎵 Hip Hop\, RnB\, Classics & House \n🎧 VAL & DJ LIL´J
URL:https://wuewasgeht.com/events/odeon-saturdays-x-heroes-1801/
LOCATION:Odeon Lounge\, Augustinerstraße 18\, Würzburg\, 97070\, Deutschland
CATEGORIES:Club Event
END:VEVENT
BEGIN:VEVENT
DTSTART;TZID=Europe/Berlin:20250125T210000
DTEND;TZID=Europe/Berlin:20250126T050000
DTSTAMP:20260425T170755
CREATED:20250120T100542Z
LAST-MODIFIED:20250120T122129Z
UID:10011068-1737838800-1737867600@wuewasgeht.com
SUMMARY:We Love Music
DESCRIPTION:We Love Music from the 80s ´til today!\nZauberberg\n  \n🔞 Ab 18 \n🎵 Mixed Music\, HipHop \n💶 Eintritt ist bis 22 Uhr frei über Marrakesh-Zelt \n🎧 DJ Tobi Grimm\, Redskin\, DJ John \nFoto: Club Zauberberg Würzburg
URL:https://wuewasgeht.com/events/zauberberg-we-love-music-0102/
LOCATION:Zauberberg\, Veitshöchheimer Str. 20\, Würzburg\, 97080\, Deutschland
CATEGORIES:Club Event
ATTACH;FMTTYPE=image/png:https://wuewasgeht.com/wp-content/uploads/2025/01/Zauberberg_2-2.png
END:VEVENT
BEGIN:VEVENT
DTSTART;TZID=Europe/Berlin:20250125T210000
DTEND;TZID=Europe/Berlin:20250126T050000
DTSTAMP:20260425T170755
CREATED:20250120T113951Z
LAST-MODIFIED:20250120T114113Z
UID:10011061-1737838800-1737867600@wuewasgeht.com
SUMMARY:Powerday
DESCRIPTION:Powerday\nAirport\n  \n🔞 Ab 16 \n🎵 Mixed Music\, HipHop\, Techno \n🍸 Doppeldecker \n🎧 G.O.G.\, DJ Jones\, Timm Schirmer \n🎫 Tickets \n  \nFoto: Club Airport Würzburg
URL:https://wuewasgeht.com/events/airport-powerday-2501/
LOCATION:Airport\, Gattingerstraße 17\, Würzburg\, 97076\, Deutschland
CATEGORIES:Club Event
ATTACH;FMTTYPE=image/png:https://wuewasgeht.com/wp-content/uploads/2025/01/Airport_1-1.png
END:VEVENT
BEGIN:VEVENT
DTSTART;TZID=Europe/Berlin:20250125T230000
DTEND;TZID=Europe/Berlin:20250126T050000
DTSTAMP:20260425T170755
CREATED:20250120T102918Z
LAST-MODIFIED:20250120T102918Z
UID:10011066-1737846000-1737867600@wuewasgeht.com
SUMMARY:ODEON SATURDAY´S
DESCRIPTION:ODEON SATURDAY´S\n\n\n\nOdeon\n  \n🔞 Ab 18 \n🎵 Hip Hop\, RnB\, Classics & House \n🎧 DJ SAY WHAAT & DJ POPPIGES
URL:https://wuewasgeht.com/events/odeon-saturdays-2501/
LOCATION:Odeon Lounge\, Augustinerstraße 18\, Würzburg\, 97070\, Deutschland
CATEGORIES:Club Event
END:VEVENT
END:VCALENDAR