BEGIN:VCALENDAR
VERSION:2.0
PRODID:-//WueWasGeht - ECPv6.11.2.1//NONSGML v1.0//EN
CALSCALE:GREGORIAN
METHOD:PUBLISH
X-ORIGINAL-URL:https://wuewasgeht.com
X-WR-CALDESC:Veranstaltungen für WueWasGeht
REFRESH-INTERVAL;VALUE=DURATION:PT1H
X-Robots-Tag:noindex
X-PUBLISHED-TTL:PT1H
BEGIN:VTIMEZONE
TZID:Europe/Berlin
BEGIN:DAYLIGHT
TZOFFSETFROM:+0100
TZOFFSETTO:+0200
TZNAME:CEST
DTSTART:20250330T010000
END:DAYLIGHT
BEGIN:STANDARD
TZOFFSETFROM:+0200
TZOFFSETTO:+0100
TZNAME:CET
DTSTART:20251026T010000
END:STANDARD
END:VTIMEZONE
BEGIN:VEVENT
DTSTART;TZID=Europe/Berlin:20250201T213000
DTEND;TZID=Europe/Berlin:20250202T050000
DTSTAMP:20260425T121742
CREATED:20250128T081924Z
LAST-MODIFIED:20250128T081924Z
UID:10011095-1738445400-1738472400@wuewasgeht.com
SUMMARY:We Love Music
DESCRIPTION:We Love Music from the 80s ´til today!\nZauberberg\n  \n🔞 Ab 18 \n🎵 Mixed Music\, HipHop \n💶 Eintritt ist bis 22 Uhr frei über Marrakesh-Zelt \n🎧 DJ Lubbi\, Alex Mader\, DJ KingSize \nFoto: Club Zauberberg Würzburg
URL:https://wuewasgeht.com/events/zauberberg-we-love-music-0102-2/
LOCATION:Zauberberg\, Veitshöchheimer Str. 20\, Würzburg\, 97080\, Deutschland
CATEGORIES:Club Event
ATTACH;FMTTYPE=image/png:https://wuewasgeht.com/wp-content/uploads/2025/01/Zauberberg_2-2.png
END:VEVENT
BEGIN:VEVENT
DTSTART;TZID=Europe/Berlin:20250201T230000
DTEND;TZID=Europe/Berlin:20250202T050000
DTSTAMP:20260425T121742
CREATED:20250128T091955Z
LAST-MODIFIED:20250128T091955Z
UID:10011093-1738450800-1738472400@wuewasgeht.com
SUMMARY:ODEON SATURDAY´S
DESCRIPTION:ODEON SATURDAY´S\n\n\n\nOdeon\n  \n🔞 Ab 18 \n🎵 Hip Hop\, RnB\, Classics & House \n🎧  DJ JELLIN & DJ LIL´J
URL:https://wuewasgeht.com/events/odeon-saturdays-0102/
LOCATION:Odeon Lounge\, Augustinerstraße 18\, Würzburg\, 97070\, Deutschland
CATEGORIES:Club Event
END:VEVENT
BEGIN:VEVENT
DTSTART;TZID=Europe/Berlin:20250208T213000
DTEND;TZID=Europe/Berlin:20250209T050000
DTSTAMP:20260425T121742
CREATED:20250203T081143Z
LAST-MODIFIED:20250203T081143Z
UID:10011103-1739050200-1739077200@wuewasgeht.com
SUMMARY:We Love Music
DESCRIPTION:We Love Music from the 80s ´til today!\nZauberberg\n  \n🔞 Ab 18 \n🎵 Mixed Music\, HipHop \n💶 Eintritt ist bis 22 Uhr frei über Marrakesh-Zelt \n🎧 DJ Lubbi\, Alex Mader\, DJ KingSize \nFoto: Club Zauberberg Würzburg
URL:https://wuewasgeht.com/events/zauberberg-we-love-music-0802/
LOCATION:Zauberberg\, Veitshöchheimer Str. 20\, Würzburg\, 97080\, Deutschland
CATEGORIES:Club Event
ATTACH;FMTTYPE=image/png:https://wuewasgeht.com/wp-content/uploads/2025/02/Zauberberg_2.png
END:VEVENT
BEGIN:VEVENT
DTSTART;TZID=Europe/Berlin:20250208T230000
DTEND;TZID=Europe/Berlin:20250209T050000
DTSTAMP:20260425T121742
CREATED:20250203T083951Z
LAST-MODIFIED:20250203T083951Z
UID:10011101-1739055600-1739077200@wuewasgeht.com
SUMMARY:ODEON SATURDAY´S
DESCRIPTION:ODEON SATURDAY´S\n\n\n\nOdeon\n  \n🔞 Ab 18 \n🎵 Hip Hop\, RnB\, Classics & House \n🎧 DJ MAALEEK & DJ LIL´J
URL:https://wuewasgeht.com/events/odeon-saturdays-0802/
LOCATION:Odeon Lounge\, Augustinerstraße 18\, Würzburg\, 97070\, Deutschland
CATEGORIES:Club Event
END:VEVENT
BEGIN:VEVENT
DTSTART;TZID=Europe/Berlin:20250214T210000
DTEND;TZID=Europe/Berlin:20250215T050000
DTSTAMP:20260425T121742
CREATED:20250210T180132Z
LAST-MODIFIED:20250210T180132Z
UID:10011108-1739566800-1739595600@wuewasgeht.com
SUMMARY:Aftair Eight pres.
DESCRIPTION:Aftair Eight pres. TOO SEXY FOR MY EX\nAirport\n  \n🔞 Ab 16 \n🎵 Mixed Music/Hip-Hop/Y2K Hits \n🍸 Doppeldecker auf Vodka Wildberry\, Weinschorle für 3\,00€ \n🎧 DJ Kidrush \n💶 Free Entry für Ladies bis 23:00Uhr \n🎫 Tickets \n  \nFoto: Club Airport Würzburg
URL:https://wuewasgeht.com/events/airport-aftair-eight-pres-1402/
LOCATION:Airport\, Gattingerstraße 17\, Würzburg\, 97076\, Deutschland
CATEGORIES:Club Event
ATTACH;FMTTYPE=image/png:https://wuewasgeht.com/wp-content/uploads/2025/02/Airport_5.png
END:VEVENT
BEGIN:VEVENT
DTSTART;TZID=Europe/Berlin:20250214T230000
DTEND;TZID=Europe/Berlin:20250215T050000
DTSTAMP:20260425T121742
CREATED:20250210T180539Z
LAST-MODIFIED:20250210T180539Z
UID:10011114-1739574000-1739595600@wuewasgeht.com
SUMMARY:LADIES' NIGHT W/ DJ ENJOEY
DESCRIPTION:LADIES‘ NIGHT W/ DJ ENJOEY\n\n\n\nOdeon\n  \n🔞 Ab 18 \n🎵 Hip Hop\, RnB \n💶 FREE ENTRY FOR LADIES! \n🎧 DJ ENJOEY
URL:https://wuewasgeht.com/events/odeon-ladies-night-w-dj-enjoey-1402/
LOCATION:Odeon Lounge\, Augustinerstraße 18\, Würzburg\, 97070\, Deutschland
CATEGORIES:Club Event
END:VEVENT
BEGIN:VEVENT
DTSTART;TZID=Europe/Berlin:20250215T213000
DTEND;TZID=Europe/Berlin:20250216T050000
DTSTAMP:20260425T121742
CREATED:20250210T175246Z
LAST-MODIFIED:20250210T175246Z
UID:10011116-1739655000-1739682000@wuewasgeht.com
SUMMARY:We Love Music
DESCRIPTION:We Love Music from the 80s ´til today!\nZauberberg\n  \n🔞 Ab 18 \n🎵 Mixed Music\, HipHop \n💶 Eintritt ist bis 22 Uhr frei über Marrakesh-Zelt \n🎧 DJ Lubbi\, Alex Mader\, DJ KingSize \nFoto: Club Zauberberg Würzburg
URL:https://wuewasgeht.com/events/zauberberg-we-love-music-1502/
LOCATION:Zauberberg\, Veitshöchheimer Str. 20\, Würzburg\, 97080\, Deutschland
CATEGORIES:Club Event
ATTACH;FMTTYPE=image/png:https://wuewasgeht.com/wp-content/uploads/2025/02/Zauberberg_2-1.png
END:VEVENT
BEGIN:VEVENT
DTSTART;TZID=Europe/Berlin:20250215T230000
DTEND;TZID=Europe/Berlin:20250216T050000
DTSTAMP:20260425T121742
CREATED:20250210T180723Z
LAST-MODIFIED:20250210T180723Z
UID:10011113-1739660400-1739682000@wuewasgeht.com
SUMMARY:ODEON SATURDAY´S
DESCRIPTION:ODEON SATURDAY´S\n\n\n\nOdeon\n  \n🔞 Ab 18 \n🎵 Hip Hop\, RnB\, Classics & House \n🎧 DJ RAY G & DJ M-WHY
URL:https://wuewasgeht.com/events/odeon-saturdays-1502/
LOCATION:Odeon Lounge\, Augustinerstraße 18\, Würzburg\, 97070\, Deutschland
CATEGORIES:Club Event
END:VEVENT
BEGIN:VEVENT
DTSTART;TZID=Europe/Berlin:20250222T210000
DTEND;TZID=Europe/Berlin:20250223T050000
DTSTAMP:20260425T121742
CREATED:20250217T120619Z
LAST-MODIFIED:20250217T120619Z
UID:10011118-1740258000-1740286800@wuewasgeht.com
SUMMARY:Powerday
DESCRIPTION:Powerday\nAirport\n  \n🔞 Ab 16 \n🎵 Mixed Music\, HipHop\, Techno \n🍸 Doppeldecker \n🎧 Tollkühn\, DJ Elary \n🎫 Tickets \n  \nFoto: Club Airport Würzburg
URL:https://wuewasgeht.com/events/airport-powerday-2202/
LOCATION:Airport\, Gattingerstraße 17\, Würzburg\, 97076\, Deutschland
CATEGORIES:Club Event
ATTACH;FMTTYPE=image/png:https://wuewasgeht.com/wp-content/uploads/2025/02/Airport_1.png
END:VEVENT
BEGIN:VEVENT
DTSTART;TZID=Europe/Berlin:20250222T213000
DTEND;TZID=Europe/Berlin:20250223T050000
DTSTAMP:20260425T121742
CREATED:20250216T124946Z
LAST-MODIFIED:20250217T123641Z
UID:10011125-1740259800-1740286800@wuewasgeht.com
SUMMARY:We Love Music
DESCRIPTION:We Love Music from the 80s ´til today!\nZauberberg\n  \n🔞 Ab 18 \n🎵 Mixed Music\, HipHop \n💶 Eintritt ist bis 22 Uhr frei über Marrakesh-Zelt \n🎧 Alex Mader\, DJ KingSize & Eazy-K. \nFoto: Club Zauberberg Würzburg
URL:https://wuewasgeht.com/events/zauberberg-we-love-music-2202/
LOCATION:Zauberberg\, Veitshöchheimer Str. 20\, Würzburg\, 97080\, Deutschland
CATEGORIES:Club Event
ATTACH;FMTTYPE=image/png:https://wuewasgeht.com/wp-content/uploads/2025/02/Zauberberg_2-2.png
END:VEVENT
BEGIN:VEVENT
DTSTART;TZID=Europe/Berlin:20250222T220000
DTEND;TZID=Europe/Berlin:20250223T050000
DTSTAMP:20260425T121742
CREATED:20250217T124834Z
LAST-MODIFIED:20250217T125136Z
UID:10011122-1740261600-1740286800@wuewasgeht.com
SUMMARY:Oldschool HipHop-Party
DESCRIPTION:Oldschool HipHop-Party\nLabyrinth\n  \n🔞 Ab 16 \n🍸 Getränkespecial: Happy Juice für nur 8€ \n🎵 HipHop \n🎧 DJ Oli Geisler \n  \nFoto: Club Labyrinth Würzburg
URL:https://wuewasgeht.com/events/labyrinth-oldschool-hiphop-party-2202/
LOCATION:Labyrinth\, Beethovenstraße 3\, Würzburg\, 97080\, Deutschland
CATEGORIES:Club Event
ATTACH;FMTTYPE=image/png:https://wuewasgeht.com/wp-content/uploads/2025/02/Labyrinth_4.png
END:VEVENT
BEGIN:VEVENT
DTSTART;TZID=Europe/Berlin:20250222T230000
DTEND;TZID=Europe/Berlin:20250223T050000
DTSTAMP:20260425T121742
CREATED:20250217T124551Z
LAST-MODIFIED:20250217T124551Z
UID:10011123-1740265200-1740286800@wuewasgeht.com
SUMMARY:ODEON SATURDAY´S
DESCRIPTION:ODEON SATURDAY´S\n\n\n\nOdeon\n  \n🔞 Ab 18 \n🎵 Hip Hop\, RnB\, Classics & House \n🎧 FRIZZO & DJ OIO
URL:https://wuewasgeht.com/events/odeon-saturdays-2202/
LOCATION:Odeon Lounge\, Augustinerstraße 18\, Würzburg\, 97070\, Deutschland
CATEGORIES:Club Event
END:VEVENT
BEGIN:VEVENT
DTSTART;TZID=Europe/Berlin:20250228T170000
DTEND;TZID=Europe/Berlin:20250228T210000
DTSTAMP:20260425T121742
CREATED:20250225T132325Z
LAST-MODIFIED:20250225T132325Z
UID:10011130-1740762000-1740776400@wuewasgeht.com
SUMMARY:Schools Out Faschingsparty
DESCRIPTION:Schools Out Faschings Party\nAirport\n  \n🔞 Ab 12 \n🍸 Zu jedem Ticket gibt es ein kostenloses Getränk (Ausgeschlossen ist Redbull & Club Mate) \n🎵 Mixed Music\, Hip Hop \n🎧 DJ Early\, G.O.G. \n🎫 Tickets \n  \nFoto: Club Airport Würzburg
URL:https://wuewasgeht.com/events/airport-schools-out-faschings-party-2802/
LOCATION:Airport\, Gattingerstraße 17\, Würzburg\, 97076\, Deutschland
CATEGORIES:Club Event
ATTACH;FMTTYPE=image/png:https://wuewasgeht.com/wp-content/uploads/2025/02/Airport_2-5.png
END:VEVENT
BEGIN:VEVENT
DTSTART;TZID=Europe/Berlin:20250228T230000
DTEND;TZID=Europe/Berlin:20250301T050000
DTSTAMP:20260425T121742
CREATED:20250224T154026Z
LAST-MODIFIED:20250224T154026Z
UID:10011137-1740783600-1740805200@wuewasgeht.com
SUMMARY:LADIES' NIGHT
DESCRIPTION:LADIES‘ NIGHT W/ DJ Poppiges\n\n\n\nOdeon\n  \n🔞 Ab 18 \n🎵 Hip Hop\, RnB \n💶 FREE ENTRY FOR LADIES! \n🎧 DJ Poppiges
URL:https://wuewasgeht.com/events/odeon-ladies-night-2802/
LOCATION:Odeon Lounge\, Augustinerstraße 18\, Würzburg\, 97070\, Deutschland
CATEGORIES:Club Event
END:VEVENT
END:VCALENDAR