BEGIN:VCALENDAR
VERSION:2.0
PRODID:-//WueWasGeht - ECPv6.11.2.1//NONSGML v1.0//EN
CALSCALE:GREGORIAN
METHOD:PUBLISH
X-ORIGINAL-URL:https://wuewasgeht.com
X-WR-CALDESC:Veranstaltungen für WueWasGeht
REFRESH-INTERVAL;VALUE=DURATION:PT1H
X-Robots-Tag:noindex
X-PUBLISHED-TTL:PT1H
BEGIN:VTIMEZONE
TZID:Europe/Berlin
BEGIN:DAYLIGHT
TZOFFSETFROM:+0100
TZOFFSETTO:+0200
TZNAME:CEST
DTSTART:20250330T010000
END:DAYLIGHT
BEGIN:STANDARD
TZOFFSETFROM:+0200
TZOFFSETTO:+0100
TZNAME:CET
DTSTART:20251026T010000
END:STANDARD
END:VTIMEZONE
BEGIN:VEVENT
DTSTART;TZID=Europe/Berlin:20250503T230000
DTEND;TZID=Europe/Berlin:20250504T050000
DTSTAMP:20260421T060752
CREATED:20250428T084337Z
LAST-MODIFIED:20250428T084337Z
UID:10011514-1746313200-1746334800@wuewasgeht.com
SUMMARY:ODEON SATURDAY´S
DESCRIPTION:ODEON SATURDAY´S\n\n\n\nOdeon\n  \n🔞 Ab 18 \n🎵 Hip Hop\, RnB\, Classics & House \n🎧 JOBO & DJ POPPIGES
URL:https://wuewasgeht.com/events/odeon-saturdays-0305/
LOCATION:Odeon Lounge\, Augustinerstraße 18\, Würzburg\, 97070\, Deutschland
CATEGORIES:Club Event
END:VEVENT
BEGIN:VEVENT
DTSTART;TZID=Europe/Berlin:20250509T230000
DTEND;TZID=Europe/Berlin:20250510T050000
DTSTAMP:20260421T060752
CREATED:20250507T084233Z
LAST-MODIFIED:20250507T092929Z
UID:10011527-1746831600-1746853200@wuewasgeht.com
SUMMARY:LADIES' NIGHT
DESCRIPTION:LADIES‘ NIGHT\n\n\n\nOdeon\n  \n🔞 Ab 18 \n🎵 Hip Hop\, RnB \n💶 FREE ENTRY FOR LADIES! \n🎧 DJ ENJOEY
URL:https://wuewasgeht.com/events/odeonlounge-ladies-night-2/
LOCATION:Odeon Lounge\, Augustinerstraße 18\, Würzburg\, 97070\, Deutschland
CATEGORIES:Club Event
END:VEVENT
BEGIN:VEVENT
DTSTART;TZID=Europe/Berlin:20250510T220000
DTEND;TZID=Europe/Berlin:20250511T050000
DTSTAMP:20260421T060752
CREATED:20250507T091316Z
LAST-MODIFIED:20250507T091340Z
UID:10011529-1746914400-1746939600@wuewasgeht.com
SUMMARY:Opening-Night
DESCRIPTION:Opening-Night\nHarisma\n  \n🔞 Ab 18 \n🎵 Live-Band Music\, Go-Go Dance \n🎧 Dj Alex Mader\, DJ Denny + Kaktus Drum \nFoto: Club Harisma Würzburg
URL:https://wuewasgeht.com/events/harisma-openingnight-1005/
LOCATION:Harisma\, Mainaustraße 50\, Würzburg\, 97082\, Germany
CATEGORIES:Club Event
ATTACH;FMTTYPE=image/png:https://wuewasgeht.com/wp-content/uploads/2025/05/Harisma.png
END:VEVENT
BEGIN:VEVENT
DTSTART;TZID=Europe/Berlin:20250510T223000
DTEND;TZID=Europe/Berlin:20250511T050000
DTSTAMP:20260421T060752
CREATED:20250507T093618Z
LAST-MODIFIED:20250507T093703Z
UID:10011816-1746916200-1746939600@wuewasgeht.com
SUMMARY:Birthday Edition - The 19th Chapter
DESCRIPTION:Birthday Edition – The 19th Chapter\n\n\n\nOdeon\n  \n🔞 Ab 18 \n🎵 Open Format\, Hip Hop\, Classics\, House\, RnB \n🎧 DJ Maaleek & DJ Lil’ J \n  DRESSCODE: Sexy\, Classy \n💶 Vergünstigter VVK: 12 €
URL:https://wuewasgeht.com/events/odeon-birthdayedition-1005/
LOCATION:Odeon Lounge\, Augustinerstraße 18\, Würzburg\, 97070\, Deutschland
CATEGORIES:Club Event
END:VEVENT
BEGIN:VEVENT
DTSTART;TZID=Europe/Berlin:20250516T220000
DTEND;TZID=Europe/Berlin:20250517T050000
DTSTAMP:20260421T060752
CREATED:20250515T122550Z
LAST-MODIFIED:20250515T122550Z
UID:10011827-1747432800-1747458000@wuewasgeht.com
SUMMARY:Old but Gold Ü30 Hip Hop Party
DESCRIPTION:Old but Gold Ü30 Hip Hop Party\nOdeon Lounge\n  \n🔞 Ab 30 \n🎵 HipHop\, RnB \n🎧 Remake\, Ray-G \n🎫 Tickets \nFoto: Club Airport Würzburg
URL:https://wuewasgeht.com/events/old-but-gold-ue30-hip-hop-party-2/
LOCATION:Odeon Lounge\, Augustinerstraße 18\, Würzburg\, 97070\, Deutschland
CATEGORIES:Club Event
END:VEVENT
BEGIN:VEVENT
DTSTART;TZID=Europe/Berlin:20250517T230000
DTEND;TZID=Europe/Berlin:20250518T050000
DTSTAMP:20260421T060752
CREATED:20250514T062753Z
LAST-MODIFIED:20250514T062753Z
UID:10011820-1747522800-1747544400@wuewasgeht.com
SUMMARY:Airport pres. Girls Take Over
DESCRIPTION:Airport pres. Girls Take Over\nAirport\n  \n🔞 Ab 16 \n🎵 HipHop\, Mixed Music\, Afrobeats \n🍸 Komme bis 23:00 Uhr und erhalte als Lady ein Bändchen\, mit dem du die ganze Nacht Longdrinks für 5€ & Weinschorle 2\,50€ erwerben kannst \n🎧 DJ G.O.G \n💶 Free Entry für Ladies bis 23:00 Uhr \n🎫 Tickets \n  \nFoto: Club Airport Würzburg
URL:https://wuewasgeht.com/events/airport-pres-girls-take-over-1805/
LOCATION:Airport\, Gattingerstraße 17\, Würzburg\, 97076\, Deutschland
CATEGORIES:Club Event
ATTACH;FMTTYPE=image/png:https://wuewasgeht.com/wp-content/uploads/2025/05/Airport_3-5.png
END:VEVENT
BEGIN:VEVENT
DTSTART;TZID=Europe/Berlin:20250517T230000
DTEND;TZID=Europe/Berlin:20250518T050000
DTSTAMP:20260421T060752
CREATED:20250515T122556Z
LAST-MODIFIED:20250515T122556Z
UID:10011828-1747522800-1747544400@wuewasgeht.com
SUMMARY:ODEON SATURDAY´S
DESCRIPTION:ODEON SATURDAY´S\n\n\n\nOdeon\n  \n🔞 Ab 18 \n🎵 Hip Hop\, RnB\, Classics & House \n🎧 DJ RAPTURE & DJ OIO
URL:https://wuewasgeht.com/events/odeon-saturdays-2/
LOCATION:Odeon Lounge\, Augustinerstraße 18\, Würzburg\, 97070\, Deutschland
CATEGORIES:Club Event
END:VEVENT
END:VCALENDAR