BEGIN:VCALENDAR
VERSION:2.0
PRODID:-//WueWasGeht - ECPv6.11.2.1//NONSGML v1.0//EN
CALSCALE:GREGORIAN
METHOD:PUBLISH
X-WR-CALNAME:WueWasGeht
X-ORIGINAL-URL:https://wuewasgeht.com
X-WR-CALDESC:Veranstaltungen für WueWasGeht
REFRESH-INTERVAL;VALUE=DURATION:PT1H
X-Robots-Tag:noindex
X-PUBLISHED-TTL:PT1H
BEGIN:VTIMEZONE
TZID:Europe/Berlin
BEGIN:DAYLIGHT
TZOFFSETFROM:+0100
TZOFFSETTO:+0200
TZNAME:CEST
DTSTART:20250330T010000
END:DAYLIGHT
BEGIN:STANDARD
TZOFFSETFROM:+0200
TZOFFSETTO:+0100
TZNAME:CET
DTSTART:20251026T010000
END:STANDARD
END:VTIMEZONE
BEGIN:VEVENT
DTSTART;TZID=Europe/Berlin:20250712T230000
DTEND;TZID=Europe/Berlin:20250713T050000
DTSTAMP:20260421T024923
CREATED:20250709T160602Z
LAST-MODIFIED:20250709T160602Z
UID:10011877-1752361200-1752382800@wuewasgeht.com
SUMMARY:ODEON SATURDAY´S
DESCRIPTION:ODEON SATURDAY´S\n\n\n\nOdeon\n  \n🔞 Ab 18 \n🎵 Hip Hop\, RnB\, Classics & House \n🎧 DJ SAMI & DJ ENJOEY
URL:https://wuewasgeht.com/events/odeon-saturdays-1207/
LOCATION:Odeon Lounge\, Augustinerstraße 18\, Würzburg\, 97070\, Deutschland
CATEGORIES:Club Event
END:VEVENT
BEGIN:VEVENT
DTSTART;TZID=Europe/Berlin:20250725T230000
DTEND;TZID=Europe/Berlin:20250726T050000
DTSTAMP:20260421T024923
CREATED:20250723T105422Z
LAST-MODIFIED:20250723T105422Z
UID:10011890-1753484400-1753506000@wuewasgeht.com
SUMMARY:LADIES' NIGHT
DESCRIPTION:LADIES‘ NIGHT\n\n\n\nOdeon\n  \n🔞 Ab 18 \n🎵 Hip Hop\, RnB \n💶 FREE ENTRY FOR LADIES! \n🎧 DJ LIL´J
URL:https://wuewasgeht.com/events/odeon-ladies-night-2507/
LOCATION:Odeon Lounge\, Augustinerstraße 18\, Würzburg\, 97070\, Deutschland
CATEGORIES:Club Event
END:VEVENT
BEGIN:VEVENT
DTSTART;TZID=Europe/Berlin:20250726T220000
DTEND;TZID=Europe/Berlin:20250727T050000
DTSTAMP:20260421T024923
CREATED:20250723T112759Z
LAST-MODIFIED:20250723T112759Z
UID:10011889-1753567200-1753592400@wuewasgeht.com
SUMMARY:Oldschool HipHop-Party
DESCRIPTION:Oldschool HipHop-Party\nLabyrinth\n  \n🔞 Ab 16 \n🍸 Getränkespecial: Happy Juice für nur 8€d \n🎵 HipHop \n🎧 DJ Oli Geisler \n💵 bis 23 Uhr 5€ Eintritt \n  \nFoto: Club Labyrinth Würzburg
URL:https://wuewasgeht.com/events/labyrinth-oldschool-hiphop-party-2607/
LOCATION:Labyrinth\, Beethovenstraße 3\, Würzburg\, 97080\, Deutschland
CATEGORIES:Club Event
ATTACH;FMTTYPE=image/png:https://wuewasgeht.com/wp-content/uploads/2025/02/Labyrinth_4.png
END:VEVENT
BEGIN:VEVENT
DTSTART;TZID=Europe/Berlin:20250726T230000
DTEND;TZID=Europe/Berlin:20250727T050000
DTSTAMP:20260421T024923
CREATED:20250723T105121Z
LAST-MODIFIED:20250723T105121Z
UID:10011891-1753570800-1753592400@wuewasgeht.com
SUMMARY:ODEON SATURDAY´S
DESCRIPTION:ODEON SATURDAY´S\n\n\n\nOdeon\n  \n🔞 Ab 18 \n🎵 Hip Hop\, RnB\, Classics & House \n🎧 DJ T-BRIGHT & DJ OIO
URL:https://wuewasgeht.com/events/odeon-saturdays-2607/
LOCATION:Odeon Lounge\, Augustinerstraße 18\, Würzburg\, 97070\, Deutschland
CATEGORIES:Club Event
END:VEVENT
END:VCALENDAR