BEGIN:VCALENDAR
VERSION:2.0
PRODID:-//WueWasGeht - ECPv6.11.2.1//NONSGML v1.0//EN
CALSCALE:GREGORIAN
METHOD:PUBLISH
X-WR-CALNAME:WueWasGeht
X-ORIGINAL-URL:https://wuewasgeht.com
X-WR-CALDESC:Veranstaltungen für WueWasGeht
REFRESH-INTERVAL;VALUE=DURATION:PT1H
X-Robots-Tag:noindex
X-PUBLISHED-TTL:PT1H
BEGIN:VTIMEZONE
TZID:Europe/Berlin
BEGIN:DAYLIGHT
TZOFFSETFROM:+0100
TZOFFSETTO:+0200
TZNAME:CEST
DTSTART:20250330T010000
END:DAYLIGHT
BEGIN:STANDARD
TZOFFSETFROM:+0200
TZOFFSETTO:+0100
TZNAME:CET
DTSTART:20251026T010000
END:STANDARD
END:VTIMEZONE
BEGIN:VEVENT
DTSTART;TZID=Europe/Berlin:20250801T230000
DTEND;TZID=Europe/Berlin:20250802T050000
DTSTAMP:20260421T011547
CREATED:20250731T073206Z
LAST-MODIFIED:20250731T073206Z
UID:10011897-1754089200-1754110800@wuewasgeht.com
SUMMARY:LADIES' NIGHT
DESCRIPTION:LADIES‘ NIGHT\n\n\n\nOdeon\n  \n🔞 Ab 18 \n🎵 Hip Hop\, RnB \n💶 FREE ENTRY FOR LADIES! \n🎧 DJ LIL´J
URL:https://wuewasgeht.com/events/odeon-ladies-night-0108/
LOCATION:Odeon Lounge\, Augustinerstraße 18\, Würzburg\, 97070\, Deutschland
CATEGORIES:Club Event
END:VEVENT
BEGIN:VEVENT
DTSTART;TZID=Europe/Berlin:20250802T230000
DTEND;TZID=Europe/Berlin:20250803T050000
DTSTAMP:20260421T011547
CREATED:20250731T073400Z
LAST-MODIFIED:20250731T073400Z
UID:10011896-1754175600-1754197200@wuewasgeht.com
SUMMARY:ODEON SATURDAY´S
DESCRIPTION:ODEON SATURDAY´S\n\n\n\nOdeon\n  \n🔞 Ab 18 \n🎵 Hip Hop\, RnB\, Classics & House \n🎧 DJ Poppiges
URL:https://wuewasgeht.com/events/odeon-saturdays-0208/
LOCATION:Odeon Lounge\, Augustinerstraße 18\, Würzburg\, 97070\, Deutschland
CATEGORIES:Club Event
END:VEVENT
BEGIN:VEVENT
DTSTART;TZID=Europe/Berlin:20250809T230000
DTEND;TZID=Europe/Berlin:20250810T050000
DTSTAMP:20260421T011547
CREATED:20250807T153532Z
LAST-MODIFIED:20250807T153532Z
UID:10011903-1754780400-1754802000@wuewasgeht.com
SUMMARY:ODEON SATURDAY´S
DESCRIPTION:ODEON SATURDAY´S\n\n\n\nOdeon\n  \n🔞 Ab 18 \n🎵 Hip Hop\, RnB\, Classics & House \n🎧 DJ RAY-G & DJ M-WHY
URL:https://wuewasgeht.com/events/odeon-saturdays-3/
LOCATION:Odeon Lounge\, Augustinerstraße 18\, Würzburg\, 97070\, Deutschland
CATEGORIES:Club Event
END:VEVENT
BEGIN:VEVENT
DTSTART;TZID=Europe/Berlin:20250816T210000
DTEND;TZID=Europe/Berlin:20250817T050000
DTSTAMP:20260421T011547
CREATED:20250815T131412Z
LAST-MODIFIED:20250815T131959Z
UID:10011906-1755378000-1755406800@wuewasgeht.com
SUMMARY:Aftair Eight pres.
DESCRIPTION:Aftair Eight pres. Flirt Night\nAirport\n  \n🔞 Ab 16 \n🎵 Mixed Music/Hip-Hop/RnB \n🍸 Doppeldecker auf Ficken Shots & Longdrinks\, Weinschorle für 3\,00€ \n🎧 DJ Kidrush \n💶 Free Entry für Ladies bis 23:00Uhr \n🎫 Tickets \n  \nFoto: Club Airport Würzburg
URL:https://wuewasgeht.com/events/airport-aftair-eight-pres-1608/
LOCATION:Airport\, Gattingerstraße 17\, Würzburg\, 97076\, Deutschland
CATEGORIES:Club Event
ATTACH;FMTTYPE=image/png:https://wuewasgeht.com/wp-content/uploads/2025/08/Airport_12.png
END:VEVENT
BEGIN:VEVENT
DTSTART;TZID=Europe/Berlin:20250816T230000
DTEND;TZID=Europe/Berlin:20250817T050000
DTSTAMP:20260421T011547
CREATED:20250815T100928Z
LAST-MODIFIED:20250815T100928Z
UID:10011910-1755385200-1755406800@wuewasgeht.com
SUMMARY:ODEON SATURDAY´S
DESCRIPTION:ODEON SATURDAY´S\n\n\n\nOdeon\n  \n🔞 Ab 18 \n🎵 Hip Hop\, RnB\, Classics & House \n🎧 DJ T-BRIGHT & DJ ENJOEY
URL:https://wuewasgeht.com/events/odeon-saturdays-1608/
LOCATION:Odeon Lounge\, Augustinerstraße 18\, Würzburg\, 97070\, Deutschland
CATEGORIES:Club Event
END:VEVENT
BEGIN:VEVENT
DTSTART;TZID=Europe/Berlin:20250823T230000
DTEND;TZID=Europe/Berlin:20250824T050000
DTSTAMP:20260421T011547
CREATED:20250819T154806Z
LAST-MODIFIED:20250819T154806Z
UID:10011919-1755990000-1756011600@wuewasgeht.com
SUMMARY:ODEON SATURDAY´S
DESCRIPTION:ODEON SATURDAY´S\n\n\n\nOdeon\n  \n🔞 Ab 18 \n🎵 Hip Hop\, RnB\, Classics & House \n🎧 DJ SHAGS & DJ ENJOEY
URL:https://wuewasgeht.com/events/odeon-saturdays-4/
LOCATION:Odeon Lounge\, Augustinerstraße 18\, Würzburg\, 97070\, Deutschland
CATEGORIES:Club Event
END:VEVENT
END:VCALENDAR