BEGIN:VCALENDAR
VERSION:2.0
PRODID:-//WueWasGeht - ECPv6.11.2.1//NONSGML v1.0//EN
CALSCALE:GREGORIAN
METHOD:PUBLISH
X-ORIGINAL-URL:https://wuewasgeht.com
X-WR-CALDESC:Veranstaltungen für WueWasGeht
REFRESH-INTERVAL;VALUE=DURATION:PT1H
X-Robots-Tag:noindex
X-PUBLISHED-TTL:PT1H
BEGIN:VTIMEZONE
TZID:Europe/Berlin
BEGIN:DAYLIGHT
TZOFFSETFROM:+0100
TZOFFSETTO:+0200
TZNAME:CEST
DTSTART:20250330T010000
END:DAYLIGHT
BEGIN:STANDARD
TZOFFSETFROM:+0200
TZOFFSETTO:+0100
TZNAME:CET
DTSTART:20251026T010000
END:STANDARD
END:VTIMEZONE
BEGIN:VEVENT
DTSTART;TZID=Europe/Berlin:20250906T220000
DTEND;TZID=Europe/Berlin:20250907T050000
DTSTAMP:20260420T234353
CREATED:20250905T141149Z
LAST-MODIFIED:20250905T141149Z
UID:10011935-1757196000-1757221200@wuewasgeht.com
SUMMARY:HipHop Night
DESCRIPTION:HipHop Night\nHarisma\n  \n🔞 Ab 18 \n🎵 90er\, 2000er\, HipHop \n💵 Für Damen freier Eintritt bis 23 Uhr \n🎧 DJ Sari\, Rameen \nFoto: Club Harisma Würzburg
URL:https://wuewasgeht.com/events/hiphop-night/
LOCATION:Harisma\, Mainaustraße 50\, Würzburg\, 97082\, Germany
CATEGORIES:Club Event
END:VEVENT
BEGIN:VEVENT
DTSTART;TZID=Europe/Berlin:20250906T230000
DTEND;TZID=Europe/Berlin:20250907T050000
DTSTAMP:20260420T234353
CREATED:20250905T141156Z
LAST-MODIFIED:20250905T141156Z
UID:10011934-1757199600-1757221200@wuewasgeht.com
SUMMARY:ODEON SATURDAY´S
DESCRIPTION:ODEON SATURDAY´S\n\n\n\nOdeon\n  \n🔞 Ab 18 \n🎵 Hip Hop\, RnB\, Classics & House \n🎧  DJ RAPTURE & DJ ENJOEY
URL:https://wuewasgeht.com/events/odeon-saturdays-5/
LOCATION:Odeon Lounge\, Augustinerstraße 18\, Würzburg\, 97070\, Deutschland
CATEGORIES:Club Event
END:VEVENT
BEGIN:VEVENT
DTSTART;TZID=Europe/Berlin:20250913T210000
DTEND;TZID=Europe/Berlin:20250914T050000
DTSTAMP:20260420T234353
CREATED:20250910T153659Z
LAST-MODIFIED:20250910T153659Z
UID:10011937-1757797200-1757826000@wuewasgeht.com
SUMMARY:Aftair Eight pres.
DESCRIPTION:Aftair Eight pres. Summer Party\nAirport\n  \n🔞 Ab 16 \n🎵 Mixed Music/Hip-Hop/RnB \n🍸 Vodka Bull 5\,50€\, Alle Biere 3€ \n🎧 DJ G.O.G \n💶 Free Entry mit Schülerausweis bis 23:00uhr \n🎫 Tickets \n  \nFoto: Club Airport Würzburg
URL:https://wuewasgeht.com/events/aftair-eight-pres/
LOCATION:Airport\, Gattingerstraße 17\, Würzburg\, 97076\, Deutschland
CATEGORIES:Club Event
END:VEVENT
BEGIN:VEVENT
DTSTART;TZID=Europe/Berlin:20250913T230000
DTEND;TZID=Europe/Berlin:20250914T050000
DTSTAMP:20260420T234353
CREATED:20250909T163447Z
LAST-MODIFIED:20250910T153643Z
UID:10011943-1757804400-1757826000@wuewasgeht.com
SUMMARY:ODEON SATURDAY´S
DESCRIPTION:ODEON SATURDAY´S\n\n\n\nOdeon\n  \n🔞 Ab 18 \n🎵 Hip Hop\, RnB\, Classics & House \n🎧 DJ SLICK & DJ POPPIGES
URL:https://wuewasgeht.com/events/odeon-saturdays-6/
LOCATION:Odeon Lounge\, Augustinerstraße 18\, Würzburg\, 97070\, Deutschland
CATEGORIES:Club Event
END:VEVENT
END:VCALENDAR