BEGIN:VCALENDAR
VERSION:2.0
PRODID:-//WueWasGeht - ECPv6.11.2.1//NONSGML v1.0//EN
CALSCALE:GREGORIAN
METHOD:PUBLISH
X-ORIGINAL-URL:https://wuewasgeht.com
X-WR-CALDESC:Veranstaltungen für WueWasGeht
REFRESH-INTERVAL;VALUE=DURATION:PT1H
X-Robots-Tag:noindex
X-PUBLISHED-TTL:PT1H
BEGIN:VTIMEZONE
TZID:Europe/Berlin
BEGIN:DAYLIGHT
TZOFFSETFROM:+0100
TZOFFSETTO:+0200
TZNAME:CEST
DTSTART:20290325T010000
END:DAYLIGHT
BEGIN:STANDARD
TZOFFSETFROM:+0200
TZOFFSETTO:+0100
TZNAME:CET
DTSTART:20291028T010000
END:STANDARD
END:VTIMEZONE
BEGIN:VEVENT
DTSTART;TZID=Europe/Berlin:20290101T220000
DTEND;TZID=Europe/Berlin:20290102T050000
DTSTAMP:20260420T140703
CREATED:20240129T082313Z
LAST-MODIFIED:20240701T221028Z
UID:10001298-1861999200-1862024400@wuewasgeht.com
SUMMARY:Getränkepyramide
DESCRIPTION:Getränkepyramide\nKatze\n  \n🔞 Ab 18 \n🎵 Mixed Music \n🍸 Getränkepyramide (alle Drinks 1.50€\, alle 30 Minuten 0.50€ teurer) \n  \nFoto: Club Katze Würzburg
URL:https://wuewasgeht.com/events/getraenkepyramide-katze/2029-01-01/
LOCATION:Katze\, Gerberstraße 14\, Würzburg\, 97070\, Deutschland
CATEGORIES:Club Event
ATTACH;FMTTYPE=image/png:https://wuewasgeht.com/wp-content/uploads/2023/07/Katze_1-1.png
END:VEVENT
BEGIN:VEVENT
DTSTART;TZID=Europe/Berlin:20290106T230000
DTEND;TZID=Europe/Berlin:20290107T050000
DTSTAMP:20260420T140703
CREATED:20231130T083525Z
LAST-MODIFIED:20240130T105918Z
UID:10003420-1862434800-1862456400@wuewasgeht.com
SUMMARY:Doppeldecker & Tanz
DESCRIPTION:Doppeldecker & Tanz\nKatze\n  \n🔞 Ab 18 \n🎵 Mixed Music \n🍸 Doppeldecker \n  \nFoto: Club Katze Würzburg
URL:https://wuewasgeht.com/events/doppeldecker-katze/2029-01-06/
LOCATION:Katze\, Gerberstraße 14\, Würzburg\, 97070\, Deutschland
CATEGORIES:Club Event
ATTACH;FMTTYPE=image/png:https://wuewasgeht.com/wp-content/uploads/2023/07/Katze_3-1.png
END:VEVENT
BEGIN:VEVENT
DTSTART;TZID=Europe/Berlin:20290108T220000
DTEND;TZID=Europe/Berlin:20290109T050000
DTSTAMP:20260420T140703
CREATED:20240129T082313Z
LAST-MODIFIED:20240701T221028Z
UID:10001299-1862604000-1862629200@wuewasgeht.com
SUMMARY:Getränkepyramide
DESCRIPTION:Getränkepyramide\nKatze\n  \n🔞 Ab 18 \n🎵 Mixed Music \n🍸 Getränkepyramide (alle Drinks 1.50€\, alle 30 Minuten 0.50€ teurer) \n  \nFoto: Club Katze Würzburg
URL:https://wuewasgeht.com/events/getraenkepyramide-katze/2029-01-08/
LOCATION:Katze\, Gerberstraße 14\, Würzburg\, 97070\, Deutschland
CATEGORIES:Club Event
ATTACH;FMTTYPE=image/png:https://wuewasgeht.com/wp-content/uploads/2023/07/Katze_1-1.png
END:VEVENT
BEGIN:VEVENT
DTSTART;TZID=Europe/Berlin:20290113T230000
DTEND;TZID=Europe/Berlin:20290114T050000
DTSTAMP:20260420T140703
CREATED:20231130T083525Z
LAST-MODIFIED:20240130T105918Z
UID:10003421-1863039600-1863061200@wuewasgeht.com
SUMMARY:Doppeldecker & Tanz
DESCRIPTION:Doppeldecker & Tanz\nKatze\n  \n🔞 Ab 18 \n🎵 Mixed Music \n🍸 Doppeldecker \n  \nFoto: Club Katze Würzburg
URL:https://wuewasgeht.com/events/doppeldecker-katze/2029-01-13/
LOCATION:Katze\, Gerberstraße 14\, Würzburg\, 97070\, Deutschland
CATEGORIES:Club Event
ATTACH;FMTTYPE=image/png:https://wuewasgeht.com/wp-content/uploads/2023/07/Katze_3-1.png
END:VEVENT
BEGIN:VEVENT
DTSTART;TZID=Europe/Berlin:20290115T220000
DTEND;TZID=Europe/Berlin:20290116T050000
DTSTAMP:20260420T140703
CREATED:20240129T082313Z
LAST-MODIFIED:20240701T221028Z
UID:10001300-1863208800-1863234000@wuewasgeht.com
SUMMARY:Getränkepyramide
DESCRIPTION:Getränkepyramide\nKatze\n  \n🔞 Ab 18 \n🎵 Mixed Music \n🍸 Getränkepyramide (alle Drinks 1.50€\, alle 30 Minuten 0.50€ teurer) \n  \nFoto: Club Katze Würzburg
URL:https://wuewasgeht.com/events/getraenkepyramide-katze/2029-01-15/
LOCATION:Katze\, Gerberstraße 14\, Würzburg\, 97070\, Deutschland
CATEGORIES:Club Event
ATTACH;FMTTYPE=image/png:https://wuewasgeht.com/wp-content/uploads/2023/07/Katze_1-1.png
END:VEVENT
BEGIN:VEVENT
DTSTART;TZID=Europe/Berlin:20290120T230000
DTEND;TZID=Europe/Berlin:20290121T050000
DTSTAMP:20260420T140703
CREATED:20231130T083525Z
LAST-MODIFIED:20240130T105918Z
UID:10003422-1863644400-1863666000@wuewasgeht.com
SUMMARY:Doppeldecker & Tanz
DESCRIPTION:Doppeldecker & Tanz\nKatze\n  \n🔞 Ab 18 \n🎵 Mixed Music \n🍸 Doppeldecker \n  \nFoto: Club Katze Würzburg
URL:https://wuewasgeht.com/events/doppeldecker-katze/2029-01-20/
LOCATION:Katze\, Gerberstraße 14\, Würzburg\, 97070\, Deutschland
CATEGORIES:Club Event
ATTACH;FMTTYPE=image/png:https://wuewasgeht.com/wp-content/uploads/2023/07/Katze_3-1.png
END:VEVENT
BEGIN:VEVENT
DTSTART;TZID=Europe/Berlin:20290122T220000
DTEND;TZID=Europe/Berlin:20290123T050000
DTSTAMP:20260420T140703
CREATED:20240129T082313Z
LAST-MODIFIED:20240701T221028Z
UID:10001301-1863813600-1863838800@wuewasgeht.com
SUMMARY:Getränkepyramide
DESCRIPTION:Getränkepyramide\nKatze\n  \n🔞 Ab 18 \n🎵 Mixed Music \n🍸 Getränkepyramide (alle Drinks 1.50€\, alle 30 Minuten 0.50€ teurer) \n  \nFoto: Club Katze Würzburg
URL:https://wuewasgeht.com/events/getraenkepyramide-katze/2029-01-22/
LOCATION:Katze\, Gerberstraße 14\, Würzburg\, 97070\, Deutschland
CATEGORIES:Club Event
ATTACH;FMTTYPE=image/png:https://wuewasgeht.com/wp-content/uploads/2023/07/Katze_1-1.png
END:VEVENT
BEGIN:VEVENT
DTSTART;TZID=Europe/Berlin:20290127T230000
DTEND;TZID=Europe/Berlin:20290128T050000
DTSTAMP:20260420T140703
CREATED:20231130T083525Z
LAST-MODIFIED:20240130T105918Z
UID:10003423-1864249200-1864270800@wuewasgeht.com
SUMMARY:Doppeldecker & Tanz
DESCRIPTION:Doppeldecker & Tanz\nKatze\n  \n🔞 Ab 18 \n🎵 Mixed Music \n🍸 Doppeldecker \n  \nFoto: Club Katze Würzburg
URL:https://wuewasgeht.com/events/doppeldecker-katze/2029-01-27/
LOCATION:Katze\, Gerberstraße 14\, Würzburg\, 97070\, Deutschland
CATEGORIES:Club Event
ATTACH;FMTTYPE=image/png:https://wuewasgeht.com/wp-content/uploads/2023/07/Katze_3-1.png
END:VEVENT
BEGIN:VEVENT
DTSTART;TZID=Europe/Berlin:20290129T220000
DTEND;TZID=Europe/Berlin:20290130T050000
DTSTAMP:20260420T140703
CREATED:20240129T082313Z
LAST-MODIFIED:20240701T221028Z
UID:10001302-1864418400-1864443600@wuewasgeht.com
SUMMARY:Getränkepyramide
DESCRIPTION:Getränkepyramide\nKatze\n  \n🔞 Ab 18 \n🎵 Mixed Music \n🍸 Getränkepyramide (alle Drinks 1.50€\, alle 30 Minuten 0.50€ teurer) \n  \nFoto: Club Katze Würzburg
URL:https://wuewasgeht.com/events/getraenkepyramide-katze/2029-01-29/
LOCATION:Katze\, Gerberstraße 14\, Würzburg\, 97070\, Deutschland
CATEGORIES:Club Event
ATTACH;FMTTYPE=image/png:https://wuewasgeht.com/wp-content/uploads/2023/07/Katze_1-1.png
END:VEVENT
END:VCALENDAR