BEGIN:VCALENDAR
VERSION:2.0
PRODID:-//WueWasGeht - ECPv6.11.2.1//NONSGML v1.0//EN
CALSCALE:GREGORIAN
METHOD:PUBLISH
X-ORIGINAL-URL:https://wuewasgeht.com
X-WR-CALDESC:Veranstaltungen für WueWasGeht
REFRESH-INTERVAL;VALUE=DURATION:PT1H
X-Robots-Tag:noindex
X-PUBLISHED-TTL:PT1H
BEGIN:VTIMEZONE
TZID:Europe/Berlin
BEGIN:DAYLIGHT
TZOFFSETFROM:+0100
TZOFFSETTO:+0200
TZNAME:CEST
DTSTART:20290325T010000
END:DAYLIGHT
BEGIN:STANDARD
TZOFFSETFROM:+0200
TZOFFSETTO:+0100
TZNAME:CET
DTSTART:20291028T010000
END:STANDARD
END:VTIMEZONE
BEGIN:VEVENT
DTSTART;TZID=Europe/Berlin:20290402T220000
DTEND;TZID=Europe/Berlin:20290403T050000
DTSTAMP:20260424T161351
CREATED:20240129T082313Z
LAST-MODIFIED:20240701T221028Z
UID:10005200-1869861600-1869886800@wuewasgeht.com
SUMMARY:Getränkepyramide
DESCRIPTION:Getränkepyramide\nKatze\n  \n🔞 Ab 18 \n🎵 Mixed Music \n🍸 Getränkepyramide (alle Drinks 1.50€\, alle 30 Minuten 0.50€ teurer) \n  \nFoto: Club Katze Würzburg
URL:https://wuewasgeht.com/events/getraenkepyramide-katze/2029-04-02/
LOCATION:Katze\, Gerberstraße 14\, Würzburg\, 97070\, Deutschland
CATEGORIES:Club Event
ATTACH;FMTTYPE=image/png:https://wuewasgeht.com/wp-content/uploads/2023/07/Katze_1-1.png
END:VEVENT
BEGIN:VEVENT
DTSTART;TZID=Europe/Berlin:20290407T230000
DTEND;TZID=Europe/Berlin:20290408T050000
DTSTAMP:20260424T161351
CREATED:20231130T083525Z
LAST-MODIFIED:20240130T105918Z
UID:10005222-1870297200-1870318800@wuewasgeht.com
SUMMARY:Doppeldecker & Tanz
DESCRIPTION:Doppeldecker & Tanz\nKatze\n  \n🔞 Ab 18 \n🎵 Mixed Music \n🍸 Doppeldecker \n  \nFoto: Club Katze Würzburg
URL:https://wuewasgeht.com/events/doppeldecker-katze/2029-04-07/
LOCATION:Katze\, Gerberstraße 14\, Würzburg\, 97070\, Deutschland
CATEGORIES:Club Event
ATTACH;FMTTYPE=image/png:https://wuewasgeht.com/wp-content/uploads/2023/07/Katze_3-1.png
END:VEVENT
BEGIN:VEVENT
DTSTART;TZID=Europe/Berlin:20290409T220000
DTEND;TZID=Europe/Berlin:20290410T050000
DTSTAMP:20260424T161351
CREATED:20240129T082313Z
LAST-MODIFIED:20240701T221028Z
UID:10005223-1870466400-1870491600@wuewasgeht.com
SUMMARY:Getränkepyramide
DESCRIPTION:Getränkepyramide\nKatze\n  \n🔞 Ab 18 \n🎵 Mixed Music \n🍸 Getränkepyramide (alle Drinks 1.50€\, alle 30 Minuten 0.50€ teurer) \n  \nFoto: Club Katze Würzburg
URL:https://wuewasgeht.com/events/getraenkepyramide-katze/2029-04-09/
LOCATION:Katze\, Gerberstraße 14\, Würzburg\, 97070\, Deutschland
CATEGORIES:Club Event
ATTACH;FMTTYPE=image/png:https://wuewasgeht.com/wp-content/uploads/2023/07/Katze_1-1.png
END:VEVENT
BEGIN:VEVENT
DTSTART;TZID=Europe/Berlin:20290414T230000
DTEND;TZID=Europe/Berlin:20290415T050000
DTSTAMP:20260424T161351
CREATED:20231130T083525Z
LAST-MODIFIED:20240130T105918Z
UID:10005507-1870902000-1870923600@wuewasgeht.com
SUMMARY:Doppeldecker & Tanz
DESCRIPTION:Doppeldecker & Tanz\nKatze\n  \n🔞 Ab 18 \n🎵 Mixed Music \n🍸 Doppeldecker \n  \nFoto: Club Katze Würzburg
URL:https://wuewasgeht.com/events/doppeldecker-katze/2029-04-14/
LOCATION:Katze\, Gerberstraße 14\, Würzburg\, 97070\, Deutschland
CATEGORIES:Club Event
ATTACH;FMTTYPE=image/png:https://wuewasgeht.com/wp-content/uploads/2023/07/Katze_3-1.png
END:VEVENT
BEGIN:VEVENT
DTSTART;TZID=Europe/Berlin:20290416T220000
DTEND;TZID=Europe/Berlin:20290417T050000
DTSTAMP:20260424T161351
CREATED:20240129T082313Z
LAST-MODIFIED:20240701T221028Z
UID:10005508-1871071200-1871096400@wuewasgeht.com
SUMMARY:Getränkepyramide
DESCRIPTION:Getränkepyramide\nKatze\n  \n🔞 Ab 18 \n🎵 Mixed Music \n🍸 Getränkepyramide (alle Drinks 1.50€\, alle 30 Minuten 0.50€ teurer) \n  \nFoto: Club Katze Würzburg
URL:https://wuewasgeht.com/events/getraenkepyramide-katze/2029-04-16/
LOCATION:Katze\, Gerberstraße 14\, Würzburg\, 97070\, Deutschland
CATEGORIES:Club Event
ATTACH;FMTTYPE=image/png:https://wuewasgeht.com/wp-content/uploads/2023/07/Katze_1-1.png
END:VEVENT
BEGIN:VEVENT
DTSTART;TZID=Europe/Berlin:20290421T230000
DTEND;TZID=Europe/Berlin:20290422T050000
DTSTAMP:20260424T161351
CREATED:20231130T083525Z
LAST-MODIFIED:20240130T105918Z
UID:10005547-1871506800-1871528400@wuewasgeht.com
SUMMARY:Doppeldecker & Tanz
DESCRIPTION:Doppeldecker & Tanz\nKatze\n  \n🔞 Ab 18 \n🎵 Mixed Music \n🍸 Doppeldecker \n  \nFoto: Club Katze Würzburg
URL:https://wuewasgeht.com/events/doppeldecker-katze/2029-04-21/
LOCATION:Katze\, Gerberstraße 14\, Würzburg\, 97070\, Deutschland
CATEGORIES:Club Event
ATTACH;FMTTYPE=image/png:https://wuewasgeht.com/wp-content/uploads/2023/07/Katze_3-1.png
END:VEVENT
BEGIN:VEVENT
DTSTART;TZID=Europe/Berlin:20290423T220000
DTEND;TZID=Europe/Berlin:20290424T050000
DTSTAMP:20260424T161351
CREATED:20240129T082313Z
LAST-MODIFIED:20240701T221028Z
UID:10005527-1871676000-1871701200@wuewasgeht.com
SUMMARY:Getränkepyramide
DESCRIPTION:Getränkepyramide\nKatze\n  \n🔞 Ab 18 \n🎵 Mixed Music \n🍸 Getränkepyramide (alle Drinks 1.50€\, alle 30 Minuten 0.50€ teurer) \n  \nFoto: Club Katze Würzburg
URL:https://wuewasgeht.com/events/getraenkepyramide-katze/2029-04-23/
LOCATION:Katze\, Gerberstraße 14\, Würzburg\, 97070\, Deutschland
CATEGORIES:Club Event
ATTACH;FMTTYPE=image/png:https://wuewasgeht.com/wp-content/uploads/2023/07/Katze_1-1.png
END:VEVENT
BEGIN:VEVENT
DTSTART;TZID=Europe/Berlin:20290428T230000
DTEND;TZID=Europe/Berlin:20290429T050000
DTSTAMP:20260424T161351
CREATED:20231130T083525Z
LAST-MODIFIED:20240130T105918Z
UID:10005548-1872111600-1872133200@wuewasgeht.com
SUMMARY:Doppeldecker & Tanz
DESCRIPTION:Doppeldecker & Tanz\nKatze\n  \n🔞 Ab 18 \n🎵 Mixed Music \n🍸 Doppeldecker \n  \nFoto: Club Katze Würzburg
URL:https://wuewasgeht.com/events/doppeldecker-katze/2029-04-28/
LOCATION:Katze\, Gerberstraße 14\, Würzburg\, 97070\, Deutschland
CATEGORIES:Club Event
ATTACH;FMTTYPE=image/png:https://wuewasgeht.com/wp-content/uploads/2023/07/Katze_3-1.png
END:VEVENT
BEGIN:VEVENT
DTSTART;TZID=Europe/Berlin:20290430T220000
DTEND;TZID=Europe/Berlin:20290501T050000
DTSTAMP:20260424T161351
CREATED:20240129T082313Z
LAST-MODIFIED:20240701T221028Z
UID:10005549-1872280800-1872306000@wuewasgeht.com
SUMMARY:Getränkepyramide
DESCRIPTION:Getränkepyramide\nKatze\n  \n🔞 Ab 18 \n🎵 Mixed Music \n🍸 Getränkepyramide (alle Drinks 1.50€\, alle 30 Minuten 0.50€ teurer) \n  \nFoto: Club Katze Würzburg
URL:https://wuewasgeht.com/events/getraenkepyramide-katze/2029-04-30/
LOCATION:Katze\, Gerberstraße 14\, Würzburg\, 97070\, Deutschland
CATEGORIES:Club Event
ATTACH;FMTTYPE=image/png:https://wuewasgeht.com/wp-content/uploads/2023/07/Katze_1-1.png
END:VEVENT
END:VCALENDAR