BEGIN:VCALENDAR
VERSION:2.0
PRODID:-//WueWasGeht - ECPv6.11.2.1//NONSGML v1.0//EN
CALSCALE:GREGORIAN
METHOD:PUBLISH
X-WR-CALNAME:WueWasGeht
X-ORIGINAL-URL:https://wuewasgeht.com
X-WR-CALDESC:Veranstaltungen für WueWasGeht
REFRESH-INTERVAL;VALUE=DURATION:PT1H
X-Robots-Tag:noindex
X-PUBLISHED-TTL:PT1H
BEGIN:VTIMEZONE
TZID:Europe/Berlin
BEGIN:DAYLIGHT
TZOFFSETFROM:+0100
TZOFFSETTO:+0200
TZNAME:CEST
DTSTART:20280326T010000
END:DAYLIGHT
BEGIN:STANDARD
TZOFFSETFROM:+0200
TZOFFSETTO:+0100
TZNAME:CET
DTSTART:20281029T010000
END:STANDARD
END:VTIMEZONE
BEGIN:VEVENT
DTSTART;TZID=Europe/Berlin:20280108T230000
DTEND;TZID=Europe/Berlin:20280109T050000
DTSTAMP:20260419T194814
CREATED:20231130T083525Z
LAST-MODIFIED:20240130T105918Z
UID:10003368-1830985200-1831006800@wuewasgeht.com
SUMMARY:Doppeldecker & Tanz
DESCRIPTION:Doppeldecker & Tanz\nKatze\n  \n🔞 Ab 18 \n🎵 Mixed Music \n🍸 Doppeldecker \n  \nFoto: Club Katze Würzburg
URL:https://wuewasgeht.com/events/doppeldecker-katze/2028-01-08/
LOCATION:Katze\, Gerberstraße 14\, Würzburg\, 97070\, Deutschland
CATEGORIES:Club Event
ATTACH;FMTTYPE=image/png:https://wuewasgeht.com/wp-content/uploads/2023/07/Katze_3-1.png
END:VEVENT
BEGIN:VEVENT
DTSTART;TZID=Europe/Berlin:20280110T220000
DTEND;TZID=Europe/Berlin:20280111T050000
DTSTAMP:20260419T194814
CREATED:20240129T082313Z
LAST-MODIFIED:20240701T221028Z
UID:10001247-1831154400-1831179600@wuewasgeht.com
SUMMARY:Getränkepyramide
DESCRIPTION:Getränkepyramide\nKatze\n  \n🔞 Ab 18 \n🎵 Mixed Music \n🍸 Getränkepyramide (alle Drinks 1.50€\, alle 30 Minuten 0.50€ teurer) \n  \nFoto: Club Katze Würzburg
URL:https://wuewasgeht.com/events/getraenkepyramide-katze/2028-01-10/
LOCATION:Katze\, Gerberstraße 14\, Würzburg\, 97070\, Deutschland
CATEGORIES:Club Event
ATTACH;FMTTYPE=image/png:https://wuewasgeht.com/wp-content/uploads/2023/07/Katze_1-1.png
END:VEVENT
BEGIN:VEVENT
DTSTART;TZID=Europe/Berlin:20280115T230000
DTEND;TZID=Europe/Berlin:20280116T050000
DTSTAMP:20260419T194814
CREATED:20231130T083525Z
LAST-MODIFIED:20240130T105918Z
UID:10003369-1831590000-1831611600@wuewasgeht.com
SUMMARY:Doppeldecker & Tanz
DESCRIPTION:Doppeldecker & Tanz\nKatze\n  \n🔞 Ab 18 \n🎵 Mixed Music \n🍸 Doppeldecker \n  \nFoto: Club Katze Würzburg
URL:https://wuewasgeht.com/events/doppeldecker-katze/2028-01-15/
LOCATION:Katze\, Gerberstraße 14\, Würzburg\, 97070\, Deutschland
CATEGORIES:Club Event
ATTACH;FMTTYPE=image/png:https://wuewasgeht.com/wp-content/uploads/2023/07/Katze_3-1.png
END:VEVENT
BEGIN:VEVENT
DTSTART;TZID=Europe/Berlin:20280117T220000
DTEND;TZID=Europe/Berlin:20280118T050000
DTSTAMP:20260419T194814
CREATED:20240129T082313Z
LAST-MODIFIED:20240701T221028Z
UID:10001248-1831759200-1831784400@wuewasgeht.com
SUMMARY:Getränkepyramide
DESCRIPTION:Getränkepyramide\nKatze\n  \n🔞 Ab 18 \n🎵 Mixed Music \n🍸 Getränkepyramide (alle Drinks 1.50€\, alle 30 Minuten 0.50€ teurer) \n  \nFoto: Club Katze Würzburg
URL:https://wuewasgeht.com/events/getraenkepyramide-katze/2028-01-17/
LOCATION:Katze\, Gerberstraße 14\, Würzburg\, 97070\, Deutschland
CATEGORIES:Club Event
ATTACH;FMTTYPE=image/png:https://wuewasgeht.com/wp-content/uploads/2023/07/Katze_1-1.png
END:VEVENT
BEGIN:VEVENT
DTSTART;TZID=Europe/Berlin:20280122T230000
DTEND;TZID=Europe/Berlin:20280123T050000
DTSTAMP:20260419T194814
CREATED:20231130T083525Z
LAST-MODIFIED:20240130T105918Z
UID:10003370-1832194800-1832216400@wuewasgeht.com
SUMMARY:Doppeldecker & Tanz
DESCRIPTION:Doppeldecker & Tanz\nKatze\n  \n🔞 Ab 18 \n🎵 Mixed Music \n🍸 Doppeldecker \n  \nFoto: Club Katze Würzburg
URL:https://wuewasgeht.com/events/doppeldecker-katze/2028-01-22/
LOCATION:Katze\, Gerberstraße 14\, Würzburg\, 97070\, Deutschland
CATEGORIES:Club Event
ATTACH;FMTTYPE=image/png:https://wuewasgeht.com/wp-content/uploads/2023/07/Katze_3-1.png
END:VEVENT
BEGIN:VEVENT
DTSTART;TZID=Europe/Berlin:20280124T220000
DTEND;TZID=Europe/Berlin:20280125T050000
DTSTAMP:20260419T194814
CREATED:20240129T082313Z
LAST-MODIFIED:20240701T221028Z
UID:10001249-1832364000-1832389200@wuewasgeht.com
SUMMARY:Getränkepyramide
DESCRIPTION:Getränkepyramide\nKatze\n  \n🔞 Ab 18 \n🎵 Mixed Music \n🍸 Getränkepyramide (alle Drinks 1.50€\, alle 30 Minuten 0.50€ teurer) \n  \nFoto: Club Katze Würzburg
URL:https://wuewasgeht.com/events/getraenkepyramide-katze/2028-01-24/
LOCATION:Katze\, Gerberstraße 14\, Würzburg\, 97070\, Deutschland
CATEGORIES:Club Event
ATTACH;FMTTYPE=image/png:https://wuewasgeht.com/wp-content/uploads/2023/07/Katze_1-1.png
END:VEVENT
BEGIN:VEVENT
DTSTART;TZID=Europe/Berlin:20280129T230000
DTEND;TZID=Europe/Berlin:20280130T050000
DTSTAMP:20260419T194814
CREATED:20231130T083525Z
LAST-MODIFIED:20240130T105918Z
UID:10003371-1832799600-1832821200@wuewasgeht.com
SUMMARY:Doppeldecker & Tanz
DESCRIPTION:Doppeldecker & Tanz\nKatze\n  \n🔞 Ab 18 \n🎵 Mixed Music \n🍸 Doppeldecker \n  \nFoto: Club Katze Würzburg
URL:https://wuewasgeht.com/events/doppeldecker-katze/2028-01-29/
LOCATION:Katze\, Gerberstraße 14\, Würzburg\, 97070\, Deutschland
CATEGORIES:Club Event
ATTACH;FMTTYPE=image/png:https://wuewasgeht.com/wp-content/uploads/2023/07/Katze_3-1.png
END:VEVENT
BEGIN:VEVENT
DTSTART;TZID=Europe/Berlin:20280131T220000
DTEND;TZID=Europe/Berlin:20280201T050000
DTSTAMP:20260419T194814
CREATED:20240129T082313Z
LAST-MODIFIED:20240701T221028Z
UID:10001250-1832968800-1832994000@wuewasgeht.com
SUMMARY:Getränkepyramide
DESCRIPTION:Getränkepyramide\nKatze\n  \n🔞 Ab 18 \n🎵 Mixed Music \n🍸 Getränkepyramide (alle Drinks 1.50€\, alle 30 Minuten 0.50€ teurer) \n  \nFoto: Club Katze Würzburg
URL:https://wuewasgeht.com/events/getraenkepyramide-katze/2028-01-31/
LOCATION:Katze\, Gerberstraße 14\, Würzburg\, 97070\, Deutschland
CATEGORIES:Club Event
ATTACH;FMTTYPE=image/png:https://wuewasgeht.com/wp-content/uploads/2023/07/Katze_1-1.png
END:VEVENT
BEGIN:VEVENT
DTSTART;TZID=Europe/Berlin:20280205T230000
DTEND;TZID=Europe/Berlin:20280206T050000
DTSTAMP:20260419T194814
CREATED:20231130T083525Z
LAST-MODIFIED:20240130T105918Z
UID:10003372-1833404400-1833426000@wuewasgeht.com
SUMMARY:Doppeldecker & Tanz
DESCRIPTION:Doppeldecker & Tanz\nKatze\n  \n🔞 Ab 18 \n🎵 Mixed Music \n🍸 Doppeldecker \n  \nFoto: Club Katze Würzburg
URL:https://wuewasgeht.com/events/doppeldecker-katze/2028-02-05/
LOCATION:Katze\, Gerberstraße 14\, Würzburg\, 97070\, Deutschland
CATEGORIES:Club Event
ATTACH;FMTTYPE=image/png:https://wuewasgeht.com/wp-content/uploads/2023/07/Katze_3-1.png
END:VEVENT
BEGIN:VEVENT
DTSTART;TZID=Europe/Berlin:20280207T220000
DTEND;TZID=Europe/Berlin:20280208T050000
DTSTAMP:20260419T194814
CREATED:20240129T082313Z
LAST-MODIFIED:20240701T221028Z
UID:10001251-1833573600-1833598800@wuewasgeht.com
SUMMARY:Getränkepyramide
DESCRIPTION:Getränkepyramide\nKatze\n  \n🔞 Ab 18 \n🎵 Mixed Music \n🍸 Getränkepyramide (alle Drinks 1.50€\, alle 30 Minuten 0.50€ teurer) \n  \nFoto: Club Katze Würzburg
URL:https://wuewasgeht.com/events/getraenkepyramide-katze/2028-02-07/
LOCATION:Katze\, Gerberstraße 14\, Würzburg\, 97070\, Deutschland
CATEGORIES:Club Event
ATTACH;FMTTYPE=image/png:https://wuewasgeht.com/wp-content/uploads/2023/07/Katze_1-1.png
END:VEVENT
BEGIN:VEVENT
DTSTART;TZID=Europe/Berlin:20280212T230000
DTEND;TZID=Europe/Berlin:20280213T050000
DTSTAMP:20260419T194814
CREATED:20231130T083525Z
LAST-MODIFIED:20240130T105918Z
UID:10003373-1834009200-1834030800@wuewasgeht.com
SUMMARY:Doppeldecker & Tanz
DESCRIPTION:Doppeldecker & Tanz\nKatze\n  \n🔞 Ab 18 \n🎵 Mixed Music \n🍸 Doppeldecker \n  \nFoto: Club Katze Würzburg
URL:https://wuewasgeht.com/events/doppeldecker-katze/2028-02-12/
LOCATION:Katze\, Gerberstraße 14\, Würzburg\, 97070\, Deutschland
CATEGORIES:Club Event
ATTACH;FMTTYPE=image/png:https://wuewasgeht.com/wp-content/uploads/2023/07/Katze_3-1.png
END:VEVENT
BEGIN:VEVENT
DTSTART;TZID=Europe/Berlin:20280214T220000
DTEND;TZID=Europe/Berlin:20280215T050000
DTSTAMP:20260419T194814
CREATED:20240129T082313Z
LAST-MODIFIED:20240701T221028Z
UID:10001252-1834178400-1834203600@wuewasgeht.com
SUMMARY:Getränkepyramide
DESCRIPTION:Getränkepyramide\nKatze\n  \n🔞 Ab 18 \n🎵 Mixed Music \n🍸 Getränkepyramide (alle Drinks 1.50€\, alle 30 Minuten 0.50€ teurer) \n  \nFoto: Club Katze Würzburg
URL:https://wuewasgeht.com/events/getraenkepyramide-katze/2028-02-14/
LOCATION:Katze\, Gerberstraße 14\, Würzburg\, 97070\, Deutschland
CATEGORIES:Club Event
ATTACH;FMTTYPE=image/png:https://wuewasgeht.com/wp-content/uploads/2023/07/Katze_1-1.png
END:VEVENT
BEGIN:VEVENT
DTSTART;TZID=Europe/Berlin:20280219T230000
DTEND;TZID=Europe/Berlin:20280220T050000
DTSTAMP:20260419T194814
CREATED:20231130T083525Z
LAST-MODIFIED:20240130T105918Z
UID:10003374-1834614000-1834635600@wuewasgeht.com
SUMMARY:Doppeldecker & Tanz
DESCRIPTION:Doppeldecker & Tanz\nKatze\n  \n🔞 Ab 18 \n🎵 Mixed Music \n🍸 Doppeldecker \n  \nFoto: Club Katze Würzburg
URL:https://wuewasgeht.com/events/doppeldecker-katze/2028-02-19/
LOCATION:Katze\, Gerberstraße 14\, Würzburg\, 97070\, Deutschland
CATEGORIES:Club Event
ATTACH;FMTTYPE=image/png:https://wuewasgeht.com/wp-content/uploads/2023/07/Katze_3-1.png
END:VEVENT
BEGIN:VEVENT
DTSTART;TZID=Europe/Berlin:20280221T220000
DTEND;TZID=Europe/Berlin:20280222T050000
DTSTAMP:20260419T194814
CREATED:20240129T082313Z
LAST-MODIFIED:20240701T221028Z
UID:10001253-1834783200-1834808400@wuewasgeht.com
SUMMARY:Getränkepyramide
DESCRIPTION:Getränkepyramide\nKatze\n  \n🔞 Ab 18 \n🎵 Mixed Music \n🍸 Getränkepyramide (alle Drinks 1.50€\, alle 30 Minuten 0.50€ teurer) \n  \nFoto: Club Katze Würzburg
URL:https://wuewasgeht.com/events/getraenkepyramide-katze/2028-02-21/
LOCATION:Katze\, Gerberstraße 14\, Würzburg\, 97070\, Deutschland
CATEGORIES:Club Event
ATTACH;FMTTYPE=image/png:https://wuewasgeht.com/wp-content/uploads/2023/07/Katze_1-1.png
END:VEVENT
BEGIN:VEVENT
DTSTART;TZID=Europe/Berlin:20280226T230000
DTEND;TZID=Europe/Berlin:20280227T050000
DTSTAMP:20260419T194814
CREATED:20231130T083525Z
LAST-MODIFIED:20240130T105918Z
UID:10003375-1835218800-1835240400@wuewasgeht.com
SUMMARY:Doppeldecker & Tanz
DESCRIPTION:Doppeldecker & Tanz\nKatze\n  \n🔞 Ab 18 \n🎵 Mixed Music \n🍸 Doppeldecker \n  \nFoto: Club Katze Würzburg
URL:https://wuewasgeht.com/events/doppeldecker-katze/2028-02-26/
LOCATION:Katze\, Gerberstraße 14\, Würzburg\, 97070\, Deutschland
CATEGORIES:Club Event
ATTACH;FMTTYPE=image/png:https://wuewasgeht.com/wp-content/uploads/2023/07/Katze_3-1.png
END:VEVENT
BEGIN:VEVENT
DTSTART;TZID=Europe/Berlin:20280228T220000
DTEND;TZID=Europe/Berlin:20280229T050000
DTSTAMP:20260419T194814
CREATED:20240129T082313Z
LAST-MODIFIED:20240701T221028Z
UID:10001254-1835388000-1835413200@wuewasgeht.com
SUMMARY:Getränkepyramide
DESCRIPTION:Getränkepyramide\nKatze\n  \n🔞 Ab 18 \n🎵 Mixed Music \n🍸 Getränkepyramide (alle Drinks 1.50€\, alle 30 Minuten 0.50€ teurer) \n  \nFoto: Club Katze Würzburg
URL:https://wuewasgeht.com/events/getraenkepyramide-katze/2028-02-28/
LOCATION:Katze\, Gerberstraße 14\, Würzburg\, 97070\, Deutschland
CATEGORIES:Club Event
ATTACH;FMTTYPE=image/png:https://wuewasgeht.com/wp-content/uploads/2023/07/Katze_1-1.png
END:VEVENT
BEGIN:VEVENT
DTSTART;TZID=Europe/Berlin:20280304T230000
DTEND;TZID=Europe/Berlin:20280305T050000
DTSTAMP:20260419T194814
CREATED:20231130T083525Z
LAST-MODIFIED:20240130T105918Z
UID:10003376-1835823600-1835845200@wuewasgeht.com
SUMMARY:Doppeldecker & Tanz
DESCRIPTION:Doppeldecker & Tanz\nKatze\n  \n🔞 Ab 18 \n🎵 Mixed Music \n🍸 Doppeldecker \n  \nFoto: Club Katze Würzburg
URL:https://wuewasgeht.com/events/doppeldecker-katze/2028-03-04/
LOCATION:Katze\, Gerberstraße 14\, Würzburg\, 97070\, Deutschland
CATEGORIES:Club Event
ATTACH;FMTTYPE=image/png:https://wuewasgeht.com/wp-content/uploads/2023/07/Katze_3-1.png
END:VEVENT
BEGIN:VEVENT
DTSTART;TZID=Europe/Berlin:20280306T220000
DTEND;TZID=Europe/Berlin:20280307T050000
DTSTAMP:20260419T194814
CREATED:20240129T082313Z
LAST-MODIFIED:20240701T221028Z
UID:10001255-1835992800-1836018000@wuewasgeht.com
SUMMARY:Getränkepyramide
DESCRIPTION:Getränkepyramide\nKatze\n  \n🔞 Ab 18 \n🎵 Mixed Music \n🍸 Getränkepyramide (alle Drinks 1.50€\, alle 30 Minuten 0.50€ teurer) \n  \nFoto: Club Katze Würzburg
URL:https://wuewasgeht.com/events/getraenkepyramide-katze/2028-03-06/
LOCATION:Katze\, Gerberstraße 14\, Würzburg\, 97070\, Deutschland
CATEGORIES:Club Event
ATTACH;FMTTYPE=image/png:https://wuewasgeht.com/wp-content/uploads/2023/07/Katze_1-1.png
END:VEVENT
BEGIN:VEVENT
DTSTART;TZID=Europe/Berlin:20280311T230000
DTEND;TZID=Europe/Berlin:20280312T050000
DTSTAMP:20260419T194814
CREATED:20231130T083525Z
LAST-MODIFIED:20240130T105918Z
UID:10003377-1836428400-1836450000@wuewasgeht.com
SUMMARY:Doppeldecker & Tanz
DESCRIPTION:Doppeldecker & Tanz\nKatze\n  \n🔞 Ab 18 \n🎵 Mixed Music \n🍸 Doppeldecker \n  \nFoto: Club Katze Würzburg
URL:https://wuewasgeht.com/events/doppeldecker-katze/2028-03-11/
LOCATION:Katze\, Gerberstraße 14\, Würzburg\, 97070\, Deutschland
CATEGORIES:Club Event
ATTACH;FMTTYPE=image/png:https://wuewasgeht.com/wp-content/uploads/2023/07/Katze_3-1.png
END:VEVENT
BEGIN:VEVENT
DTSTART;TZID=Europe/Berlin:20280313T220000
DTEND;TZID=Europe/Berlin:20280314T050000
DTSTAMP:20260419T194814
CREATED:20240129T082313Z
LAST-MODIFIED:20240701T221028Z
UID:10001256-1836597600-1836622800@wuewasgeht.com
SUMMARY:Getränkepyramide
DESCRIPTION:Getränkepyramide\nKatze\n  \n🔞 Ab 18 \n🎵 Mixed Music \n🍸 Getränkepyramide (alle Drinks 1.50€\, alle 30 Minuten 0.50€ teurer) \n  \nFoto: Club Katze Würzburg
URL:https://wuewasgeht.com/events/getraenkepyramide-katze/2028-03-13/
LOCATION:Katze\, Gerberstraße 14\, Würzburg\, 97070\, Deutschland
CATEGORIES:Club Event
ATTACH;FMTTYPE=image/png:https://wuewasgeht.com/wp-content/uploads/2023/07/Katze_1-1.png
END:VEVENT
BEGIN:VEVENT
DTSTART;TZID=Europe/Berlin:20280318T230000
DTEND;TZID=Europe/Berlin:20280319T050000
DTSTAMP:20260419T194814
CREATED:20231130T083525Z
LAST-MODIFIED:20240130T105918Z
UID:10003378-1837033200-1837054800@wuewasgeht.com
SUMMARY:Doppeldecker & Tanz
DESCRIPTION:Doppeldecker & Tanz\nKatze\n  \n🔞 Ab 18 \n🎵 Mixed Music \n🍸 Doppeldecker \n  \nFoto: Club Katze Würzburg
URL:https://wuewasgeht.com/events/doppeldecker-katze/2028-03-18/
LOCATION:Katze\, Gerberstraße 14\, Würzburg\, 97070\, Deutschland
CATEGORIES:Club Event
ATTACH;FMTTYPE=image/png:https://wuewasgeht.com/wp-content/uploads/2023/07/Katze_3-1.png
END:VEVENT
BEGIN:VEVENT
DTSTART;TZID=Europe/Berlin:20280320T220000
DTEND;TZID=Europe/Berlin:20280321T050000
DTSTAMP:20260419T194814
CREATED:20240129T082313Z
LAST-MODIFIED:20240701T221028Z
UID:10001257-1837202400-1837227600@wuewasgeht.com
SUMMARY:Getränkepyramide
DESCRIPTION:Getränkepyramide\nKatze\n  \n🔞 Ab 18 \n🎵 Mixed Music \n🍸 Getränkepyramide (alle Drinks 1.50€\, alle 30 Minuten 0.50€ teurer) \n  \nFoto: Club Katze Würzburg
URL:https://wuewasgeht.com/events/getraenkepyramide-katze/2028-03-20/
LOCATION:Katze\, Gerberstraße 14\, Würzburg\, 97070\, Deutschland
CATEGORIES:Club Event
ATTACH;FMTTYPE=image/png:https://wuewasgeht.com/wp-content/uploads/2023/07/Katze_1-1.png
END:VEVENT
BEGIN:VEVENT
DTSTART;TZID=Europe/Berlin:20280325T230000
DTEND;TZID=Europe/Berlin:20280326T050000
DTSTAMP:20260419T194814
CREATED:20231130T083525Z
LAST-MODIFIED:20240130T105918Z
UID:10003379-1837638000-1837659600@wuewasgeht.com
SUMMARY:Doppeldecker & Tanz
DESCRIPTION:Doppeldecker & Tanz\nKatze\n  \n🔞 Ab 18 \n🎵 Mixed Music \n🍸 Doppeldecker \n  \nFoto: Club Katze Würzburg
URL:https://wuewasgeht.com/events/doppeldecker-katze/2028-03-25/
LOCATION:Katze\, Gerberstraße 14\, Würzburg\, 97070\, Deutschland
CATEGORIES:Club Event
ATTACH;FMTTYPE=image/png:https://wuewasgeht.com/wp-content/uploads/2023/07/Katze_3-1.png
END:VEVENT
BEGIN:VEVENT
DTSTART;TZID=Europe/Berlin:20280327T220000
DTEND;TZID=Europe/Berlin:20280328T050000
DTSTAMP:20260419T194814
CREATED:20240129T082313Z
LAST-MODIFIED:20240701T221028Z
UID:10001258-1837807200-1837832400@wuewasgeht.com
SUMMARY:Getränkepyramide
DESCRIPTION:Getränkepyramide\nKatze\n  \n🔞 Ab 18 \n🎵 Mixed Music \n🍸 Getränkepyramide (alle Drinks 1.50€\, alle 30 Minuten 0.50€ teurer) \n  \nFoto: Club Katze Würzburg
URL:https://wuewasgeht.com/events/getraenkepyramide-katze/2028-03-27/
LOCATION:Katze\, Gerberstraße 14\, Würzburg\, 97070\, Deutschland
CATEGORIES:Club Event
ATTACH;FMTTYPE=image/png:https://wuewasgeht.com/wp-content/uploads/2023/07/Katze_1-1.png
END:VEVENT
BEGIN:VEVENT
DTSTART;TZID=Europe/Berlin:20280401T230000
DTEND;TZID=Europe/Berlin:20280402T050000
DTSTAMP:20260419T194814
CREATED:20231130T083525Z
LAST-MODIFIED:20240130T105918Z
UID:10003380-1838242800-1838264400@wuewasgeht.com
SUMMARY:Doppeldecker & Tanz
DESCRIPTION:Doppeldecker & Tanz\nKatze\n  \n🔞 Ab 18 \n🎵 Mixed Music \n🍸 Doppeldecker \n  \nFoto: Club Katze Würzburg
URL:https://wuewasgeht.com/events/doppeldecker-katze/2028-04-01/
LOCATION:Katze\, Gerberstraße 14\, Würzburg\, 97070\, Deutschland
CATEGORIES:Club Event
ATTACH;FMTTYPE=image/png:https://wuewasgeht.com/wp-content/uploads/2023/07/Katze_3-1.png
END:VEVENT
BEGIN:VEVENT
DTSTART;TZID=Europe/Berlin:20280403T220000
DTEND;TZID=Europe/Berlin:20280404T050000
DTSTAMP:20260419T194814
CREATED:20240129T082313Z
LAST-MODIFIED:20240701T221028Z
UID:10001259-1838412000-1838437200@wuewasgeht.com
SUMMARY:Getränkepyramide
DESCRIPTION:Getränkepyramide\nKatze\n  \n🔞 Ab 18 \n🎵 Mixed Music \n🍸 Getränkepyramide (alle Drinks 1.50€\, alle 30 Minuten 0.50€ teurer) \n  \nFoto: Club Katze Würzburg
URL:https://wuewasgeht.com/events/getraenkepyramide-katze/2028-04-03/
LOCATION:Katze\, Gerberstraße 14\, Würzburg\, 97070\, Deutschland
CATEGORIES:Club Event
ATTACH;FMTTYPE=image/png:https://wuewasgeht.com/wp-content/uploads/2023/07/Katze_1-1.png
END:VEVENT
BEGIN:VEVENT
DTSTART;TZID=Europe/Berlin:20280408T230000
DTEND;TZID=Europe/Berlin:20280409T050000
DTSTAMP:20260419T194814
CREATED:20231130T083525Z
LAST-MODIFIED:20240130T105918Z
UID:10003381-1838847600-1838869200@wuewasgeht.com
SUMMARY:Doppeldecker & Tanz
DESCRIPTION:Doppeldecker & Tanz\nKatze\n  \n🔞 Ab 18 \n🎵 Mixed Music \n🍸 Doppeldecker \n  \nFoto: Club Katze Würzburg
URL:https://wuewasgeht.com/events/doppeldecker-katze/2028-04-08/
LOCATION:Katze\, Gerberstraße 14\, Würzburg\, 97070\, Deutschland
CATEGORIES:Club Event
ATTACH;FMTTYPE=image/png:https://wuewasgeht.com/wp-content/uploads/2023/07/Katze_3-1.png
END:VEVENT
BEGIN:VEVENT
DTSTART;TZID=Europe/Berlin:20280410T220000
DTEND;TZID=Europe/Berlin:20280411T050000
DTSTAMP:20260419T194814
CREATED:20240129T082313Z
LAST-MODIFIED:20240701T221028Z
UID:10001260-1839016800-1839042000@wuewasgeht.com
SUMMARY:Getränkepyramide
DESCRIPTION:Getränkepyramide\nKatze\n  \n🔞 Ab 18 \n🎵 Mixed Music \n🍸 Getränkepyramide (alle Drinks 1.50€\, alle 30 Minuten 0.50€ teurer) \n  \nFoto: Club Katze Würzburg
URL:https://wuewasgeht.com/events/getraenkepyramide-katze/2028-04-10/
LOCATION:Katze\, Gerberstraße 14\, Würzburg\, 97070\, Deutschland
CATEGORIES:Club Event
ATTACH;FMTTYPE=image/png:https://wuewasgeht.com/wp-content/uploads/2023/07/Katze_1-1.png
END:VEVENT
BEGIN:VEVENT
DTSTART;TZID=Europe/Berlin:20280415T230000
DTEND;TZID=Europe/Berlin:20280416T050000
DTSTAMP:20260419T194814
CREATED:20231130T083525Z
LAST-MODIFIED:20240130T105918Z
UID:10003382-1839452400-1839474000@wuewasgeht.com
SUMMARY:Doppeldecker & Tanz
DESCRIPTION:Doppeldecker & Tanz\nKatze\n  \n🔞 Ab 18 \n🎵 Mixed Music \n🍸 Doppeldecker \n  \nFoto: Club Katze Würzburg
URL:https://wuewasgeht.com/events/doppeldecker-katze/2028-04-15/
LOCATION:Katze\, Gerberstraße 14\, Würzburg\, 97070\, Deutschland
CATEGORIES:Club Event
ATTACH;FMTTYPE=image/png:https://wuewasgeht.com/wp-content/uploads/2023/07/Katze_3-1.png
END:VEVENT
BEGIN:VEVENT
DTSTART;TZID=Europe/Berlin:20280417T220000
DTEND;TZID=Europe/Berlin:20280418T050000
DTSTAMP:20260419T194814
CREATED:20240129T082313Z
LAST-MODIFIED:20240701T221028Z
UID:10001261-1839621600-1839646800@wuewasgeht.com
SUMMARY:Getränkepyramide
DESCRIPTION:Getränkepyramide\nKatze\n  \n🔞 Ab 18 \n🎵 Mixed Music \n🍸 Getränkepyramide (alle Drinks 1.50€\, alle 30 Minuten 0.50€ teurer) \n  \nFoto: Club Katze Würzburg
URL:https://wuewasgeht.com/events/getraenkepyramide-katze/2028-04-17/
LOCATION:Katze\, Gerberstraße 14\, Würzburg\, 97070\, Deutschland
CATEGORIES:Club Event
ATTACH;FMTTYPE=image/png:https://wuewasgeht.com/wp-content/uploads/2023/07/Katze_1-1.png
END:VEVENT
END:VCALENDAR